PDS_VERSION_ID = PDS3
/* FILE DATA ELEMENTS */
RECORD_TYPE = UNDEFINED
/* POINTERS TO DATA OBJECTS */
^IMAGE = ("HI904_0000_GR4.TIF")
/* IDENTIFICATION DATA ELEMENTS */
DATA_SET_ID = "MEX-M-HRSC-4-REFDR-MAPPROJECT-EXT6-V4.0"
DATA_SET_NAME = "MARS EXPRESS HRSC MAP PROJECTED REFDR EXTENSION6 V4.0"
DETECTOR_ID = MEX_HRSC_GREEN
EVENT_TYPE = "MARS-REGIONAL-MAPPING-Im-Fl-Eo"
INSTRUMENT_HOST_ID = MEX
INSTRUMENT_HOST_NAME = "MARS EXPRESS"
INSTRUMENT_ID = HRSC
INSTRUMENT_NAME = "HIGH RESOLUTION STEREO CAMERA"
MISSION_NAME = "MARS EXPRESS"
MISSION_PHASE_NAME = ME_Phase_39
PROCESSING_LEVEL_ID = 4
PRODUCT_CREATION_TIME = 2023-01-29T14:35:52.000Z
PRODUCT_ID = "HI904_0000_GR4.TIF"
RELEASE_ID = 0005
REVISION_ID = 0000
/* QUALITY DATA ELEMENTS */
DATA_QUALITY_ID = 1
DATA_QUALITY_DESC = "Data calculated based on original SPICE kernels"
/* TIME DATA ELEMENTS */
SPACECRAFT_CLOCK_START_COUNT = "1/0492581674.23948"
SPACECRAFT_CLOCK_STOP_COUNT = "1/0492581860.41023"
START_TIME = 2018-12-11T04:15:42.927Z
STOP_TIME = 2018-12-11T04:17:45.935Z
/* ORBITAL DATA ELEMENTS */
ASCENDING_NODE_LONGITUDE = 219.53
MAXIMUM_RESOLUTION = 0.0526
FOOTPRINT_POINT_LATITUDE = (-45.3798,-45.3729,-45.3665,-45.3608, -45.3545,-45.3419,-45.3414,-45.3474, -45.183,-45.0188,-44.8551,-44.6911, -44.4453,-44.2813,-44.1174,-43.9534, -43.7893,-43.6257,-43.3076,-42.99, -42.7516,-42.4337,-42.0361,-41.7974, -41.6384,-41.4792,-41.3199,-41.1607, -41.0015,-40.6835,-40.4451,-40.2066, -40.0475,-39.8087,-39.6496,-39.4905, -39.3313,-39.0926,-38.9334,-38.7743, -38.6151,-38.456,-38.2173,-37.8991, -37.7399,-37.5807,-37.4214,-37.3418, -37.3066,-37.312,-37.3169,-37.3218, -37.3245,-37.328,-37.3281,-37.329, -37.6473,-37.8865,-38.046,-38.2853, -38.4447,-38.6042,-38.7636,-39.0028, -39.1622,-39.3217,-39.4811,-39.7204, -39.8798,-40.119,-40.3583,-40.5177, -40.6773,-40.8367,-40.9961,-41.1555, -41.315,-41.4744,-41.634,-41.8732, -42.0325,-42.2717,-42.4315,-42.5915, -42.7509,-42.9103,-43.0696,-43.2289, -43.4679,-43.7893,-43.9532,-44.1171, -44.2815,-44.446,-44.6926,-44.857, -45.1036,-45.2681,-45.3503,-45.3798)
FOOTPRINT_POINT_LONGITUDE = (171.677,171.295,170.988,170.742, 170.495,170.047,170.031,169.999,170.013 ,170.026,170.037,170.049,170.065, 170.076,170.086,170.096,170.107,170.116 ,170.137,170.155,170.169,170.187, 170.209,170.222,170.231,170.239,170.248 ,170.257,170.265,170.279,170.29,170.3, 170.307,170.318,170.325,170.331,170.338 ,170.348,170.354,170.36,170.367,170.373 ,170.382,170.393,170.399,170.405, 170.411,170.415,170.416,170.699,170.954 ,171.291,171.506,171.841,171.854, 171.859,171.853,171.849,171.847,171.843 ,171.84,171.837,171.835,171.83,171.828, 171.825,171.822,171.817,171.814,171.81, 171.805,171.802,171.799,171.796,171.793 ,171.79,171.786,171.783,171.78,171.775, 171.772,171.766,171.764,171.761,171.758 ,171.754,171.751,171.747,171.742, 171.732,171.727,171.722,171.718,171.714 ,171.707,171.703,171.697,171.693, 171.691,171.677)
ORBIT_NUMBER = 18904
ORBITAL_ECCENTRICITY = 0.578
ORBITAL_INCLINATION = 86.97
ORBITAL_SEMIMAJOR_AXIS = 8808.72
PERIAPSIS_ALTITUDE = 330.99
PERIAPSIS_ARGUMENT_ANGLE = 321.75
PERIAPSIS_TIME = 2018-12-11T04:17:29.000Z
SPACECRAFT_ORIENTATION = (0.0,1.0,0.0)
^MEX_ORIENTATION_DESC = "MEX_ORIENTATION_DESC.TXT"
SPACECRAFT_POINTING_MODE = ACROSSTRACK
^MEX_POINTING_DESC = "MEX_POINTING_DESC.TXT"
RIGHT_ASCENSION = -1e+32
DECLINATION = -1e+32
OFFSET_ANGLE = 0.17
SPACECRAFT_SOLAR_DISTANCE = 2.13953e+08
TARGET_NAME = MARS
/* CAMERA DATA ELEMENTS */
DETECTOR_TEMPERATURE = 18.1666
FOCAL_PLANE_TEMPERATURE = 9.195
INST_CMPRS_NAME = "DISCRETE COSINE TRANSFORMATION (DCT)"
INST_CMPRS_RATIO = 9.44494
INST_CMPRS_QUALITY = 0
INST_CMPRS_QUANTZ_TBL_ID = 0
INSTRUMENT_TEMPERATURE = 11.234
LENS_TEMPERATURE = 10.0106
MACROPIXEL_SIZE = 4
MISSING_FRAMES = 0
PIXEL_SUBSAMPLING_FLAG = N
SIGNAL_CHAIN_ID = 2
/* RADIOMETRIC DATA ELEMENTS */
BANDWIDTH = 88.0
CENTER_FILTER_WAVELENGTH = 538.0
RADIANCE_OFFSET = 1.45671
RADIANCE_SCALING_FACTOR = 0.00628383
REFLECTANCE_SCALING_FACTOR = 0.000247655
MEX:REFLECTANCE_OFFSET = 0.057411
/* IMAGE OBJECT DEFINITIONS */
OBJECT = IMAGE
  INTERCHANGE_FORMAT = BINARY
  LINES = 9565
  LINE_SAMPLES = 1653
  SAMPLE_TYPE = UNSIGNED_INTEGER
  SAMPLE_BITS = 8
  BANDS = 1
  BAND_STORAGE_TYPE = BAND_SEQUENTIAL
  MAXIMUM = 255
  MEAN = 148.775
  MINIMUM = 1
  STANDARD_DEVIATION = 30.1495
END_OBJECT = IMAGE
/* MAP OBJECT DEFINITIONS */
OBJECT = IMAGE_MAP_PROJECTION
  ^DATA_SET_MAP_PROJECTION_CATALOG= "DSMAP.CAT"
  A_AXIS_RADIUS = 3396.0
  B_AXIS_RADIUS = 3396.0
  C_AXIS_RADIUS = 3396.0
  CENTER_LATITUDE = 0.0
  CENTER_LONGITUDE = 171.0
  COORDINATE_SYSTEM_NAME = PLANETOGRAPHIC
  COORDINATE_SYSTEM_TYPE = "BODY-FIXED ROTATING"
  EASTERNMOST_LONGITUDE = 171.859
  FIRST_STANDARD_PARALLEL = "N/A"
  LINE_FIRST_PIXEL = 1
  LINE_LAST_PIXEL = 9565
  LINE_PROJECTION_OFFSET = -44238.875
  MAP_PROJECTION_ROTATION = 0.0
  MAP_PROJECTION_TYPE = SINUSOIDAL
  MAP_RESOLUTION = 1185.42760773333
  MAP_SCALE = 0.05
  MAXIMUM_LATITUDE = -37.3066
  MINIMUM_LATITUDE = -45.3798
  POSITIVE_LONGITUDE_DIRECTION = EAST
  REFERENCE_LATITUDE = "N/A"
  REFERENCE_LONGITUDE = "N/A"
  SAMPLE_FIRST_PIXEL = 1
  SAMPLE_LAST_PIXEL = 1653
  SAMPLE_PROJECTION_OFFSET = 843.125
  SECOND_STANDARD_PARALLEL = "N/A"
  WESTERNMOST_LONGITUDE = 169.999
END_OBJECT = IMAGE_MAP_PROJECTION
END
