PDS_VERSION_ID = PDS3
/* FILE DATA ELEMENTS */
RECORD_TYPE = UNDEFINED
/* POINTERS TO DATA OBJECTS */
^IMAGE = ("HI906_0000_ND4.TIF")
/* IDENTIFICATION DATA ELEMENTS */
DATA_SET_ID = "MEX-M-HRSC-4-REFDR-MAPPROJECT-EXT6-V4.0"
DATA_SET_NAME = "MARS EXPRESS HRSC MAP PROJECTED REFDR EXTENSION6 V4.0"
DETECTOR_ID = MEX_HRSC_NADIR
EVENT_TYPE = "MARS-REGIONAL-STEREO-Im-Gl-Pf"
INSTRUMENT_HOST_ID = MEX
INSTRUMENT_HOST_NAME = "MARS EXPRESS"
INSTRUMENT_ID = HRSC
INSTRUMENT_NAME = "HIGH RESOLUTION STEREO CAMERA"
MISSION_NAME = "MARS EXPRESS"
MISSION_PHASE_NAME = ME_Phase_39
PROCESSING_LEVEL_ID = 4
PRODUCT_CREATION_TIME = 2023-01-29T14:35:52.000Z
PRODUCT_ID = "HI906_0000_ND4.TIF"
RELEASE_ID = 0005
REVISION_ID = 0000
/* QUALITY DATA ELEMENTS */
DATA_QUALITY_ID = 1
DATA_QUALITY_DESC = "Data calculated based on original SPICE kernels"
/* TIME DATA ELEMENTS */
SPACECRAFT_CLOCK_START_COUNT = "1/0492631994.23938"
SPACECRAFT_CLOCK_STOP_COUNT = "1/0492632169.49776"
START_TIME = 2018-12-11T18:14:16.529Z
STOP_TIME = 2018-12-11T18:16:09.531Z
/* ORBITAL DATA ELEMENTS */
ASCENDING_NODE_LONGITUDE = 219.5
MAXIMUM_RESOLUTION = 0.0132
FOOTPRINT_POINT_LATITUDE = (-42.601,-42.5936,-42.5863,-42.5808, -42.5719,-42.5715,-42.5696,-42.2008, -41.9794,-41.6842,-41.4628,-41.1676, -40.8722,-40.6507,-40.5029,-40.2812, -40.1334,-39.9857,-39.8378,-39.69, -39.4683,-39.3204,-39.0987,-38.9508, -38.8029,-38.655,-38.5071,-38.3592, -38.2113,-38.0634,-37.9155,-37.7676, -37.5458,-37.3979,-37.2499,-37.102, -36.8802,-36.7323,-36.5844,-36.3626, -36.2148,-36.0669,-35.7714,-35.6236, -35.4757,-35.2541,-35.1802,-35.1781, -35.1842,-35.1873,-35.1908,-35.1929, -35.194,-35.1941,-35.1944,-35.3424, -35.4905,-35.6385,-35.7866,-35.9347, -36.0828,-36.2309,-36.379,-36.5271, -36.6751,-36.8232,-36.9714,-37.1937, -37.4159,-37.5641,-37.7123,-37.8604, -38.0086,-38.1567,-38.3049,-38.5272, -38.7494,-38.9716,-39.1198,-39.2679, -39.4161,-39.6383,-39.8605,-40.0086, -40.2308,-40.3789,-40.5269,-40.749, -40.897,-41.0451,-41.2671,-41.4151, -41.5631,-41.711,-41.9329,-42.0808, -42.3026,-42.5244,-42.5983,-42.601)
FOOTPRINT_POINT_LONGITUDE = (327.772,327.268,326.872,326.613, 326.246,326.231,326.199,326.218,326.23, 326.244,326.255,326.272,326.285,326.297 ,326.302,326.311,326.318,326.324,326.33 ,326.336,326.345,326.351,326.36,326.365 ,326.37,326.375,326.38,326.385,326.39, 326.395,326.4,326.405,326.412,326.417, 326.42,326.424,326.431,326.435,326.439, 326.446,326.449,326.454,326.464,326.467 ,326.471,326.477,326.479,326.479,326.87 ,327.107,327.441,327.693,327.874, 327.888,327.895,327.893,327.892,327.89, 327.888,327.887,327.885,327.883,327.882 ,327.881,327.882,327.88,327.879,327.874 ,327.872,327.869,327.866,327.864, 327.863,327.862,327.86,327.857,327.854, 327.851,327.849,327.846,327.844,327.841 ,327.837,327.835,327.831,327.828, 327.826,327.824,327.822,327.819,327.816 ,327.813,327.81,327.809,327.806,327.805 ,327.801,327.798,327.797,327.772)
ORBIT_NUMBER = 18906
ORBITAL_ECCENTRICITY = 0.578
ORBITAL_INCLINATION = 86.98
ORBITAL_SEMIMAJOR_AXIS = 8807.49
PERIAPSIS_ALTITUDE = 330.48
PERIAPSIS_ARGUMENT_ANGLE = 321.4
PERIAPSIS_TIME = 2018-12-11T18:15:19.000Z
SPACECRAFT_ORIENTATION = (0.0,1.0,0.0)
^MEX_ORIENTATION_DESC = "MEX_ORIENTATION_DESC.TXT"
SPACECRAFT_POINTING_MODE = NADIR
^MEX_POINTING_DESC = "MEX_POINTING_DESC.TXT"
RIGHT_ASCENSION = -1e+32
DECLINATION = -1e+32
OFFSET_ANGLE = -1e+32
SPACECRAFT_SOLAR_DISTANCE = 2.14044e+08
TARGET_NAME = MARS
/* CAMERA DATA ELEMENTS */
DETECTOR_TEMPERATURE = 18.9822
FOCAL_PLANE_TEMPERATURE = 10.8262
INST_CMPRS_NAME = "DISCRETE COSINE TRANSFORMATION (DCT)"
INST_CMPRS_RATIO = 6.40906
INST_CMPRS_QUALITY = 0
INST_CMPRS_QUANTZ_TBL_ID = 0
INSTRUMENT_TEMPERATURE = 12.8652
LENS_TEMPERATURE = 11.234
MACROPIXEL_SIZE = 1
MISSING_FRAMES = 0
PIXEL_SUBSAMPLING_FLAG = N
SIGNAL_CHAIN_ID = 0
/* RADIOMETRIC DATA ELEMENTS */
BANDWIDTH = 177.0
CENTER_FILTER_WAVELENGTH = 677.5
RADIANCE_OFFSET = 4.54661
RADIANCE_SCALING_FACTOR = 0.0166542
REFLECTANCE_SCALING_FACTOR = 0.000405333
MEX:REFLECTANCE_OFFSET = 0.110656
/* IMAGE OBJECT DEFINITIONS */
OBJECT = IMAGE
  INTERCHANGE_FORMAT = BINARY
  LINES = 35194
  LINE_SAMPLES = 6257
  SAMPLE_TYPE = UNSIGNED_INTEGER
  SAMPLE_BITS = 8
  BANDS = 1
  BAND_STORAGE_TYPE = BAND_SEQUENTIAL
  MAXIMUM = 255
  MEAN = 139.126
  MINIMUM = 1
  STANDARD_DEVIATION = 39.3853
END_OBJECT = IMAGE
/* MAP OBJECT DEFINITIONS */
OBJECT = IMAGE_MAP_PROJECTION
  ^DATA_SET_MAP_PROJECTION_CATALOG= "DSMAP.CAT"
  A_AXIS_RADIUS = 3396.0
  B_AXIS_RADIUS = 3396.0
  C_AXIS_RADIUS = 3396.0
  CENTER_LATITUDE = 0.0
  CENTER_LONGITUDE = 327.0
  COORDINATE_SYSTEM_NAME = PLANETOGRAPHIC
  COORDINATE_SYSTEM_TYPE = "BODY-FIXED ROTATING"
  EASTERNMOST_LONGITUDE = 327.895
  FIRST_STANDARD_PARALLEL = "N/A"
  LINE_FIRST_PIXEL = 1
  LINE_LAST_PIXEL = 35194
  LINE_PROJECTION_OFFSET = -166806.0
  MAP_PROJECTION_ROTATION = 0.0
  MAP_PROJECTION_TYPE = SINUSOIDAL
  MAP_RESOLUTION = 4741.71043093333
  MAP_SCALE = 0.0125
  MAXIMUM_LATITUDE = -35.1781
  MINIMUM_LATITUDE = -42.601
  POSITIVE_LONGITUDE_DIRECTION = EAST
  REFERENCE_LATITUDE = "N/A"
  REFERENCE_LONGITUDE = "N/A"
  SAMPLE_FIRST_PIXEL = 1
  SAMPLE_LAST_PIXEL = 6257
  SAMPLE_PROJECTION_OFFSET = 2788.0
  SECOND_STANDARD_PARALLEL = "N/A"
  WESTERNMOST_LONGITUDE = 326.199
END_OBJECT = IMAGE_MAP_PROJECTION
END
