PDS_VERSION_ID = PDS3
/* FILE DATA ELEMENTS */
RECORD_TYPE = UNDEFINED
/* POINTERS TO DATA OBJECTS */
^IMAGE = ("HI907_0000_S24.TIF")
/* IDENTIFICATION DATA ELEMENTS */
DATA_SET_ID = "MEX-M-HRSC-4-REFDR-MAPPROJECT-EXT6-V4.0"
DATA_SET_NAME = "MARS EXPRESS HRSC MAP PROJECTED REFDR EXTENSION6 V4.0"
DETECTOR_ID = MEX_HRSC_S2
EVENT_TYPE = "MARS-REGIONAL-MAPPING-Te-Im-Fl"
INSTRUMENT_HOST_ID = MEX
INSTRUMENT_HOST_NAME = "MARS EXPRESS"
INSTRUMENT_ID = HRSC
INSTRUMENT_NAME = "HIGH RESOLUTION STEREO CAMERA"
MISSION_NAME = "MARS EXPRESS"
MISSION_PHASE_NAME = ME_Phase_39
PROCESSING_LEVEL_ID = 4
PRODUCT_CREATION_TIME = 2023-01-29T14:35:52.000Z
PRODUCT_ID = "HI907_0000_S24.TIF"
RELEASE_ID = 0005
REVISION_ID = 0000
/* QUALITY DATA ELEMENTS */
DATA_QUALITY_ID = 1
DATA_QUALITY_DESC = "Data calculated based on original SPICE kernels"
/* TIME DATA ELEMENTS */
SPACECRAFT_CLOCK_START_COUNT = "1/0492657161.24912"
SPACECRAFT_CLOCK_STOP_COUNT = "1/0492657341.58159"
START_TIME = 2018-12-12T01:13:13.066Z
STOP_TIME = 2018-12-12T01:15:11.441Z
/* ORBITAL DATA ELEMENTS */
ASCENDING_NODE_LONGITUDE = 219.48
MAXIMUM_RESOLUTION = 0.0278
FOOTPRINT_POINT_LATITUDE = (-40.7216,-40.7176,-40.714,-40.706, -40.7004,-40.693,-40.6925,-40.6545, -40.5018,-40.198,-40.0457,-39.8928, -39.7404,-39.5116,-39.3584,-39.1311, -38.9779,-38.8254,-38.6656,-38.4322, -38.2787,-38.1253,-37.9716,-37.6715, -37.518,-37.2145,-37.0571,-36.7546, -36.5249,-36.3701,-36.2158,-36.0604, -35.9057,-35.6744,-35.5193,-35.3639, -35.2096,-35.0562,-34.9004,-34.7452, -34.5899,-34.3574,-34.1252,-33.9704, -33.8154,-33.6604,-33.5053,-33.2727, -33.0401,-32.9624,-32.9227,-32.9303, -32.9338,-32.9364,-32.9386,-32.9386, -32.9391,-33.0944,-33.2497,-33.405, -33.5605,-33.7939,-33.9486,-34.1043, -34.2591,-34.4147,-34.6478,-34.8813, -35.0357,-35.1896,-35.3452,-35.5007, -35.6546,-35.8869,-36.0415,-36.3444, -36.4986,-36.6534,-36.8125,-37.0429, -37.2735,-37.4274,-37.583,-37.8864, -38.0401,-38.2705,-38.4245,-38.5776, -38.808,-38.9616,-39.1922,-39.3464, -39.4989,-39.652,-39.8043,-40.1091, -40.4127,-40.5673,-40.6433,-40.7216)
FOOTPRINT_POINT_LONGITUDE = (225.71,225.374,225.141,224.732,224.498 ,224.221,224.206,224.188,224.195, 224.209,224.216,224.222,224.229,224.238 ,224.244,224.254,224.26,224.266,224.269 ,224.277,224.282,224.288,224.293, 224.306,224.311,224.322,224.326,224.337 ,224.344,224.349,224.353,224.357, 224.361,224.367,224.371,224.375,224.379 ,224.383,224.386,224.39,224.393,224.399 ,224.404,224.407,224.41,224.413,224.416 ,224.421,224.425,224.427,224.427, 224.867,225.121,225.401,225.788,225.801 ,225.806,225.805,225.804,225.802, 225.801,225.799,225.798,225.796,225.795 ,225.794,225.791,225.789,225.788, 225.787,225.785,225.783,225.782,225.78, 225.778,225.778,225.776,225.774,225.771 ,225.769,225.767,225.765,225.763, 225.761,225.759,225.757,225.755,225.753 ,225.751,225.749,225.746,225.743, 225.742,225.74,225.738,225.734,225.731, 225.728,225.727,225.71)
ORBIT_NUMBER = 18907
ORBITAL_ECCENTRICITY = 0.578
ORBITAL_INCLINATION = 86.98
ORBITAL_SEMIMAJOR_AXIS = 8810.28
PERIAPSIS_ALTITUDE = 329.78
PERIAPSIS_ARGUMENT_ANGLE = 321.2
PERIAPSIS_TIME = 2018-12-12T01:14:13.000Z
SPACECRAFT_ORIENTATION = (0.0,1.0,0.0)
^MEX_ORIENTATION_DESC = "MEX_ORIENTATION_DESC.TXT"
SPACECRAFT_POINTING_MODE = NADIR
^MEX_POINTING_DESC = "MEX_POINTING_DESC.TXT"
RIGHT_ASCENSION = -1e+32
DECLINATION = -1e+32
OFFSET_ANGLE = -1e+32
SPACECRAFT_SOLAR_DISTANCE = 2.14089e+08
TARGET_NAME = MARS
/* CAMERA DATA ELEMENTS */
DETECTOR_TEMPERATURE = 19.7978
FOCAL_PLANE_TEMPERATURE = 9.8067
INST_CMPRS_NAME = "DISCRETE COSINE TRANSFORMATION (DCT)"
INST_CMPRS_RATIO = 8.72953
INST_CMPRS_QUALITY = 0
INST_CMPRS_QUANTZ_TBL_ID = 0
INSTRUMENT_TEMPERATURE = 13.8847
LENS_TEMPERATURE = 10.4184
MACROPIXEL_SIZE = 2
MISSING_FRAMES = 0
PIXEL_SUBSAMPLING_FLAG = N
SIGNAL_CHAIN_ID = 1
/* RADIOMETRIC DATA ELEMENTS */
BANDWIDTH = 178.0
CENTER_FILTER_WAVELENGTH = 679.0
RADIANCE_OFFSET = 3.91346
RADIANCE_SCALING_FACTOR = 0.0171177
REFLECTANCE_SCALING_FACTOR = 0.000415495
MEX:REFLECTANCE_OFFSET = 0.0949907
/* IMAGE OBJECT DEFINITIONS */
OBJECT = IMAGE
  INTERCHANGE_FORMAT = BINARY
  LINES = 18368
  LINE_SAMPLES = 3051
  SAMPLE_TYPE = UNSIGNED_INTEGER
  SAMPLE_BITS = 8
  BANDS = 1
  BAND_STORAGE_TYPE = BAND_SEQUENTIAL
  MAXIMUM = 255
  MEAN = 114.149
  MINIMUM = 1
  STANDARD_DEVIATION = 35.8444
END_OBJECT = IMAGE
/* MAP OBJECT DEFINITIONS */
OBJECT = IMAGE_MAP_PROJECTION
  ^DATA_SET_MAP_PROJECTION_CATALOG= "DSMAP.CAT"
  A_AXIS_RADIUS = 3396.0
  B_AXIS_RADIUS = 3396.0
  C_AXIS_RADIUS = 3396.0
  CENTER_LATITUDE = 0.0
  CENTER_LONGITUDE = 225.0
  COORDINATE_SYSTEM_NAME = PLANETOGRAPHIC
  COORDINATE_SYSTEM_TYPE = "BODY-FIXED ROTATING"
  EASTERNMOST_LONGITUDE = 225.806
  FIRST_STANDARD_PARALLEL = "N/A"
  LINE_FIRST_PIXEL = 1
  LINE_LAST_PIXEL = 18368
  LINE_PROJECTION_OFFSET = -78041.25
  MAP_PROJECTION_ROTATION = 0.0
  MAP_PROJECTION_TYPE = SINUSOIDAL
  MAP_RESOLUTION = 2370.85521546667
  MAP_SCALE = 0.025
  MAXIMUM_LATITUDE = -32.9227
  MINIMUM_LATITUDE = -40.7216
  POSITIVE_LONGITUDE_DIRECTION = EAST
  REFERENCE_LATITUDE = "N/A"
  REFERENCE_LONGITUDE = "N/A"
  SAMPLE_FIRST_PIXEL = 1
  SAMPLE_LAST_PIXEL = 3051
  SAMPLE_PROJECTION_OFFSET = 1442.75
  SECOND_STANDARD_PARALLEL = "N/A"
  WESTERNMOST_LONGITUDE = 224.188
END_OBJECT = IMAGE_MAP_PROJECTION
END
