PDS_VERSION_ID = PDS3
/* FILE DATA ELEMENTS */
RECORD_TYPE = UNDEFINED
/* POINTERS TO DATA OBJECTS */
^IMAGE = ("HI908_0000_GR4.TIF")
/* IDENTIFICATION DATA ELEMENTS */
DATA_SET_ID = "MEX-M-HRSC-4-REFDR-MAPPROJECT-EXT6-V4.0"
DATA_SET_NAME = "MARS EXPRESS HRSC MAP PROJECTED REFDR EXTENSION6 V4.0"
DETECTOR_ID = MEX_HRSC_GREEN
EVENT_TYPE = "MARS-REGIONAL-STEREO-Im-Eo"
INSTRUMENT_HOST_ID = MEX
INSTRUMENT_HOST_NAME = "MARS EXPRESS"
INSTRUMENT_ID = HRSC
INSTRUMENT_NAME = "HIGH RESOLUTION STEREO CAMERA"
MISSION_NAME = "MARS EXPRESS"
MISSION_PHASE_NAME = ME_Phase_39
PROCESSING_LEVEL_ID = 4
PRODUCT_CREATION_TIME = 2023-01-29T14:35:52.000Z
PRODUCT_ID = "HI908_0000_GR4.TIF"
RELEASE_ID = 0005
REVISION_ID = 0000
/* QUALITY DATA ELEMENTS */
DATA_QUALITY_ID = 1
DATA_QUALITY_DESC = "Data calculated based on original SPICE kernels"
/* TIME DATA ELEMENTS */
SPACECRAFT_CLOCK_START_COUNT = "1/0492682191.25678"
SPACECRAFT_CLOCK_STOP_COUNT = "1/0492682448.07368"
START_TIME = 2018-12-12T08:11:01.403Z
STOP_TIME = 2018-12-12T08:14:12.968Z
/* ORBITAL DATA ELEMENTS */
ASCENDING_NODE_LONGITUDE = 219.46
MAXIMUM_RESOLUTION = 0.0526
FOOTPRINT_POINT_LATITUDE = (-47.9247,-47.9067,-47.8912,-47.8756, -47.875,-47.8807,-47.6266,-47.3723, -47.1178,-46.8631,-46.6083,-46.2262, -45.9709,-45.7158,-45.4607,-45.2054, -44.9498,-44.6936,-44.4391,-44.1776, -43.8067,-43.5592,-43.3117,-43.0642, -42.8165,-42.445,-42.1972,-41.9495, -41.7017,-41.4539,-41.2061,-40.9578, -40.7098,-40.2144,-39.9661,-39.718, -39.2227,-38.9749,-38.7271,-38.4793, -38.1076,-37.6122,-37.3644,-37.1167, -36.4976,-36.0027,-35.5078,-35.3842, -35.3725,-35.379,-35.3849,-35.3908, -35.3909,-35.3918,-35.8875,-36.2596, -36.6316,-36.8797,-37.252,-37.5001, -37.7484,-37.9966,-38.3692,-38.6176, -38.8657,-39.2388,-39.4876,-39.7361, -39.9846,-40.233,-40.4816,-40.73, -41.2257,-41.4744,-41.7232,-41.9716, -42.22,-42.4684,-42.7167,-42.9651, -43.2133,-43.4614,-43.7105,-43.9589, -44.2068,-44.4676,-44.7231,-44.9793, -45.2362,-45.4927,-45.7482,-46.0039, -46.2598,-46.5151,-46.8991,-47.1554, -47.5379,-47.793,-47.9207,-47.9247)
FOOTPRINT_POINT_LONGITUDE = (122.685,121.935,121.407,120.94,120.923 ,120.875,120.899,120.922,120.946, 120.969,120.992,121.025,121.048,121.07, 121.09,121.111,121.132,121.156,121.169, 121.189,121.215,121.232,121.249,121.265 ,121.281,121.305,121.321,121.336,121.35 ,121.365,121.379,121.395,121.41,121.434 ,121.449,121.462,121.484,121.495, 121.506,121.517,121.532,121.553,121.563 ,121.572,121.596,121.613,121.63,121.634 ,121.634,122.01,122.436,123.04,123.053, 123.057,123.047,123.04,123.032,123.027, 123.019,123.013,123.008,123.002,122.994 ,122.988,122.982,122.973,122.967, 122.961,122.954,122.948,122.941,122.935 ,122.921,122.914,122.907,122.9,122.892, 122.885,122.878,122.87,122.862,122.854, 122.847,122.839,122.831,122.821,122.812 ,122.803,122.795,122.786,122.776, 122.766,122.757,122.747,122.732,122.722 ,122.706,122.696,122.69,122.685)
ORBIT_NUMBER = 18908
ORBITAL_ECCENTRICITY = 0.578
ORBITAL_INCLINATION = 86.96
ORBITAL_SEMIMAJOR_AXIS = 8813.03
PERIAPSIS_ALTITUDE = 330.24
PERIAPSIS_ARGUMENT_ANGLE = 321.05
PERIAPSIS_TIME = 2018-12-12T08:13:15.000Z
SPACECRAFT_ORIENTATION = (0.0,1.0,0.0)
^MEX_ORIENTATION_DESC = "MEX_ORIENTATION_DESC.TXT"
SPACECRAFT_POINTING_MODE = ACROSSTRACK
^MEX_POINTING_DESC = "MEX_POINTING_DESC.TXT"
RIGHT_ASCENSION = -1e+32
DECLINATION = -1e+32
OFFSET_ANGLE = 0.458
SPACECRAFT_SOLAR_DISTANCE = 2.14135e+08
TARGET_NAME = MARS
/* CAMERA DATA ELEMENTS */
DETECTOR_TEMPERATURE = 18.5744
FOCAL_PLANE_TEMPERATURE = 10.0106
INST_CMPRS_NAME = "DISCRETE COSINE TRANSFORMATION (DCT)"
INST_CMPRS_RATIO = 10.1103
INST_CMPRS_QUALITY = 0
INST_CMPRS_QUANTZ_TBL_ID = 0
INSTRUMENT_TEMPERATURE = 12.8652
LENS_TEMPERATURE = 10.2145
MACROPIXEL_SIZE = 4
MISSING_FRAMES = 1
PIXEL_SUBSAMPLING_FLAG = N
SIGNAL_CHAIN_ID = 2
/* RADIOMETRIC DATA ELEMENTS */
BANDWIDTH = 88.0
CENTER_FILTER_WAVELENGTH = 538.0
RADIANCE_OFFSET = 1.644
RADIANCE_SCALING_FACTOR = 0.00579419
REFLECTANCE_SCALING_FACTOR = 0.000228748
MEX:REFLECTANCE_OFFSET = 0.0649031
/* IMAGE OBJECT DEFINITIONS */
OBJECT = IMAGE
  INTERCHANGE_FORMAT = BINARY
  LINES = 14907
  LINE_SAMPLES = 1927
  SAMPLE_TYPE = UNSIGNED_INTEGER
  SAMPLE_BITS = 8
  BANDS = 1
  BAND_STORAGE_TYPE = BAND_SEQUENTIAL
  MAXIMUM = 255
  MEAN = 136.603
  MINIMUM = 1
  STANDARD_DEVIATION = 31.2567
END_OBJECT = IMAGE
/* MAP OBJECT DEFINITIONS */
OBJECT = IMAGE_MAP_PROJECTION
  ^DATA_SET_MAP_PROJECTION_CATALOG= "DSMAP.CAT"
  A_AXIS_RADIUS = 3396.0
  B_AXIS_RADIUS = 3396.0
  C_AXIS_RADIUS = 3396.0
  CENTER_LATITUDE = 0.0
  CENTER_LONGITUDE = 122.0
  COORDINATE_SYSTEM_NAME = PLANETOGRAPHIC
  COORDINATE_SYSTEM_TYPE = "BODY-FIXED ROTATING"
  EASTERNMOST_LONGITUDE = 123.057
  FIRST_STANDARD_PARALLEL = "N/A"
  LINE_FIRST_PIXEL = 1
  LINE_LAST_PIXEL = 14907
  LINE_PROJECTION_OFFSET = -41940.125
  MAP_PROJECTION_ROTATION = 0.0
  MAP_PROJECTION_TYPE = SINUSOIDAL
  MAP_RESOLUTION = 1185.42760773333
  MAP_SCALE = 0.05
  MAXIMUM_LATITUDE = -35.3725
  MINIMUM_LATITUDE = -47.9247
  POSITIVE_LONGITUDE_DIRECTION = EAST
  REFERENCE_LATITUDE = "N/A"
  REFERENCE_LONGITUDE = "N/A"
  SAMPLE_FIRST_PIXEL = 1
  SAMPLE_LAST_PIXEL = 1927
  SAMPLE_PROJECTION_OFFSET = 905.625
  SECOND_STANDARD_PARALLEL = "N/A"
  WESTERNMOST_LONGITUDE = 120.875
END_OBJECT = IMAGE_MAP_PROJECTION
END
