PDS_VERSION_ID = PDS3
/* FILE DATA ELEMENTS */
RECORD_TYPE = UNDEFINED
/* POINTERS TO DATA OBJECTS */
^IMAGE = ("HI908_0000_IR4.TIF")
/* IDENTIFICATION DATA ELEMENTS */
DATA_SET_ID = "MEX-M-HRSC-4-REFDR-MAPPROJECT-EXT6-V4.0"
DATA_SET_NAME = "MARS EXPRESS HRSC MAP PROJECTED REFDR EXTENSION6 V4.0"
DETECTOR_ID = MEX_HRSC_IR
EVENT_TYPE = "MARS-REGIONAL-STEREO-Im-Eo"
INSTRUMENT_HOST_ID = MEX
INSTRUMENT_HOST_NAME = "MARS EXPRESS"
INSTRUMENT_ID = HRSC
INSTRUMENT_NAME = "HIGH RESOLUTION STEREO CAMERA"
MISSION_NAME = "MARS EXPRESS"
MISSION_PHASE_NAME = ME_Phase_39
PROCESSING_LEVEL_ID = 4
PRODUCT_CREATION_TIME = 2023-01-29T14:35:52.000Z
PRODUCT_ID = "HI908_0000_IR4.TIF"
RELEASE_ID = 0005
REVISION_ID = 0000
/* QUALITY DATA ELEMENTS */
DATA_QUALITY_ID = 1
DATA_QUALITY_DESC = "Data calculated based on original SPICE kernels"
/* TIME DATA ELEMENTS */
SPACECRAFT_CLOCK_START_COUNT = "1/0492682191.25678"
SPACECRAFT_CLOCK_STOP_COUNT = "1/0492682448.07368"
START_TIME = 2018-12-12T08:11:21.720Z
STOP_TIME = 2018-12-12T08:14:32.732Z
/* ORBITAL DATA ELEMENTS */
ASCENDING_NODE_LONGITUDE = 219.46
MAXIMUM_RESOLUTION = 0.055
FOOTPRINT_POINT_LATITUDE = (-47.8744,-47.87,-47.8637,-47.8526, -47.8523,-47.8943,-47.6372,-47.2507, -46.9925,-46.7344,-46.4756,-46.0875, -45.8298,-45.4462,-45.1962,-44.9459, -44.6903,-44.1977,-43.9491,-43.7, -43.4511,-43.0782,-42.8288,-42.4551, -42.206,-41.9575,-41.7089,-41.4604, -41.2119,-40.961,-40.7117,-40.463, -40.216,-39.9669,-39.5951,-39.2256, -38.9785,-38.6081,-38.3608,-37.9898, -37.6211,-37.2515,-37.0049,-36.6353, -36.2663,-36.021,-35.7748,-35.5293, -35.4069,-35.3821,-35.3807,-35.377, -35.373,-35.3729,-35.3736,-35.9891, -36.3587,-36.605,-36.8518,-37.0985, -37.3454,-37.716,-37.9632,-38.211, -38.4586,-38.706,-38.953,-39.2021, -39.4535,-39.7017,-39.9504,-40.1987, -40.4478,-40.6963,-41.1877,-41.4374, -41.689,-41.9384,-42.1878,-42.5619, -42.8115,-43.1856,-43.4345,-43.6875, -43.9403,-44.1886,-44.5566,-44.8046, -45.057,-45.3117,-45.5621,-45.8182, -46.0773,-46.4632,-46.8531,-47.117, -47.5018,-47.7604,-47.8899,-47.8744)
FOOTPRINT_POINT_LONGITUDE = (122.679,122.163,121.642,120.947, 120.931,120.879,120.903,120.938,120.962 ,120.985,121.008,121.042,121.063, 121.093,121.113,121.133,121.158,121.188 ,121.205,121.222,121.239,121.263, 121.279,121.303,121.318,121.333,121.347 ,121.361,121.375,121.391,121.406, 121.419,121.431,121.444,121.462,121.478 ,121.489,121.505,121.515,121.531, 121.545,121.559,121.569,121.582,121.595 ,121.603,121.612,121.62,121.623,121.624 ,122.059,122.637,123.047,123.06,123.065 ,123.052,123.044,123.038,123.033, 123.027,123.022,123.013,123.007,123.001 ,122.995,122.989,122.983,122.976,122.97 ,122.964,122.957,122.95,122.944,122.937 ,122.922,122.915,122.908,122.9,122.893, 122.881,122.873,122.861,122.853,122.845 ,122.837,122.828,122.814,122.805, 122.796,122.787,122.778,122.768,122.758 ,122.742,122.727,122.717,122.7,122.689, 122.683,122.679)
ORBIT_NUMBER = 18908
ORBITAL_ECCENTRICITY = 0.578
ORBITAL_INCLINATION = 86.96
ORBITAL_SEMIMAJOR_AXIS = 8813.03
PERIAPSIS_ALTITUDE = 330.24
PERIAPSIS_ARGUMENT_ANGLE = 321.05
PERIAPSIS_TIME = 2018-12-12T08:13:15.000Z
SPACECRAFT_ORIENTATION = (0.0,1.0,0.0)
^MEX_ORIENTATION_DESC = "MEX_ORIENTATION_DESC.TXT"
SPACECRAFT_POINTING_MODE = ACROSSTRACK
^MEX_POINTING_DESC = "MEX_POINTING_DESC.TXT"
RIGHT_ASCENSION = -1e+32
DECLINATION = -1e+32
OFFSET_ANGLE = 0.458
SPACECRAFT_SOLAR_DISTANCE = 2.14135e+08
TARGET_NAME = MARS
/* CAMERA DATA ELEMENTS */
DETECTOR_TEMPERATURE = 17.5549
FOCAL_PLANE_TEMPERATURE = 10.0106
INST_CMPRS_NAME = "DISCRETE COSINE TRANSFORMATION (DCT)"
INST_CMPRS_RATIO = 9.17182
INST_CMPRS_QUALITY = 0
INST_CMPRS_QUANTZ_TBL_ID = 0
INSTRUMENT_TEMPERATURE = 12.8652
LENS_TEMPERATURE = 10.2145
MACROPIXEL_SIZE = 4
MISSING_FRAMES = 0
PIXEL_SUBSAMPLING_FLAG = N
SIGNAL_CHAIN_ID = 2
/* RADIOMETRIC DATA ELEMENTS */
BANDWIDTH = 81.0
CENTER_FILTER_WAVELENGTH = 955.5
RADIANCE_OFFSET = 0.957739
RADIANCE_SCALING_FACTOR = 0.00834631
REFLECTANCE_SCALING_FACTOR = 0.000825652
MEX:REFLECTANCE_OFFSET = 0.0947435
/* IMAGE OBJECT DEFINITIONS */
OBJECT = IMAGE
  INTERCHANGE_FORMAT = BINARY
  LINES = 14907
  LINE_SAMPLES = 1927
  SAMPLE_TYPE = UNSIGNED_INTEGER
  SAMPLE_BITS = 8
  BANDS = 1
  BAND_STORAGE_TYPE = BAND_SEQUENTIAL
  MAXIMUM = 255
  MEAN = 125.69
  MINIMUM = 1
  STANDARD_DEVIATION = 40.8906
END_OBJECT = IMAGE
/* MAP OBJECT DEFINITIONS */
OBJECT = IMAGE_MAP_PROJECTION
  ^DATA_SET_MAP_PROJECTION_CATALOG= "DSMAP.CAT"
  A_AXIS_RADIUS = 3396.0
  B_AXIS_RADIUS = 3396.0
  C_AXIS_RADIUS = 3396.0
  CENTER_LATITUDE = 0.0
  CENTER_LONGITUDE = 122.0
  COORDINATE_SYSTEM_NAME = PLANETOGRAPHIC
  COORDINATE_SYSTEM_TYPE = "BODY-FIXED ROTATING"
  EASTERNMOST_LONGITUDE = 123.065
  FIRST_STANDARD_PARALLEL = "N/A"
  LINE_FIRST_PIXEL = 1
  LINE_LAST_PIXEL = 14907
  LINE_PROJECTION_OFFSET = -41940.125
  MAP_PROJECTION_ROTATION = 0.0
  MAP_PROJECTION_TYPE = SINUSOIDAL
  MAP_RESOLUTION = 1185.42760773333
  MAP_SCALE = 0.05
  MAXIMUM_LATITUDE = -35.3729
  MINIMUM_LATITUDE = -47.8943
  POSITIVE_LONGITUDE_DIRECTION = EAST
  REFERENCE_LATITUDE = "N/A"
  REFERENCE_LONGITUDE = "N/A"
  SAMPLE_FIRST_PIXEL = 1
  SAMPLE_LAST_PIXEL = 1927
  SAMPLE_PROJECTION_OFFSET = 905.625
  SECOND_STANDARD_PARALLEL = "N/A"
  WESTERNMOST_LONGITUDE = 120.879
END_OBJECT = IMAGE_MAP_PROJECTION
END
