PDS_VERSION_ID = PDS3
/* FILE DATA ELEMENTS */
RECORD_TYPE = UNDEFINED
/* POINTERS TO DATA OBJECTS */
^IMAGE = ("HI909_0000_BL4.TIF")
/* IDENTIFICATION DATA ELEMENTS */
DATA_SET_ID = "MEX-M-HRSC-4-REFDR-MAPPROJECT-EXT6-V4.0"
DATA_SET_NAME = "MARS EXPRESS HRSC MAP PROJECTED REFDR EXTENSION6 V4.0"
DETECTOR_ID = MEX_HRSC_BLUE
EVENT_TYPE = "MARS-REGIONAL-MAPPING-Te-Im-Eo"
INSTRUMENT_HOST_ID = MEX
INSTRUMENT_HOST_NAME = "MARS EXPRESS"
INSTRUMENT_ID = HRSC
INSTRUMENT_NAME = "HIGH RESOLUTION STEREO CAMERA"
MISSION_NAME = "MARS EXPRESS"
MISSION_PHASE_NAME = ME_Phase_39
PROCESSING_LEVEL_ID = 4
PRODUCT_CREATION_TIME = 2023-01-29T14:35:52.000Z
PRODUCT_ID = "HI909_0000_BL4.TIF"
RELEASE_ID = 0005
REVISION_ID = 0000
/* QUALITY DATA ELEMENTS */
DATA_QUALITY_ID = 1
DATA_QUALITY_DESC = "Data calculated based on original SPICE kernels"
/* TIME DATA ELEMENTS */
SPACECRAFT_CLOCK_START_COUNT = "1/0492707450.23979"
SPACECRAFT_CLOCK_STOP_COUNT = "1/0492707656.41351"
START_TIME = 2018-12-12T15:11:46.958Z
STOP_TIME = 2018-12-12T15:14:09.710Z
/* ORBITAL DATA ELEMENTS */
ASCENDING_NODE_LONGITUDE = 219.45
MAXIMUM_RESOLUTION = 0.0524
FOOTPRINT_POINT_LATITUDE = (-40.4189,-40.4181,-40.4155,-40.411, -40.4073,-40.4071,-40.3998,-40.1211, -39.9351,-39.749,-39.3771,-39.191, -39.0047,-38.6327,-38.4466,-38.2603, -38.0742,-37.8877,-37.7015,-37.4222, -37.1431,-36.957,-36.6778,-36.4917, -36.3055,-36.1187,-35.8389,-35.4669, -35.1876,-35.0013,-34.7221,-34.536, -34.35,-34.1636,-33.7916,-33.6055, -33.4192,-33.047,-32.7682,-32.3036, -31.9261,-31.7341,-31.5415,-31.3494, -31.1575,-31.0617,-31.0531,-31.0544, -31.0545,-31.0532,-31.0513,-31.0512, -31.052,-31.3392,-31.5313,-31.7238, -31.9169,-32.1092,-32.2955,-32.4816, -32.6686,-33.0409,-33.3203,-33.5065, -33.7861,-33.9725,-34.1588,-34.3452, -34.5316,-34.7181,-34.9046,-35.1842, -35.3708,-35.5571,-35.7439,-35.9303, -36.1167,-36.3032,-36.4898,-36.6765, -36.8627,-37.0492,-37.2357,-37.4222, -37.6087,-37.7958,-37.9822,-38.1683, -38.3546,-38.5411,-38.7275,-38.914, -39.1005,-39.3802,-39.5667,-39.8462, -40.0326,-40.3117,-40.4048,-40.4189)
FOOTPRINT_POINT_LONGITUDE = (22.0415,21.7457,21.2993,20.8584, 20.5715,20.5579,20.5522,20.5614,20.5674 ,20.5731,20.5844,20.5899,20.5951, 20.6055,20.6105,20.6153,20.62,20.6245, 20.629,20.6355,20.6419,20.646,20.6519, 20.6557,20.6594,20.6628,20.6678,20.6745 ,20.6791,20.682,20.6862,20.689,20.6916, 20.6941,20.6989,20.7011,20.7031,20.7071 ,20.7099,20.7141,20.7171,20.7185, 20.7195,20.7206,20.7217,20.7223,20.7223 ,21.1405,21.4607,21.8492,22.0861, 22.0992,22.1036,22.1062,22.1061,22.1047 ,22.1013,22.1012,22.1001,22.0999, 22.0967,22.0961,22.0956,22.0952,22.0943 ,22.0938,22.0932,22.0927,22.0922, 22.0915,22.0909,22.09,22.0891,22.089, 22.0871,22.0871,22.0867,22.086,22.085, 22.0835,22.084,22.083,22.0825,22.0817, 22.0805,22.0775,22.077,22.0774,22.077, 22.076,22.0749,22.0738,22.0722,22.07, 22.0685,22.0666,22.0651,22.0646,22.0641 ,22.0415)
ORBIT_NUMBER = 18909
ORBITAL_ECCENTRICITY = 0.578
ORBITAL_INCLINATION = 86.96
ORBITAL_SEMIMAJOR_AXIS = 8811.46
PERIAPSIS_ALTITUDE = 330.57
PERIAPSIS_ARGUMENT_ANGLE = 320.88
PERIAPSIS_TIME = 2018-12-12T15:12:13.000Z
SPACECRAFT_ORIENTATION = (0.0,1.0,0.0)
^MEX_ORIENTATION_DESC = "MEX_ORIENTATION_DESC.TXT"
SPACECRAFT_POINTING_MODE = ACROSSTRACK
^MEX_POINTING_DESC = "MEX_POINTING_DESC.TXT"
RIGHT_ASCENSION = -1e+32
DECLINATION = -1e+32
OFFSET_ANGLE = -0.45
SPACECRAFT_SOLAR_DISTANCE = 2.14181e+08
TARGET_NAME = MARS
/* CAMERA DATA ELEMENTS */
DETECTOR_TEMPERATURE = 18.7783
FOCAL_PLANE_TEMPERATURE = 10.2145
INST_CMPRS_NAME = "DISCRETE COSINE TRANSFORMATION (DCT)"
INST_CMPRS_RATIO = 5.33153
INST_CMPRS_QUALITY = 0
INST_CMPRS_QUANTZ_TBL_ID = 0
INSTRUMENT_TEMPERATURE = 13.0691
LENS_TEMPERATURE = 10.8262
MACROPIXEL_SIZE = 4
MISSING_FRAMES = 0
PIXEL_SUBSAMPLING_FLAG = N
SIGNAL_CHAIN_ID = 2
/* RADIOMETRIC DATA ELEMENTS */
BANDWIDTH = 76.0
CENTER_FILTER_WAVELENGTH = 444.0
RADIANCE_OFFSET = 0.710087
RADIANCE_SCALING_FACTOR = 0.00153546
REFLECTANCE_SCALING_FACTOR = 7.23699e-05
MEX:REFLECTANCE_OFFSET = 0.033468
/* IMAGE OBJECT DEFINITIONS */
OBJECT = IMAGE
  INTERCHANGE_FORMAT = BINARY
  LINES = 11109
  LINE_SAMPLES = 1537
  SAMPLE_TYPE = UNSIGNED_INTEGER
  SAMPLE_BITS = 8
  BANDS = 1
  BAND_STORAGE_TYPE = BAND_SEQUENTIAL
  MAXIMUM = 255
  MEAN = 149.869
  MINIMUM = 1
  STANDARD_DEVIATION = 16.2518
END_OBJECT = IMAGE
/* MAP OBJECT DEFINITIONS */
OBJECT = IMAGE_MAP_PROJECTION
  ^DATA_SET_MAP_PROJECTION_CATALOG= "DSMAP.CAT"
  A_AXIS_RADIUS = 3396.0
  B_AXIS_RADIUS = 3396.0
  C_AXIS_RADIUS = 3396.0
  CENTER_LATITUDE = 0.0
  CENTER_LONGITUDE = 21.0
  COORDINATE_SYSTEM_NAME = PLANETOGRAPHIC
  COORDINATE_SYSTEM_TYPE = "BODY-FIXED ROTATING"
  EASTERNMOST_LONGITUDE = 22.1062
  FIRST_STANDARD_PARALLEL = "N/A"
  LINE_FIRST_PIXEL = 1
  LINE_LAST_PIXEL = 11109
  LINE_PROJECTION_OFFSET = -36793.125
  MAP_PROJECTION_ROTATION = 0.0
  MAP_PROJECTION_TYPE = SINUSOIDAL
  MAP_RESOLUTION = 1185.42760773333
  MAP_SCALE = 0.05
  MAXIMUM_LATITUDE = -31.0512
  MINIMUM_LATITUDE = -40.4189
  POSITIVE_LONGITUDE_DIRECTION = EAST
  REFERENCE_LATITUDE = "N/A"
  REFERENCE_LONGITUDE = "N/A"
  SAMPLE_FIRST_PIXEL = 1
  SAMPLE_LAST_PIXEL = 1537
  SAMPLE_PROJECTION_OFFSET = 411.625
  SECOND_STANDARD_PARALLEL = "N/A"
  WESTERNMOST_LONGITUDE = 20.5522
END_OBJECT = IMAGE_MAP_PROJECTION
END
