PDS_VERSION_ID = PDS3
/* FILE DATA ELEMENTS */
RECORD_TYPE = UNDEFINED
/* POINTERS TO DATA OBJECTS */
^IMAGE = ("HI910_0000_ND4.TIF")
/* IDENTIFICATION DATA ELEMENTS */
DATA_SET_ID = "MEX-M-HRSC-4-REFDR-MAPPROJECT-EXT6-V4.0"
DATA_SET_NAME = "MARS EXPRESS HRSC MAP PROJECTED REFDR EXTENSION6 V4.0"
DETECTOR_ID = MEX_HRSC_NADIR
EVENT_TYPE = "MARS-REGIONAL-MAPPING-Im-Gl-Pf"
INSTRUMENT_HOST_ID = MEX
INSTRUMENT_HOST_NAME = "MARS EXPRESS"
INSTRUMENT_ID = HRSC
INSTRUMENT_NAME = "HIGH RESOLUTION STEREO CAMERA"
MISSION_NAME = "MARS EXPRESS"
MISSION_PHASE_NAME = ME_Phase_39
PROCESSING_LEVEL_ID = 4
PRODUCT_CREATION_TIME = 2023-01-29T14:35:52.000Z
PRODUCT_ID = "HI910_0000_ND4.TIF"
RELEASE_ID = 0005
REVISION_ID = 0000
/* QUALITY DATA ELEMENTS */
DATA_QUALITY_ID = 1
DATA_QUALITY_DESC = "Data calculated based on original SPICE kernels"
/* TIME DATA ELEMENTS */
SPACECRAFT_CLOCK_START_COUNT = "1/0492732325.24923"
SPACECRAFT_CLOCK_STOP_COUNT = "1/0492732549.14546"
START_TIME = 2018-12-12T22:06:37.201Z
STOP_TIME = 2018-12-12T22:09:08.190Z
/* ORBITAL DATA ELEMENTS */
ASCENDING_NODE_LONGITUDE = 219.43
MAXIMUM_RESOLUTION = 0.0138
FOOTPRINT_POINT_LATITUDE = (-57.2693,-57.2616,-57.2534,-57.2439, -57.2333,-57.2214,-57.2067,-57.2058, -57.2039,-56.9983,-56.7925,-56.5866, -56.3804,-56.1741,-55.9676,-55.7609, -55.554,-55.347,-55.1398,-54.9324, -54.7248,-54.5171,-54.3093,-54.1012, -53.893,-53.6846,-53.4759,-53.2673, -53.0583,-52.8493,-52.6401,-52.4308, -52.2213,-52.0117,-51.802,-51.6148, -51.2628,-50.9104,-50.4696,-50.2048, -49.8515,-49.4977,-49.1436,-48.7892, -48.4345,-48.0795,-47.9019,-47.6354, -47.5465,-47.5384,-47.5459,-47.5522, -47.5598,-47.564,-47.5674,-47.5676, -47.5679,-47.7461,-47.9242,-48.1023, -48.2803,-48.4582,-48.6361,-48.8139, -49.1693,-49.5244,-49.8792,-50.2337, -50.6764,-51.0301,-51.3835,-51.7366, -51.94,-52.1504,-52.3607,-52.5709, -52.7809,-52.9908,-53.2005,-53.4101, -53.6196,-53.8289,-54.038,-54.247, -54.4559,-54.6646,-54.8731,-55.0815, -55.2898,-55.4979,-55.7058,-55.9136, -56.1211,-56.3286,-56.5358,-56.7429, -56.9498,-57.1566,-57.2599,-57.2693)
FOOTPRINT_POINT_LONGITUDE = (279.863,279.402,278.996,278.593, 278.193,277.796,277.352,277.327,277.311 ,277.341,277.37,277.399,277.428,277.456 ,277.483,277.51,277.537,277.563,277.589 ,277.614,277.639,277.664,277.688, 277.711,277.735,277.757,277.78,277.802, 277.823,277.845,277.865,277.886,277.906 ,277.926,277.946,277.963,277.994, 278.025,278.062,278.083,278.111,278.138 ,278.165,278.19,278.215,278.239,278.25, 278.268,278.273,278.274,278.606,278.923 ,279.386,279.711,280.056,280.075, 280.084,280.082,280.081,280.08,280.079, 280.077,280.075,280.08,280.071,280.067, 280.06,280.062,280.055,280.059,280.059, 280.052,280.049,280.046,280.042,280.043 ,280.04,280.035,280.028,280.019,280.013 ,280.012,280.008,280.004,280.001,280.0, 279.997,279.993,279.989,279.985,279.981 ,279.977,279.973,279.968,279.964, 279.959,279.953,279.948,279.947, 279.863)
ORBIT_NUMBER = 18910
ORBITAL_ECCENTRICITY = 0.578
ORBITAL_INCLINATION = 86.96
ORBITAL_SEMIMAJOR_AXIS = 8812.53
PERIAPSIS_ALTITUDE = 330.15
PERIAPSIS_ARGUMENT_ANGLE = 320.71
PERIAPSIS_TIME = 2018-12-12T22:11:16.000Z
SPACECRAFT_ORIENTATION = (0.0,1.0,0.0)
^MEX_ORIENTATION_DESC = "MEX_ORIENTATION_DESC.TXT"
SPACECRAFT_POINTING_MODE = ACROSSTRACK
^MEX_POINTING_DESC = "MEX_POINTING_DESC.TXT"
RIGHT_ASCENSION = -1e+32
DECLINATION = -1e+32
OFFSET_ANGLE = -0.6
SPACECRAFT_SOLAR_DISTANCE = 2.14227e+08
TARGET_NAME = MARS
/* CAMERA DATA ELEMENTS */
DETECTOR_TEMPERATURE = 19.1861
FOCAL_PLANE_TEMPERATURE = 10.4184
INST_CMPRS_NAME = "DISCRETE COSINE TRANSFORMATION (DCT)"
INST_CMPRS_RATIO = 6.38847
INST_CMPRS_QUALITY = 0
INST_CMPRS_QUANTZ_TBL_ID = 0
INSTRUMENT_TEMPERATURE = 12.6613
LENS_TEMPERATURE = 11.0301
MACROPIXEL_SIZE = 1
MISSING_FRAMES = 0
PIXEL_SUBSAMPLING_FLAG = N
SIGNAL_CHAIN_ID = 0
/* RADIOMETRIC DATA ELEMENTS */
BANDWIDTH = 177.0
CENTER_FILTER_WAVELENGTH = 677.5
RADIANCE_OFFSET = 3.76755
RADIANCE_SCALING_FACTOR = 0.0166811
REFLECTANCE_SCALING_FACTOR = 0.000406684
MEX:REFLECTANCE_OFFSET = 0.0918524
/* IMAGE OBJECT DEFINITIONS */
OBJECT = IMAGE
  INTERCHANGE_FORMAT = BINARY
  LINES = 46141
  LINE_SAMPLES = 7808
  SAMPLE_TYPE = UNSIGNED_INTEGER
  SAMPLE_BITS = 8
  BANDS = 1
  BAND_STORAGE_TYPE = BAND_SEQUENTIAL
  MAXIMUM = 255
  MEAN = 119.165
  MINIMUM = 1
  STANDARD_DEVIATION = 32.4792
END_OBJECT = IMAGE
/* MAP OBJECT DEFINITIONS */
OBJECT = IMAGE_MAP_PROJECTION
  ^DATA_SET_MAP_PROJECTION_CATALOG= "DSMAP.CAT"
  A_AXIS_RADIUS = 3396.0
  B_AXIS_RADIUS = 3396.0
  C_AXIS_RADIUS = 3396.0
  CENTER_LATITUDE = 0.0
  CENTER_LONGITUDE = 279.0
  COORDINATE_SYSTEM_NAME = PLANETOGRAPHIC
  COORDINATE_SYSTEM_TYPE = "BODY-FIXED ROTATING"
  EASTERNMOST_LONGITUDE = 280.084
  FIRST_STANDARD_PARALLEL = "N/A"
  LINE_FIRST_PIXEL = 1
  LINE_LAST_PIXEL = 46141
  LINE_PROJECTION_OFFSET = -225415.0
  MAP_PROJECTION_ROTATION = 0.0
  MAP_PROJECTION_TYPE = SINUSOIDAL
  MAP_RESOLUTION = 4741.71043093333
  MAP_SCALE = 0.0125
  MAXIMUM_LATITUDE = -47.5384
  MINIMUM_LATITUDE = -57.2693
  POSITIVE_LONGITUDE_DIRECTION = EAST
  REFERENCE_LATITUDE = "N/A"
  REFERENCE_LONGITUDE = "N/A"
  SAMPLE_FIRST_PIXEL = 1
  SAMPLE_LAST_PIXEL = 7808
  SAMPLE_PROJECTION_OFFSET = 4338.0
  SECOND_STANDARD_PARALLEL = "N/A"
  WESTERNMOST_LONGITUDE = 277.311
END_OBJECT = IMAGE_MAP_PROJECTION
END
