PDS_VERSION_ID = PDS3
/* FILE DATA ELEMENTS */
RECORD_TYPE = UNDEFINED
/* POINTERS TO DATA OBJECTS */
^IMAGE = ("HI910_0000_S24.TIF")
/* IDENTIFICATION DATA ELEMENTS */
DATA_SET_ID = "MEX-M-HRSC-4-REFDR-MAPPROJECT-EXT6-V4.0"
DATA_SET_NAME = "MARS EXPRESS HRSC MAP PROJECTED REFDR EXTENSION6 V4.0"
DETECTOR_ID = MEX_HRSC_S2
EVENT_TYPE = "MARS-REGIONAL-MAPPING-Im-Gl-Pf"
INSTRUMENT_HOST_ID = MEX
INSTRUMENT_HOST_NAME = "MARS EXPRESS"
INSTRUMENT_ID = HRSC
INSTRUMENT_NAME = "HIGH RESOLUTION STEREO CAMERA"
MISSION_NAME = "MARS EXPRESS"
MISSION_PHASE_NAME = ME_Phase_39
PROCESSING_LEVEL_ID = 4
PRODUCT_CREATION_TIME = 2023-01-29T14:35:52.000Z
PRODUCT_ID = "HI910_0000_S24.TIF"
RELEASE_ID = 0005
REVISION_ID = 0000
/* QUALITY DATA ELEMENTS */
DATA_QUALITY_ID = 1
DATA_QUALITY_DESC = "Data calculated based on original SPICE kernels"
/* TIME DATA ELEMENTS */
SPACECRAFT_CLOCK_START_COUNT = "1/0492732325.24923"
SPACECRAFT_CLOCK_STOP_COUNT = "1/0492732549.14546"
START_TIME = 2018-12-12T22:05:57.107Z
STOP_TIME = 2018-12-12T22:08:35.699Z
/* ORBITAL DATA ELEMENTS */
ASCENDING_NODE_LONGITUDE = 219.43
MAXIMUM_RESOLUTION = 0.0301
FOOTPRINT_POINT_LATITUDE = (-57.3475,-57.3485,-57.3471,-57.3439, -57.3389,-57.3323,-57.3239,-57.3234, -57.247,-56.9408,-56.7367,-56.5336, -56.2308,-56.0322,-55.8325,-55.6328, -55.4325,-55.2335,-55.0366,-54.8417, -54.6461,-54.451,-54.2547,-54.0571, -53.8607,-53.6588,-53.4557,-53.1596, -52.9586,-52.6601,-52.456,-52.1565, -51.9568,-51.7589,-51.5668,-51.2634, -51.059,-50.8584,-50.6618,-50.3659, -50.0669,-49.7624,-49.5694,-49.226, -48.8848,-48.3727,-48.0295,-47.6874, -47.6016,-47.5907,-47.591,-47.5898, -47.5876,-47.5837,-47.5769,-47.5765, -47.5768,-47.749,-48.0064,-48.3498, -48.7725,-49.0358,-49.2915,-49.6387, -49.8437,-50.1444,-50.3491,-50.5518, -50.8483,-51.0465,-51.3446,-51.5466, -51.7497,-52.0528,-52.2525,-52.4514, -52.648,-52.8481,-53.1512,-53.3544, -53.5598,-53.756,-53.9541,-54.152, -54.3496,-54.5444,-54.7402,-54.9366, -55.2312,-55.432,-55.7332,-55.9341, -56.1345,-56.3344,-56.538,-56.7427, -56.9483,-57.1518,-57.2533,-57.3475)
FOOTPRINT_POINT_LONGITUDE = (279.954,279.365,278.941,278.52,278.102 ,277.686,277.273,277.247,277.242, 277.288,277.319,277.349,277.392,277.42, 277.447,277.474,277.501,277.527,277.552 ,277.577,277.601,277.625,277.649, 277.672,277.695,277.718,277.74,277.773, 277.794,277.826,277.847,277.877,277.897 ,277.916,277.935,277.963,277.981, 277.999,278.017,278.042,278.068,278.093 ,278.108,278.135,278.16,278.198,278.222 ,278.245,278.251,278.252,278.731, 279.018,279.307,279.654,280.096,280.114 ,280.121,280.12,280.12,280.118,280.122, 280.114,280.114,280.111,280.108,280.11, 280.107,280.105,280.11,280.112,280.114, 280.111,280.108,280.104,280.103,280.102 ,280.104,280.101,280.095,280.089,280.08 ,280.08,280.078,280.076,280.074,280.075 ,280.074,280.072,280.069,280.066, 280.063,280.06,280.058,280.055,280.052, 280.05,280.045,280.043,280.042,279.954)
ORBIT_NUMBER = 18910
ORBITAL_ECCENTRICITY = 0.578
ORBITAL_INCLINATION = 86.96
ORBITAL_SEMIMAJOR_AXIS = 8812.53
PERIAPSIS_ALTITUDE = 330.15
PERIAPSIS_ARGUMENT_ANGLE = 320.71
PERIAPSIS_TIME = 2018-12-12T22:11:16.000Z
SPACECRAFT_ORIENTATION = (0.0,1.0,0.0)
^MEX_ORIENTATION_DESC = "MEX_ORIENTATION_DESC.TXT"
SPACECRAFT_POINTING_MODE = ACROSSTRACK
^MEX_POINTING_DESC = "MEX_POINTING_DESC.TXT"
RIGHT_ASCENSION = -1e+32
DECLINATION = -1e+32
OFFSET_ANGLE = -0.6
SPACECRAFT_SOLAR_DISTANCE = 2.14227e+08
TARGET_NAME = MARS
/* CAMERA DATA ELEMENTS */
DETECTOR_TEMPERATURE = 19.5939
FOCAL_PLANE_TEMPERATURE = 10.4184
INST_CMPRS_NAME = "DISCRETE COSINE TRANSFORMATION (DCT)"
INST_CMPRS_RATIO = 10.9633
INST_CMPRS_QUALITY = 0
INST_CMPRS_QUANTZ_TBL_ID = 0
INSTRUMENT_TEMPERATURE = 12.6613
LENS_TEMPERATURE = 11.0301
MACROPIXEL_SIZE = 2
MISSING_FRAMES = 0
PIXEL_SUBSAMPLING_FLAG = N
SIGNAL_CHAIN_ID = 1
/* RADIOMETRIC DATA ELEMENTS */
BANDWIDTH = 178.0
CENTER_FILTER_WAVELENGTH = 679.0
RADIANCE_OFFSET = 4.23088
RADIANCE_SCALING_FACTOR = 0.0165917
REFLECTANCE_SCALING_FACTOR = 0.000403242
MEX:REFLECTANCE_OFFSET = 0.102827
/* IMAGE OBJECT DEFINITIONS */
OBJECT = IMAGE
  INTERCHANGE_FORMAT = BINARY
  LINES = 23071
  LINE_SAMPLES = 3904
  SAMPLE_TYPE = UNSIGNED_INTEGER
  SAMPLE_BITS = 8
  BANDS = 1
  BAND_STORAGE_TYPE = BAND_SEQUENTIAL
  MAXIMUM = 255
  MEAN = 121.449
  MINIMUM = 1
  STANDARD_DEVIATION = 30.3606
END_OBJECT = IMAGE
/* MAP OBJECT DEFINITIONS */
OBJECT = IMAGE_MAP_PROJECTION
  ^DATA_SET_MAP_PROJECTION_CATALOG= "DSMAP.CAT"
  A_AXIS_RADIUS = 3396.0
  B_AXIS_RADIUS = 3396.0
  C_AXIS_RADIUS = 3396.0
  CENTER_LATITUDE = 0.0
  CENTER_LONGITUDE = 279.0
  COORDINATE_SYSTEM_NAME = PLANETOGRAPHIC
  COORDINATE_SYSTEM_TYPE = "BODY-FIXED ROTATING"
  EASTERNMOST_LONGITUDE = 280.122
  FIRST_STANDARD_PARALLEL = "N/A"
  LINE_FIRST_PIXEL = 1
  LINE_LAST_PIXEL = 23071
  LINE_PROJECTION_OFFSET = -112707.75
  MAP_PROJECTION_ROTATION = 0.0
  MAP_PROJECTION_TYPE = SINUSOIDAL
  MAP_RESOLUTION = 2370.85521546667
  MAP_SCALE = 0.025
  MAXIMUM_LATITUDE = -47.5765
  MINIMUM_LATITUDE = -57.3485
  POSITIVE_LONGITUDE_DIRECTION = EAST
  REFERENCE_LATITUDE = "N/A"
  REFERENCE_LONGITUDE = "N/A"
  SAMPLE_FIRST_PIXEL = 1
  SAMPLE_LAST_PIXEL = 3904
  SAMPLE_PROJECTION_OFFSET = 2168.75
  SECOND_STANDARD_PARALLEL = "N/A"
  WESTERNMOST_LONGITUDE = 277.242
END_OBJECT = IMAGE_MAP_PROJECTION
END
