PDS_VERSION_ID = PDS3
/* FILE DATA ELEMENTS */
RECORD_TYPE = UNDEFINED
/* POINTERS TO DATA OBJECTS */
^IMAGE = ("HI913_0000_S14.TIF")
/* IDENTIFICATION DATA ELEMENTS */
DATA_SET_ID = "MEX-M-HRSC-4-REFDR-MAPPROJECT-EXT6-V4.0"
DATA_SET_NAME = "MARS EXPRESS HRSC MAP PROJECTED REFDR EXTENSION6 V4.0"
DETECTOR_ID = MEX_HRSC_S1
EVENT_TYPE = "MARS-REGIONAL-STEREO-Im-Gl-Pf"
INSTRUMENT_HOST_ID = MEX
INSTRUMENT_HOST_NAME = "MARS EXPRESS"
INSTRUMENT_ID = HRSC
INSTRUMENT_NAME = "HIGH RESOLUTION STEREO CAMERA"
MISSION_NAME = "MARS EXPRESS"
MISSION_PHASE_NAME = ME_Phase_39
PROCESSING_LEVEL_ID = 4
PRODUCT_CREATION_TIME = 2023-01-29T14:35:52.000Z
PRODUCT_ID = "HI913_0000_S14.TIF"
RELEASE_ID = 0005
REVISION_ID = 0000
/* QUALITY DATA ELEMENTS */
DATA_QUALITY_ID = 1
DATA_QUALITY_DESC = "Data calculated based on original SPICE kernels"
/* TIME DATA ELEMENTS */
SPACECRAFT_CLOCK_START_COUNT = "1/0492807969.24880"
SPACECRAFT_CLOCK_STOP_COUNT = "1/0492808141.33246"
START_TIME = 2018-12-13T19:07:40.932Z
STOP_TIME = 2018-12-13T19:09:31.195Z
/* ORBITAL DATA ELEMENTS */
ASCENDING_NODE_LONGITUDE = 219.38
MAXIMUM_RESOLUTION = 0.014
FOOTPRINT_POINT_LATITUDE = (-43.0488,-43.0456,-43.0425,-43.0384, -43.0342,-43.0267,-43.0214,-43.0211, -43.0687,-42.8515,-42.706,-42.5616, -42.3452,-42.2009,-41.9222,-41.7062, -41.5618,-41.3424,-41.1932,-40.978, -40.8338,-40.6184,-40.4028,-40.1874, -40.0436,-39.8996,-39.7558,-39.6123, -39.4679,-39.2514,-39.1078,-38.963, -38.8192,-38.5497,-38.2664,-38.1205, -37.9704,-37.8273,-37.609,-37.4599, -37.3167,-37.0327,-36.7484,-36.5352, -36.2507,-35.9666,-35.8957,-35.8846, -35.8878,-35.8911,-35.8937,-35.8966, -35.8994,-35.8994,-35.8997,-36.1843, -36.4689,-36.6115,-36.7541,-36.8968, -37.1809,-37.3237,-37.4666,-37.6101, -37.7533,-37.9681,-38.1121,-38.2555, -38.3987,-38.5414,-38.6852,-38.8291, -38.9738,-39.1173,-39.2595,-39.4048, -39.6228,-39.8388,-39.9829,-40.1269, -40.2709,-40.4151,-40.5584,-40.7024, -40.9176,-41.0625,-41.2065,-41.4228, -41.5676,-41.7121,-41.8577,-42.0762, -42.2206,-42.3648,-42.5086,-42.6521, -42.7962,-43.0138,-43.086,-43.0488)
FOOTPRINT_POINT_LONGITUDE = (332.921,332.692,332.493,332.249,332.02 ,331.639,331.394,331.379,331.349, 331.361,331.368,331.375,331.386,331.393 ,331.401,331.411,331.418,331.429, 331.437,331.446,331.452,331.461,331.469 ,331.478,331.483,331.489,331.494, 331.499,331.505,331.513,331.518,331.524 ,331.529,331.531,331.539,331.545, 331.552,331.556,331.564,331.571,331.575 ,331.583,331.59,331.595,331.602,331.609 ,331.611,331.611,331.855,332.156, 332.386,332.687,333.046,333.06,333.067, 333.063,333.059,333.057,333.055,333.053 ,333.048,333.046,333.044,333.042,333.04 ,333.036,333.034,333.032,333.03,333.027 ,333.025,333.023,333.021,333.018, 333.015,333.013,333.01,333.007,333.004, 333.002,332.999,332.996,332.993,332.991 ,332.986,332.983,332.98,332.976,332.973 ,332.97,332.968,332.964,332.961,332.958 ,332.954,332.95,332.947,332.942,332.941 ,332.921)
ORBIT_NUMBER = 18913
ORBITAL_ECCENTRICITY = 0.578
ORBITAL_INCLINATION = 86.98
ORBITAL_SEMIMAJOR_AXIS = 8805.71
PERIAPSIS_ALTITUDE = 330.17
PERIAPSIS_ARGUMENT_ANGLE = 320.19
PERIAPSIS_TIME = 2018-12-13T19:08:03.000Z
SPACECRAFT_ORIENTATION = (0.0,1.0,0.0)
^MEX_ORIENTATION_DESC = "MEX_ORIENTATION_DESC.TXT"
SPACECRAFT_POINTING_MODE = NADIR
^MEX_POINTING_DESC = "MEX_POINTING_DESC.TXT"
RIGHT_ASCENSION = -1e+32
DECLINATION = -1e+32
OFFSET_ANGLE = -1e+32
SPACECRAFT_SOLAR_DISTANCE = 2.14366e+08
TARGET_NAME = MARS
/* CAMERA DATA ELEMENTS */
DETECTOR_TEMPERATURE = 17.7588
FOCAL_PLANE_TEMPERATURE = 10.2145
INST_CMPRS_NAME = "DISCRETE COSINE TRANSFORMATION (DCT)"
INST_CMPRS_RATIO = 7.27937
INST_CMPRS_QUALITY = 0
INST_CMPRS_QUANTZ_TBL_ID = 0
INSTRUMENT_TEMPERATURE = 12.2535
LENS_TEMPERATURE = 10.2145
MACROPIXEL_SIZE = 1
MISSING_FRAMES = 0
PIXEL_SUBSAMPLING_FLAG = N
SIGNAL_CHAIN_ID = 2
/* RADIOMETRIC DATA ELEMENTS */
BANDWIDTH = 180.0
CENTER_FILTER_WAVELENGTH = 677.0
RADIANCE_OFFSET = 5.50243
RADIANCE_SCALING_FACTOR = 0.0145653
REFLECTANCE_SCALING_FACTOR = 0.000349199
MEX:REFLECTANCE_OFFSET = 0.13192
/* IMAGE OBJECT DEFINITIONS */
OBJECT = IMAGE
  INTERCHANGE_FORMAT = BINARY
  LINES = 34282
  LINE_SAMPLES = 6312
  SAMPLE_TYPE = UNSIGNED_INTEGER
  SAMPLE_BITS = 8
  BANDS = 1
  BAND_STORAGE_TYPE = BAND_SEQUENTIAL
  MAXIMUM = 255
  MEAN = 130.767
  MINIMUM = 1
  STANDARD_DEVIATION = 33.6266
END_OBJECT = IMAGE
/* MAP OBJECT DEFINITIONS */
OBJECT = IMAGE_MAP_PROJECTION
  ^DATA_SET_MAP_PROJECTION_CATALOG= "DSMAP.CAT"
  A_AXIS_RADIUS = 3396.0
  B_AXIS_RADIUS = 3396.0
  C_AXIS_RADIUS = 3396.0
  CENTER_LATITUDE = 0.0
  CENTER_LONGITUDE = 332.0
  COORDINATE_SYSTEM_NAME = PLANETOGRAPHIC
  COORDINATE_SYSTEM_TYPE = "BODY-FIXED ROTATING"
  EASTERNMOST_LONGITUDE = 333.067
  FIRST_STANDARD_PARALLEL = "N/A"
  LINE_FIRST_PIXEL = 1
  LINE_LAST_PIXEL = 34282
  LINE_PROJECTION_OFFSET = -170150.0
  MAP_PROJECTION_ROTATION = 0.0
  MAP_PROJECTION_TYPE = SINUSOIDAL
  MAP_RESOLUTION = 4741.71043093333
  MAP_SCALE = 0.0125
  MAXIMUM_LATITUDE = -35.8846
  MINIMUM_LATITUDE = -43.086
  POSITIVE_LONGITUDE_DIRECTION = EAST
  REFERENCE_LATITUDE = "N/A"
  REFERENCE_LONGITUDE = "N/A"
  SAMPLE_FIRST_PIXEL = 1
  SAMPLE_LAST_PIXEL = 6312
  SAMPLE_PROJECTION_OFFSET = 2269.0
  SECOND_STANDARD_PARALLEL = "N/A"
  WESTERNMOST_LONGITUDE = 331.349
END_OBJECT = IMAGE_MAP_PROJECTION
END
