PDS_VERSION_ID = PDS3
/* FILE DATA ELEMENTS */
RECORD_TYPE = UNDEFINED
/* POINTERS TO DATA OBJECTS */
^IMAGE = ("HI916_0000_ND4.TIF")
/* IDENTIFICATION DATA ELEMENTS */
DATA_SET_ID = "MEX-M-HRSC-4-REFDR-MAPPROJECT-EXT6-V4.0"
DATA_SET_NAME = "MARS EXPRESS HRSC MAP PROJECTED REFDR EXTENSION6 V4.0"
DETECTOR_ID = MEX_HRSC_NADIR
EVENT_TYPE = "MARS-REGIONAL-MAPPING-Im-Eo"
INSTRUMENT_HOST_ID = MEX
INSTRUMENT_HOST_NAME = "MARS EXPRESS"
INSTRUMENT_ID = HRSC
INSTRUMENT_NAME = "HIGH RESOLUTION STEREO CAMERA"
MISSION_NAME = "MARS EXPRESS"
MISSION_PHASE_NAME = ME_Phase_39
PROCESSING_LEVEL_ID = 4
PRODUCT_CREATION_TIME = 2023-01-29T14:35:52.000Z
PRODUCT_ID = "HI916_0000_ND4.TIF"
RELEASE_ID = 0005
REVISION_ID = 0000
/* QUALITY DATA ELEMENTS */
DATA_QUALITY_ID = 1
DATA_QUALITY_DESC = "Data calculated based on original SPICE kernels"
/* TIME DATA ELEMENTS */
SPACECRAFT_CLOCK_START_COUNT = "1/0492883238.23972"
SPACECRAFT_CLOCK_STOP_COUNT = "1/0492883499.63086"
START_TIME = 2018-12-14T16:01:45.194Z
STOP_TIME = 2018-12-14T16:05:00.189Z
/* ORBITAL DATA ELEMENTS */
ASCENDING_NODE_LONGITUDE = 219.32
MAXIMUM_RESOLUTION = 0.0131
FOOTPRINT_POINT_LATITUDE = (-52.9029,-52.891,-52.8672,-52.8349, -52.8341,-52.8305,-52.5778,-52.3249, -52.0717,-51.8184,-51.5648,-51.1838, -50.93,-50.6757,-50.4214,-50.1668, -49.9117,-49.6568,-49.4019,-49.1466, -48.8912,-48.6356,-48.3799,-48.124, -47.868,-47.6118,-47.3556,-47.0992, -46.8427,-46.586,-46.3292,-46.0722, -45.8152,-45.4304,-44.9325,-44.4342, -43.9356,-43.4366,-42.9375,-42.4382, -41.9386,-41.4389,-40.939,-40.689, -40.314,-40.189,-40.1718,-40.1878, -40.1963,-40.2013,-40.2015,-40.2018, -40.4524,-40.7029,-40.9535,-41.204, -41.4545,-41.705,-41.9554,-42.2058, -42.4562,-42.7065,-42.9568,-43.207, -43.4572,-43.7074,-43.9575,-44.4575, -44.9572,-45.4567,-45.713,-45.9709, -46.2286,-46.4863,-46.7438,-47.0012, -47.2586,-47.5158,-47.7729,-48.0298, -48.2867,-48.5434,-48.8,-49.0565, -49.3128,-49.569,-49.825,-50.0809, -50.3367,-50.5923,-50.8477,-51.1029, -51.3581,-51.613,-51.8677,-52.2494, -52.5037,-52.7579,-52.8849,-52.9029)
FOOTPRINT_POINT_LONGITUDE = (25.8341,25.3901,24.64,23.8036,23.7832, 23.7306,23.7644,23.7975,23.8301,23.8618 ,23.8927,23.9338,23.9673,23.9959,24.026 ,24.0532,24.076,24.103,24.132,24.1582, 24.1831,24.2078,24.2315,24.2551,24.2785 ,24.3015,24.3241,24.3465,24.3681, 24.3891,24.4093,24.4279,24.4471,24.4757 ,24.5129,24.5471,24.5801,24.6118, 24.6427,24.6723,24.7001,24.7273,24.7514 ,24.7647,24.7822,24.7879,24.7887,25.472 ,25.9296,26.2672,26.2819,26.2891, 26.2835,26.2777,26.2718,26.2659,26.2599 ,26.2539,26.2479,26.2415,26.2354, 26.2292,26.2229,26.2163,26.2096,26.2028 ,26.1959,26.1818,26.1671,26.1519, 26.1438,26.1358,26.1275,26.119,26.1105, 26.1017,26.0928,26.0839,26.0748,26.0657 ,26.0562,26.0466,26.0368,26.0266, 26.0164,26.006,25.9959,25.9853,25.9745, 25.9634,25.952,25.9404,25.9278,25.9164, 25.9065,25.8882,25.8753,25.86,25.8532, 25.8341)
ORBIT_NUMBER = 18916
ORBITAL_ECCENTRICITY = 0.578
ORBITAL_INCLINATION = 86.96
ORBITAL_SEMIMAJOR_AXIS = 8809.87
PERIAPSIS_ALTITUDE = 330.3
PERIAPSIS_ARGUMENT_ANGLE = 319.68
PERIAPSIS_TIME = 2018-12-14T16:05:00.000Z
SPACECRAFT_ORIENTATION = (0.0,1.0,0.0)
^MEX_ORIENTATION_DESC = "MEX_ORIENTATION_DESC.TXT"
SPACECRAFT_POINTING_MODE = ACROSSTRACK
^MEX_POINTING_DESC = "MEX_POINTING_DESC.TXT"
RIGHT_ASCENSION = -1e+32
DECLINATION = -1e+32
OFFSET_ANGLE = 0.229
SPACECRAFT_SOLAR_DISTANCE = 2.14505e+08
TARGET_NAME = MARS
/* CAMERA DATA ELEMENTS */
DETECTOR_TEMPERATURE = 18.5744
FOCAL_PLANE_TEMPERATURE = 10.0106
INST_CMPRS_NAME = "DISCRETE COSINE TRANSFORMATION (DCT)"
INST_CMPRS_RATIO = 5.30999
INST_CMPRS_QUALITY = 0
INST_CMPRS_QUANTZ_TBL_ID = 0
INSTRUMENT_TEMPERATURE = 11.8457
LENS_TEMPERATURE = 11.4379
MACROPIXEL_SIZE = 1
MISSING_FRAMES = 0
PIXEL_SUBSAMPLING_FLAG = N
SIGNAL_CHAIN_ID = 0
/* RADIOMETRIC DATA ELEMENTS */
BANDWIDTH = 177.0
CENTER_FILTER_WAVELENGTH = 677.5
RADIANCE_OFFSET = 3.04613
RADIANCE_SCALING_FACTOR = 0.0218055
REFLECTANCE_SCALING_FACTOR = 0.000532996
MEX:REFLECTANCE_OFFSET = 0.0744572
/* IMAGE OBJECT DEFINITIONS */
OBJECT = IMAGE
  INTERCHANGE_FORMAT = BINARY
  LINES = 60364
  LINE_SAMPLES = 8307
  SAMPLE_TYPE = UNSIGNED_INTEGER
  SAMPLE_BITS = 8
  BANDS = 1
  BAND_STORAGE_TYPE = BAND_SEQUENTIAL
  MAXIMUM = 255
  MEAN = 169.063
  MINIMUM = 1
  STANDARD_DEVIATION = 24.9723
END_OBJECT = IMAGE
/* MAP OBJECT DEFINITIONS */
OBJECT = IMAGE_MAP_PROJECTION
  ^DATA_SET_MAP_PROJECTION_CATALOG= "DSMAP.CAT"
  A_AXIS_RADIUS = 3396.0
  B_AXIS_RADIUS = 3396.0
  C_AXIS_RADIUS = 3396.0
  CENTER_LATITUDE = 0.0
  CENTER_LONGITUDE = 25.0
  COORDINATE_SYSTEM_NAME = PLANETOGRAPHIC
  COORDINATE_SYSTEM_TYPE = "BODY-FIXED ROTATING"
  EASTERNMOST_LONGITUDE = 26.2891
  FIRST_STANDARD_PARALLEL = "N/A"
  LINE_FIRST_PIXEL = 1
  LINE_LAST_PIXEL = 60364
  LINE_PROJECTION_OFFSET = -190485.0
  MAP_PROJECTION_ROTATION = 0.0
  MAP_PROJECTION_TYPE = SINUSOIDAL
  MAP_RESOLUTION = 4741.71043093333
  MAP_SCALE = 0.0125
  MAXIMUM_LATITUDE = -40.1718
  MINIMUM_LATITUDE = -52.9029
  POSITIVE_LONGITUDE_DIRECTION = EAST
  REFERENCE_LATITUDE = "N/A"
  REFERENCE_LONGITUDE = "N/A"
  SAMPLE_FIRST_PIXEL = 1
  SAMPLE_LAST_PIXEL = 8307
  SAMPLE_PROJECTION_OFFSET = 3637.0
  SECOND_STANDARD_PARALLEL = "N/A"
  WESTERNMOST_LONGITUDE = 23.7306
END_OBJECT = IMAGE_MAP_PROJECTION
END
