PDS_VERSION_ID = PDS3
/* FILE DATA ELEMENTS */
RECORD_TYPE = UNDEFINED
/* POINTERS TO DATA OBJECTS */
^IMAGE = ("HI916_0000_S24.TIF")
/* IDENTIFICATION DATA ELEMENTS */
DATA_SET_ID = "MEX-M-HRSC-4-REFDR-MAPPROJECT-EXT6-V4.0"
DATA_SET_NAME = "MARS EXPRESS HRSC MAP PROJECTED REFDR EXTENSION6 V4.0"
DETECTOR_ID = MEX_HRSC_S2
EVENT_TYPE = "MARS-REGIONAL-MAPPING-Im-Eo"
INSTRUMENT_HOST_ID = MEX
INSTRUMENT_HOST_NAME = "MARS EXPRESS"
INSTRUMENT_ID = HRSC
INSTRUMENT_NAME = "HIGH RESOLUTION STEREO CAMERA"
MISSION_NAME = "MARS EXPRESS"
MISSION_PHASE_NAME = ME_Phase_39
PROCESSING_LEVEL_ID = 4
PRODUCT_CREATION_TIME = 2023-01-29T14:35:52.000Z
PRODUCT_ID = "HI916_0000_S24.TIF"
RELEASE_ID = 0005
REVISION_ID = 0000
/* QUALITY DATA ELEMENTS */
DATA_QUALITY_ID = 1
DATA_QUALITY_DESC = "Data calculated based on original SPICE kernels"
/* TIME DATA ELEMENTS */
SPACECRAFT_CLOCK_START_COUNT = "1/0492883238.23972"
SPACECRAFT_CLOCK_STOP_COUNT = "1/0492883499.63086"
START_TIME = 2018-12-14T16:01:10.073Z
STOP_TIME = 2018-12-14T16:04:30.333Z
/* ORBITAL DATA ELEMENTS */
ASCENDING_NODE_LONGITUDE = 219.32
MAXIMUM_RESOLUTION = 0.028
FOOTPRINT_POINT_LATITUDE = (-53.0065,-52.9823,-52.953,-52.9116, -52.9104,-52.8421,-52.5575,-52.2724, -51.9866,-51.6998,-51.4121,-51.1179, -50.8355,-50.5737,-50.0897,-49.8392, -49.3574,-48.9912,-48.7467,-48.5007, -48.2552,-47.8865,-47.6405,-47.2718, -47.0253,-46.778,-46.5304,-46.1559, -45.9058,-45.6568,-45.4079,-45.1618, -44.9112,-44.6614,-44.411,-44.1606, -43.7849,-43.5338,-43.2895,-42.8036, -42.4384,-42.194,-41.9503,-41.7059, -41.462,-41.217,-40.9706,-40.7258, -40.357,-40.2337,-40.1981,-40.212, -40.2304,-40.2493,-40.2496,-40.2502, -40.6203,-40.8669,-41.2369,-41.4826, -41.7279,-42.0956,-42.3407,-42.8286, -43.1938,-43.4375,-43.6858,-43.9366, -44.1876,-44.4391,-44.6893,-44.94, -45.3152,-45.5658,-45.8155,-46.1891, -46.4381,-46.687,-46.9355,-47.1837, -47.4314,-47.6786,-48.0485,-48.2951, -48.5415,-48.7875,-49.0339,-49.4023, -49.6482,-50.1354,-50.5014,-50.7454, -51.1727,-51.4647,-51.7462,-52.0327, -52.3206,-52.7605,-52.9051,-53.0065)
FOOTPRINT_POINT_LONGITUDE = (25.8759,25.2115,24.5444,23.7482, 23.7272,23.685,23.7244,23.7629,23.8006, 23.8373,23.873,23.9049,23.9425,23.9729, 24.0285,24.0515,24.1065,24.1445,24.1693 ,24.193,24.2167,24.2516,24.2744,24.3083 ,24.3302,24.3515,24.3723,24.4016, 24.4207,24.44,24.4591,24.4794,24.4973, 24.5153,24.5329,24.5501,24.5756,24.592, 24.6078,24.6386,24.6609,24.675,24.6893, 24.7031,24.717,24.7301,24.7423,24.7552, 24.7733,24.7791,24.7809,25.1056,25.6339 ,26.2758,26.2903,26.2955,26.2879, 26.2827,26.2746,26.2693,26.264,26.2558, 26.2502,26.2392,26.2307,26.2248,26.2186 ,26.2125,26.2062,26.1995,26.1931, 26.1863,26.1761,26.1689,26.1618,26.1511 ,26.1437,26.1361,26.1285,26.1208,26.113 ,26.1051,26.0933,26.0851,26.0767, 26.0683,26.0595,26.0462,26.0369,26.0193 ,26.0052,25.9954,25.9773,25.9645, 25.9551,25.9435,25.931,25.9083,25.9013, 25.8759)
ORBIT_NUMBER = 18916
ORBITAL_ECCENTRICITY = 0.578
ORBITAL_INCLINATION = 86.96
ORBITAL_SEMIMAJOR_AXIS = 8809.87
PERIAPSIS_ALTITUDE = 330.3
PERIAPSIS_ARGUMENT_ANGLE = 319.68
PERIAPSIS_TIME = 2018-12-14T16:05:00.000Z
SPACECRAFT_ORIENTATION = (0.0,1.0,0.0)
^MEX_ORIENTATION_DESC = "MEX_ORIENTATION_DESC.TXT"
SPACECRAFT_POINTING_MODE = ACROSSTRACK
^MEX_POINTING_DESC = "MEX_POINTING_DESC.TXT"
RIGHT_ASCENSION = -1e+32
DECLINATION = -1e+32
OFFSET_ANGLE = 0.229
SPACECRAFT_SOLAR_DISTANCE = 2.14505e+08
TARGET_NAME = MARS
/* CAMERA DATA ELEMENTS */
DETECTOR_TEMPERATURE = 18.9822
FOCAL_PLANE_TEMPERATURE = 10.0106
INST_CMPRS_NAME = "DISCRETE COSINE TRANSFORMATION (DCT)"
INST_CMPRS_RATIO = 7.53774
INST_CMPRS_QUALITY = 0
INST_CMPRS_QUANTZ_TBL_ID = 0
INSTRUMENT_TEMPERATURE = 11.8457
LENS_TEMPERATURE = 11.4379
MACROPIXEL_SIZE = 2
MISSING_FRAMES = 0
PIXEL_SUBSAMPLING_FLAG = N
SIGNAL_CHAIN_ID = 1
/* RADIOMETRIC DATA ELEMENTS */
BANDWIDTH = 178.0
CENTER_FILTER_WAVELENGTH = 679.0
RADIANCE_OFFSET = 3.49591
RADIANCE_SCALING_FACTOR = 0.0226587
REFLECTANCE_SCALING_FACTOR = 0.000552127
MEX:REFLECTANCE_OFFSET = 0.0851854
/* IMAGE OBJECT DEFINITIONS */
OBJECT = IMAGE
  INTERCHANGE_FORMAT = BINARY
  LINES = 30182
  LINE_SAMPLES = 4154
  SAMPLE_TYPE = UNSIGNED_INTEGER
  SAMPLE_BITS = 8
  BANDS = 1
  BAND_STORAGE_TYPE = BAND_SEQUENTIAL
  MAXIMUM = 255
  MEAN = 166.385
  MINIMUM = 1
  STANDARD_DEVIATION = 25.2089
END_OBJECT = IMAGE
/* MAP OBJECT DEFINITIONS */
OBJECT = IMAGE_MAP_PROJECTION
  ^DATA_SET_MAP_PROJECTION_CATALOG= "DSMAP.CAT"
  A_AXIS_RADIUS = 3396.0
  B_AXIS_RADIUS = 3396.0
  C_AXIS_RADIUS = 3396.0
  CENTER_LATITUDE = 0.0
  CENTER_LONGITUDE = 25.0
  COORDINATE_SYSTEM_NAME = PLANETOGRAPHIC
  COORDINATE_SYSTEM_TYPE = "BODY-FIXED ROTATING"
  EASTERNMOST_LONGITUDE = 26.2955
  FIRST_STANDARD_PARALLEL = "N/A"
  LINE_FIRST_PIXEL = 1
  LINE_LAST_PIXEL = 30182
  LINE_PROJECTION_OFFSET = -95242.75
  MAP_PROJECTION_ROTATION = 0.0
  MAP_PROJECTION_TYPE = SINUSOIDAL
  MAP_RESOLUTION = 2370.85521546667
  MAP_SCALE = 0.025
  MAXIMUM_LATITUDE = -40.1981
  MINIMUM_LATITUDE = -53.0065
  POSITIVE_LONGITUDE_DIRECTION = EAST
  REFERENCE_LATITUDE = "N/A"
  REFERENCE_LONGITUDE = "N/A"
  SAMPLE_FIRST_PIXEL = 1
  SAMPLE_LAST_PIXEL = 4154
  SAMPLE_PROJECTION_OFFSET = 1818.25
  SECOND_STANDARD_PARALLEL = "N/A"
  WESTERNMOST_LONGITUDE = 23.685
END_OBJECT = IMAGE_MAP_PROJECTION
END
