PDS_VERSION_ID = PDS3
/* FILE DATA ELEMENTS */
RECORD_TYPE = UNDEFINED
/* POINTERS TO DATA OBJECTS */
^IMAGE = ("HI917_0000_GR4.TIF")
/* IDENTIFICATION DATA ELEMENTS */
DATA_SET_ID = "MEX-M-HRSC-4-REFDR-MAPPROJECT-EXT6-V4.0"
DATA_SET_NAME = "MARS EXPRESS HRSC MAP PROJECTED REFDR EXTENSION6 V4.0"
DETECTOR_ID = MEX_HRSC_GREEN
EVENT_TYPE = "MARS-REGIONAL-MAPPING-Te-Im-Fl"
INSTRUMENT_HOST_ID = MEX
INSTRUMENT_HOST_NAME = "MARS EXPRESS"
INSTRUMENT_ID = HRSC
INSTRUMENT_NAME = "HIGH RESOLUTION STEREO CAMERA"
MISSION_NAME = "MARS EXPRESS"
MISSION_PHASE_NAME = ME_Phase_39
PROCESSING_LEVEL_ID = 4
PRODUCT_CREATION_TIME = 2023-01-29T14:35:52.000Z
PRODUCT_ID = "HI917_0000_GR4.TIF"
RELEASE_ID = 0005
REVISION_ID = 0000
/* QUALITY DATA ELEMENTS */
DATA_QUALITY_ID = 1
DATA_QUALITY_DESC = "Data calculated based on original SPICE kernels"
/* TIME DATA ELEMENTS */
SPACECRAFT_CLOCK_START_COUNT = "1/0492908435.25681"
SPACECRAFT_CLOCK_STOP_COUNT = "1/0492908648.50233"
START_TIME = 2018-12-14T23:01:45.389Z
STOP_TIME = 2018-12-14T23:04:13.999Z
/* ORBITAL DATA ELEMENTS */
ASCENDING_NODE_LONGITUDE = 219.3
MAXIMUM_RESOLUTION = 0.0521
FOOTPRINT_POINT_LATITUDE = (-49.7457,-49.7325,-49.7107,-49.6967, -49.6962,-49.7026,-49.5065,-49.2123, -49.016,-48.722,-48.5256,-48.329, -48.0338,-47.8372,-47.6405,-47.3453, -47.1485,-46.9516,-46.7547,-46.5577, -46.2643,-46.0736,-45.8829,-45.6921, -45.5013,-45.215,-45.0241,-44.7377, -44.5467,-44.3556,-44.1645,-43.7827, -43.5914,-43.3048,-43.1137,-42.8269, -42.6356,-42.4443,-42.1577,-41.9663, -41.5845,-41.2982,-41.1061,-40.9149, -40.7238,-40.5326,-40.3415,-40.1504, -40.0548,-39.9894,-39.998,-40.0049, -40.0106,-40.0146,-40.0148,-40.0157, -40.303,-40.5903,-40.7818,-40.9733, -41.1649,-41.3567,-41.644,-41.8353, -42.0272,-42.3144,-42.5062,-42.6978, -42.8893,-43.1772,-43.3694,-43.5611, -43.9428,-44.1344,-44.326,-44.5175, -44.709,-44.9962,-45.1877,-45.4748, -45.6661,-45.8573,-46.0485,-46.2404, -46.4338,-46.7293,-46.9268,-47.1244, -47.4205,-47.6178,-47.8151,-48.1109, -48.4066,-48.7022,-48.8991,-49.1945, -49.3913,-49.5882,-49.6866,-49.7457)
FOOTPRINT_POINT_LONGITUDE = (284.187,283.593,282.813,282.388, 282.371,282.341,282.36,282.387,282.405, 282.43,282.447,282.465,282.491,282.507, 282.523,282.547,282.562,282.577,282.592 ,282.607,282.628,282.642,282.655, 282.668,282.681,282.7,282.712,282.731, 282.742,282.754,282.766,282.788,282.799 ,282.815,282.825,282.841,282.851, 282.861,282.875,282.885,282.901,282.913 ,282.924,282.933,282.941,282.949, 282.957,282.965,282.969,282.971,283.37, 283.742,284.115,284.432,284.446,284.45, 284.445,284.44,284.436,284.433,284.429, 284.426,284.42,284.416,284.413,284.407, 284.403,284.399,284.395,284.39,284.388, 284.384,284.371,284.367,284.363,284.359 ,284.354,284.348,284.343,284.336, 284.331,284.326,284.321,284.317,284.312 ,284.302,284.297,284.292,284.283, 284.277,284.272,284.263,284.254,284.244 ,284.238,284.228,284.222,284.215, 284.212,284.187)
ORBIT_NUMBER = 18917
ORBITAL_ECCENTRICITY = 0.578
ORBITAL_INCLINATION = 86.96
ORBITAL_SEMIMAJOR_AXIS = 8809.69
PERIAPSIS_ALTITUDE = 329.97
PERIAPSIS_ARGUMENT_ANGLE = 319.52
PERIAPSIS_TIME = 2018-12-14T23:04:04.000Z
SPACECRAFT_ORIENTATION = (0.0,1.0,0.0)
^MEX_ORIENTATION_DESC = "MEX_ORIENTATION_DESC.TXT"
SPACECRAFT_POINTING_MODE = NADIR
^MEX_POINTING_DESC = "MEX_POINTING_DESC.TXT"
RIGHT_ASCENSION = -1e+32
DECLINATION = -1e+32
OFFSET_ANGLE = -1e+32
SPACECRAFT_SOLAR_DISTANCE = 2.14552e+08
TARGET_NAME = MARS
/* CAMERA DATA ELEMENTS */
DETECTOR_TEMPERATURE = 18.7783
FOCAL_PLANE_TEMPERATURE = 9.6028
INST_CMPRS_NAME = "DISCRETE COSINE TRANSFORMATION (DCT)"
INST_CMPRS_RATIO = 10.243
INST_CMPRS_QUALITY = 0
INST_CMPRS_QUANTZ_TBL_ID = 0
INSTRUMENT_TEMPERATURE = 12.2535
LENS_TEMPERATURE = 10.2145
MACROPIXEL_SIZE = 4
MISSING_FRAMES = 0
PIXEL_SUBSAMPLING_FLAG = N
SIGNAL_CHAIN_ID = 2
/* RADIOMETRIC DATA ELEMENTS */
BANDWIDTH = 88.0
CENTER_FILTER_WAVELENGTH = 538.0
RADIANCE_OFFSET = 1.6057
RADIANCE_SCALING_FACTOR = 0.00366364
REFLECTANCE_SCALING_FACTOR = 0.000145199
MEX:REFLECTANCE_OFFSET = 0.0636382
/* IMAGE OBJECT DEFINITIONS */
OBJECT = IMAGE
  INTERCHANGE_FORMAT = BINARY
  LINES = 11576
  LINE_SAMPLES = 1692
  SAMPLE_TYPE = UNSIGNED_INTEGER
  SAMPLE_BITS = 8
  BANDS = 1
  BAND_STORAGE_TYPE = BAND_SEQUENTIAL
  MAXIMUM = 255
  MEAN = 161.117
  MINIMUM = 1
  STANDARD_DEVIATION = 24.8411
END_OBJECT = IMAGE
/* MAP OBJECT DEFINITIONS */
OBJECT = IMAGE_MAP_PROJECTION
  ^DATA_SET_MAP_PROJECTION_CATALOG= "DSMAP.CAT"
  A_AXIS_RADIUS = 3396.0
  B_AXIS_RADIUS = 3396.0
  C_AXIS_RADIUS = 3396.0
  CENTER_LATITUDE = 0.0
  CENTER_LONGITUDE = 284.0
  COORDINATE_SYSTEM_NAME = PLANETOGRAPHIC
  COORDINATE_SYSTEM_TYPE = "BODY-FIXED ROTATING"
  EASTERNMOST_LONGITUDE = 284.45
  FIRST_STANDARD_PARALLEL = "N/A"
  LINE_FIRST_PIXEL = 1
  LINE_LAST_PIXEL = 11576
  LINE_PROJECTION_OFFSET = -47415.125
  MAP_PROJECTION_ROTATION = 0.0
  MAP_PROJECTION_TYPE = SINUSOIDAL
  MAP_RESOLUTION = 1185.42760773333
  MAP_SCALE = 0.05
  MAXIMUM_LATITUDE = -39.9894
  MINIMUM_LATITUDE = -49.7457
  POSITIVE_LONGITUDE_DIRECTION = EAST
  REFERENCE_LATITUDE = "N/A"
  REFERENCE_LONGITUDE = "N/A"
  SAMPLE_FIRST_PIXEL = 1
  SAMPLE_LAST_PIXEL = 1692
  SAMPLE_PROJECTION_OFFSET = 1282.125
  SECOND_STANDARD_PARALLEL = "N/A"
  WESTERNMOST_LONGITUDE = 282.341
END_OBJECT = IMAGE_MAP_PROJECTION
END
