PDS_VERSION_ID = PDS3
/* FILE DATA ELEMENTS */
RECORD_TYPE = UNDEFINED
/* POINTERS TO DATA OBJECTS */
^IMAGE = ("HI918_0000_ND4.TIF")
/* IDENTIFICATION DATA ELEMENTS */
DATA_SET_ID = "MEX-M-HRSC-4-REFDR-MAPPROJECT-EXT6-V4.0"
DATA_SET_NAME = "MARS EXPRESS HRSC MAP PROJECTED REFDR EXTENSION6 V4.0"
DETECTOR_ID = MEX_HRSC_NADIR
EVENT_TYPE = "MARS-REGIONAL-MAPPING-Te-Im-Fl"
INSTRUMENT_HOST_ID = MEX
INSTRUMENT_HOST_NAME = "MARS EXPRESS"
INSTRUMENT_ID = HRSC
INSTRUMENT_NAME = "HIGH RESOLUTION STEREO CAMERA"
MISSION_NAME = "MARS EXPRESS"
MISSION_PHASE_NAME = ME_Phase_39
PROCESSING_LEVEL_ID = 4
PRODUCT_CREATION_TIME = 2023-01-29T14:35:52.000Z
PRODUCT_ID = "HI918_0000_ND4.TIF"
RELEASE_ID = 0005
REVISION_ID = 0000
/* QUALITY DATA ELEMENTS */
DATA_QUALITY_ID = 1
DATA_QUALITY_DESC = "Data calculated based on original SPICE kernels"
/* TIME DATA ELEMENTS */
SPACECRAFT_CLOCK_START_COUNT = "1/0492933559.25682"
SPACECRAFT_CLOCK_STOP_COUNT = "1/0492933736.15231"
START_TIME = 2018-12-15T06:00:24.348Z
STOP_TIME = 2018-12-15T06:02:16.335Z
/* ORBITAL DATA ELEMENTS */
ASCENDING_NODE_LONGITUDE = 219.28
MAXIMUM_RESOLUTION = 0.0132
FOOTPRINT_POINT_LATITUDE = (-50.673,-50.6592,-50.6462,-50.6365, -50.6214,-50.6208,-50.6181,-50.4721, -50.3261,-50.18,-50.0338,-49.8876, -49.7412,-49.5949,-49.4485,-49.3021, -49.1556,-49.0094,-48.8628,-48.7162, -48.5695,-48.4228,-48.276,-48.1292, -47.9824,-47.8355,-47.6885,-47.5416, -47.3946,-47.174,-47.0269,-46.8798, -46.7326,-46.5117,-46.3645,-46.2172, -46.0698,-45.7845,-45.499,-45.2134, -44.9278,-44.642,-44.3562,-44.0703, -43.7842,-43.4265,-43.355,-43.337, -43.3428,-43.3495,-43.355,-43.3611, -43.3689,-43.3691,-43.3694,-43.5845, -43.7279,-43.8713,-44.0146,-44.158, -44.3013,-44.4446,-44.5879,-44.8027, -44.946,-45.2324,-45.5187,-45.8049, -46.091,-46.2382,-46.3859,-46.5336, -46.6813,-46.8289,-46.9765,-47.1241, -47.2717,-47.4929,-47.7141,-47.8615, -48.0088,-48.1562,-48.3035,-48.4507, -48.5979,-48.745,-48.9657,-49.1127, -49.2597,-49.4067,-49.5536,-49.7005, -49.8473,-49.9941,-50.1409,-50.2875, -50.4342,-50.5807,-50.654,-50.673)
FOOTPRINT_POINT_LONGITUDE = (182.058,181.443,180.958,180.642, 180.195,180.176,180.138,180.153,180.167 ,180.183,180.197,180.211,180.223, 180.237,180.251,180.264,180.278,180.295 ,180.308,180.321,180.333,180.346, 180.359,180.371,180.383,180.395,180.407 ,180.419,180.431,180.448,180.459, 180.471,180.483,180.498,180.509,180.52, 180.53,180.549,180.568,180.586,180.604, 180.622,180.639,180.656,180.67,180.69, 180.694,180.695,180.915,181.199,181.45, 181.764,182.266,182.282,182.29,182.285, 182.282,182.279,182.276,182.272,182.269 ,182.266,182.263,182.258,182.254, 182.247,182.24,182.232,182.224,182.219, 182.215,182.212,182.209,182.204,182.2, 182.196,182.192,182.186,182.18,182.175, 182.171,182.166,182.162,182.157,182.153 ,182.15,182.143,182.139,182.134,182.13, 182.125,182.12,182.115,182.111,182.105, 182.101,182.096,182.091,182.088, 182.058)
ORBIT_NUMBER = 18918
ORBITAL_ECCENTRICITY = 0.578
ORBITAL_INCLINATION = 86.97
ORBITAL_SEMIMAJOR_AXIS = 8804.53
PERIAPSIS_ALTITUDE = 330.26
PERIAPSIS_ARGUMENT_ANGLE = 319.34
PERIAPSIS_TIME = 2018-12-15T06:02:59.000Z
SPACECRAFT_ORIENTATION = (0.0,1.0,0.0)
^MEX_ORIENTATION_DESC = "MEX_ORIENTATION_DESC.TXT"
SPACECRAFT_POINTING_MODE = NADIR
^MEX_POINTING_DESC = "MEX_POINTING_DESC.TXT"
RIGHT_ASCENSION = -1e+32
DECLINATION = -1e+32
OFFSET_ANGLE = -1e+32
SPACECRAFT_SOLAR_DISTANCE = 2.14599e+08
TARGET_NAME = MARS
/* CAMERA DATA ELEMENTS */
DETECTOR_TEMPERATURE = 18.5744
FOCAL_PLANE_TEMPERATURE = 10.2145
INST_CMPRS_NAME = "DISCRETE COSINE TRANSFORMATION (DCT)"
INST_CMPRS_RATIO = 5.79795
INST_CMPRS_QUALITY = 0
INST_CMPRS_QUANTZ_TBL_ID = 0
INSTRUMENT_TEMPERATURE = 12.6613
LENS_TEMPERATURE = 10.6223
MACROPIXEL_SIZE = 1
MISSING_FRAMES = 0
PIXEL_SUBSAMPLING_FLAG = N
SIGNAL_CHAIN_ID = 0
/* RADIOMETRIC DATA ELEMENTS */
BANDWIDTH = 177.0
CENTER_FILTER_WAVELENGTH = 677.5
RADIANCE_OFFSET = 3.29098
RADIANCE_SCALING_FACTOR = 0.0258116
REFLECTANCE_SCALING_FACTOR = 0.00063147
MEX:REFLECTANCE_OFFSET = 0.0805124
/* IMAGE OBJECT DEFINITIONS */
OBJECT = IMAGE
  INTERCHANGE_FORMAT = BINARY
  LINES = 34783
  LINE_SAMPLES = 7041
  SAMPLE_TYPE = UNSIGNED_INTEGER
  SAMPLE_BITS = 8
  BANDS = 1
  BAND_STORAGE_TYPE = BAND_SEQUENTIAL
  MAXIMUM = 255
  MEAN = 143.076
  MINIMUM = 1
  STANDARD_DEVIATION = 39.7492
END_OBJECT = IMAGE
/* MAP OBJECT DEFINITIONS */
OBJECT = IMAGE_MAP_PROJECTION
  ^DATA_SET_MAP_PROJECTION_CATALOG= "DSMAP.CAT"
  A_AXIS_RADIUS = 3396.0
  B_AXIS_RADIUS = 3396.0
  C_AXIS_RADIUS = 3396.0
  CENTER_LATITUDE = 0.0
  CENTER_LONGITUDE = 181.0
  COORDINATE_SYSTEM_NAME = PLANETOGRAPHIC
  COORDINATE_SYSTEM_TYPE = "BODY-FIXED ROTATING"
  EASTERNMOST_LONGITUDE = 182.29
  FIRST_STANDARD_PARALLEL = "N/A"
  LINE_FIRST_PIXEL = 1
  LINE_LAST_PIXEL = 34783
  LINE_PROJECTION_OFFSET = -205493.0
  MAP_PROJECTION_ROTATION = 0.0
  MAP_PROJECTION_TYPE = SINUSOIDAL
  MAP_RESOLUTION = 4741.71043093333
  MAP_SCALE = 0.0125
  MAXIMUM_LATITUDE = -43.337
  MINIMUM_LATITUDE = -50.673
  POSITIVE_LONGITUDE_DIRECTION = EAST
  REFERENCE_LATITUDE = "N/A"
  REFERENCE_LONGITUDE = "N/A"
  SAMPLE_FIRST_PIXEL = 1
  SAMPLE_LAST_PIXEL = 7041
  SAMPLE_PROJECTION_OFFSET = 2594.0
  SECOND_STANDARD_PARALLEL = "N/A"
  WESTERNMOST_LONGITUDE = 180.138
END_OBJECT = IMAGE_MAP_PROJECTION
END
