PDS_VERSION_ID = PDS3
/* FILE DATA ELEMENTS */
RECORD_TYPE = UNDEFINED
/* POINTERS TO DATA OBJECTS */
^IMAGE = ("HI924_0000_BL4.TIF")
/* IDENTIFICATION DATA ELEMENTS */
DATA_SET_ID = "MEX-M-HRSC-4-REFDR-MAPPROJECT-EXT6-V4.0"
DATA_SET_NAME = "MARS EXPRESS HRSC MAP PROJECTED REFDR EXTENSION6 V4.0"
DETECTOR_ID = MEX_HRSC_BLUE
EVENT_TYPE = "MARS-REGIONAL-MAPPING-Te-Im-Ot"
INSTRUMENT_HOST_ID = MEX
INSTRUMENT_HOST_NAME = "MARS EXPRESS"
INSTRUMENT_ID = HRSC
INSTRUMENT_NAME = "HIGH RESOLUTION STEREO CAMERA"
MISSION_NAME = "MARS EXPRESS"
MISSION_PHASE_NAME = ME_Phase_39
PROCESSING_LEVEL_ID = 4
PRODUCT_CREATION_TIME = 2023-01-29T14:35:52.000Z
PRODUCT_ID = "HI924_0000_BL4.TIF"
RELEASE_ID = 0005
REVISION_ID = 0000
/* QUALITY DATA ELEMENTS */
DATA_QUALITY_ID = 1
DATA_QUALITY_DESC = "Data calculated based on original SPICE kernels"
/* TIME DATA ELEMENTS */
SPACECRAFT_CLOCK_START_COUNT = "1/0493084330.23982"
SPACECRAFT_CLOCK_STOP_COUNT = "1/0493084566.00116"
START_TIME = 2018-12-16T23:53:12.336Z
STOP_TIME = 2018-12-16T23:56:01.262Z
/* ORBITAL DATA ELEMENTS */
ASCENDING_NODE_LONGITUDE = 219.17
MAXIMUM_RESOLUTION = 0.0527
FOOTPRINT_POINT_LATITUDE = (-55.7514,-55.7417,-55.7256,-55.7122, -55.677,-55.6761,-55.6598,-55.4102, -55.16,-54.91,-54.6596,-54.4091,-54.158 ,-53.9224,-53.6065,-53.185,-52.7631, -52.5517,-52.3401,-52.1284,-51.9167, -51.7047,-51.4924,-51.28,-51.0677, -50.8552,-50.6426,-50.4296,-50.2167, -50.0035,-49.79,-49.5763,-49.363, -49.1492,-48.9354,-48.7214,-48.5072, -48.293,-48.0787,-47.8644,-47.5428, -47.3283,-47.1134,-46.8987,-46.6866, -46.3745,-46.0625,-45.6464,-45.3335, -44.9159,-44.8115,-44.7898,-44.7995, -44.8125,-44.8198,-44.8256,-44.8258, -44.8267,-45.1407,-45.5588,-45.8724, -46.2894,-46.7051,-46.9171,-47.1326, -47.3491,-47.5658,-47.8883,-48.1033, -48.318,-48.64,-48.9618,-49.1763, -49.3909,-49.7126,-49.9272,-50.1412, -50.3551,-50.5688,-50.9934,-51.2067, -51.5266,-51.7396,-52.06,-52.2738, -52.4864,-52.6986,-52.9109,-53.1234, -53.3357,-53.5477,-53.9715,-54.2042, -54.5807,-54.8324,-55.0839,-55.3372, -55.5885,-55.7139,-55.7514)
FOOTPRINT_POINT_LONGITUDE = (289.037,288.658,288.112,287.714, 286.813,286.792,286.751,286.789,286.826 ,286.862,286.898,286.934,286.968,287.0, 287.042,287.097,287.151,287.177,287.202 ,287.227,287.251,287.275,287.299, 287.322,287.345,287.368,287.39,287.412, 287.433,287.454,287.474,287.494,287.514 ,287.534,287.553,287.571,287.589, 287.607,287.625,287.643,287.669,287.686 ,287.702,287.719,287.734,287.757,287.78 ,287.809,287.83,287.855,287.862,287.863 ,288.208,288.72,289.096,289.458,289.473 ,289.478,289.47,289.459,289.451,289.441 ,289.433,289.428,289.421,289.412, 289.402,289.393,289.387,289.38,289.371, 289.361,289.354,289.346,289.334,289.326 ,289.318,289.31,289.303,289.294,289.286 ,289.274,289.266,289.25,289.239,289.23, 289.222,289.213,289.203,289.193,289.183 ,289.162,289.151,289.138,289.126, 289.113,289.094,289.08,289.074,289.037)
ORBIT_NUMBER = 18924
ORBITAL_ECCENTRICITY = 0.578
ORBITAL_INCLINATION = 86.96
ORBITAL_SEMIMAJOR_AXIS = 8806.88
PERIAPSIS_ALTITUDE = 329.77
PERIAPSIS_ARGUMENT_ANGLE = 318.32
PERIAPSIS_TIME = 2018-12-16T23:56:56.000Z
SPACECRAFT_ORIENTATION = (0.0,1.0,0.0)
^MEX_ORIENTATION_DESC = "MEX_ORIENTATION_DESC.TXT"
SPACECRAFT_POINTING_MODE = NADIR
^MEX_POINTING_DESC = "MEX_POINTING_DESC.TXT"
RIGHT_ASCENSION = -1e+32
DECLINATION = -1e+32
OFFSET_ANGLE = -1e+32
SPACECRAFT_SOLAR_DISTANCE = 2.14882e+08
TARGET_NAME = MARS
/* CAMERA DATA ELEMENTS */
DETECTOR_TEMPERATURE = 18.9822
FOCAL_PLANE_TEMPERATURE = 9.8067
INST_CMPRS_NAME = "DISCRETE COSINE TRANSFORMATION (DCT)"
INST_CMPRS_RATIO = 7.71958
INST_CMPRS_QUALITY = 0
INST_CMPRS_QUANTZ_TBL_ID = 0
INSTRUMENT_TEMPERATURE = 12.6613
LENS_TEMPERATURE = 10.2145
MACROPIXEL_SIZE = 4
MISSING_FRAMES = 0
PIXEL_SUBSAMPLING_FLAG = N
SIGNAL_CHAIN_ID = 2
/* RADIOMETRIC DATA ELEMENTS */
BANDWIDTH = 76.0
CENTER_FILTER_WAVELENGTH = 444.0
RADIANCE_OFFSET = 0.683542
RADIANCE_SCALING_FACTOR = 0.00119714
REFLECTANCE_SCALING_FACTOR = 5.67936e-05
MEX:REFLECTANCE_OFFSET = 0.0324279
/* IMAGE OBJECT DEFINITIONS */
OBJECT = IMAGE
  INTERCHANGE_FORMAT = BINARY
  LINES = 12971
  LINE_SAMPLES = 2082
  SAMPLE_TYPE = UNSIGNED_INTEGER
  SAMPLE_BITS = 8
  BANDS = 1
  BAND_STORAGE_TYPE = BAND_SEQUENTIAL
  MAXIMUM = 255
  MEAN = 144.847
  MINIMUM = 1
  STANDARD_DEVIATION = 27.3112
END_OBJECT = IMAGE
/* MAP OBJECT DEFINITIONS */
OBJECT = IMAGE_MAP_PROJECTION
  ^DATA_SET_MAP_PROJECTION_CATALOG= "DSMAP.CAT"
  A_AXIS_RADIUS = 3396.0
  B_AXIS_RADIUS = 3396.0
  C_AXIS_RADIUS = 3396.0
  CENTER_LATITUDE = 0.0
  CENTER_LONGITUDE = 288.0
  COORDINATE_SYSTEM_NAME = PLANETOGRAPHIC
  COORDINATE_SYSTEM_TYPE = "BODY-FIXED ROTATING"
  EASTERNMOST_LONGITUDE = 289.478
  FIRST_STANDARD_PARALLEL = "N/A"
  LINE_FIRST_PIXEL = 1
  LINE_LAST_PIXEL = 12971
  LINE_PROJECTION_OFFSET = -53099.125
  MAP_PROJECTION_ROTATION = 0.0
  MAP_PROJECTION_TYPE = SINUSOIDAL
  MAP_RESOLUTION = 1185.42760773333
  MAP_SCALE = 0.05
  MAXIMUM_LATITUDE = -44.7898
  MINIMUM_LATITUDE = -55.7514
  POSITIVE_LONGITUDE_DIRECTION = EAST
  REFERENCE_LATITUDE = "N/A"
  REFERENCE_LONGITUDE = "N/A"
  SAMPLE_FIRST_PIXEL = 1
  SAMPLE_LAST_PIXEL = 2082
  SAMPLE_PROJECTION_OFFSET = 839.875
  SECOND_STANDARD_PARALLEL = "N/A"
  WESTERNMOST_LONGITUDE = 286.751
END_OBJECT = IMAGE_MAP_PROJECTION
END
