PDS_VERSION_ID = PDS3
/* FILE DATA ELEMENTS */
RECORD_TYPE = UNDEFINED
/* POINTERS TO DATA OBJECTS */
^IMAGE = ("HI924_0000_ND4.TIF")
/* IDENTIFICATION DATA ELEMENTS */
DATA_SET_ID = "MEX-M-HRSC-4-REFDR-MAPPROJECT-EXT6-V4.0"
DATA_SET_NAME = "MARS EXPRESS HRSC MAP PROJECTED REFDR EXTENSION6 V4.0"
DETECTOR_ID = MEX_HRSC_NADIR
EVENT_TYPE = "MARS-REGIONAL-MAPPING-Te-Im-Ot"
INSTRUMENT_HOST_ID = MEX
INSTRUMENT_HOST_NAME = "MARS EXPRESS"
INSTRUMENT_ID = HRSC
INSTRUMENT_NAME = "HIGH RESOLUTION STEREO CAMERA"
MISSION_NAME = "MARS EXPRESS"
MISSION_PHASE_NAME = ME_Phase_39
PROCESSING_LEVEL_ID = 4
PRODUCT_CREATION_TIME = 2023-01-29T14:35:52.000Z
PRODUCT_ID = "HI924_0000_ND4.TIF"
RELEASE_ID = 0005
REVISION_ID = 0000
/* QUALITY DATA ELEMENTS */
DATA_QUALITY_ID = 1
DATA_QUALITY_DESC = "Data calculated based on original SPICE kernels"
/* TIME DATA ELEMENTS */
SPACECRAFT_CLOCK_START_COUNT = "1/0493084330.23982"
SPACECRAFT_CLOCK_STOP_COUNT = "1/0493084566.00116"
START_TIME = 2018-12-16T23:53:18.214Z
STOP_TIME = 2018-12-16T23:56:06.192Z
/* ORBITAL DATA ELEMENTS */
ASCENDING_NODE_LONGITUDE = 219.17
MAXIMUM_RESOLUTION = 0.0131
FOOTPRINT_POINT_LATITUDE = (-55.735,-55.7152,-55.6966,-55.6618, -55.6608,-55.6573,-55.4052,-55.1529, -54.9004,-54.6476,-54.2835,-53.859, -53.6465,-53.4339,-53.2212,-53.0083, -52.7952,-52.5821,-52.3687,-52.1553, -51.9417,-51.728,-51.5142,-51.3002, -51.0861,-50.872,-50.6577,-50.4432, -50.2287,-50.0141,-49.7993,-49.5844, -49.3694,-49.1544,-48.9392,-48.724, -48.5086,-48.2932,-48.0776,-47.862, -47.6464,-47.4306,-47.0021,-46.584, -46.1657,-45.7472,-45.3284,-44.9094, -44.8046,-44.7925,-44.8089,-44.8193, -44.8278,-44.828,-44.8283,-45.2485, -45.6684,-46.0882,-46.4028,-46.7173, -47.1366,-47.3531,-47.6777,-47.8941, -48.1103,-48.3265,-48.5426,-48.7587, -48.9746,-49.1905,-49.4063,-49.622, -49.8377,-50.0532,-50.2687,-50.484, -50.6992,-50.9143,-51.1293,-51.3443, -51.5591,-51.7738,-51.9884,-52.203, -52.4174,-52.6316,-52.8458,-53.0598, -53.2737,-53.4875,-53.7012,-53.9147, -54.1281,-54.3413,-54.7049,-54.959, -55.2129,-55.5933,-55.72,-55.735)
FOOTPRINT_POINT_LONGITUDE = (289.03,288.298,287.722,286.814,286.792 ,286.743,286.782,286.819,286.856, 286.892,286.943,287.001,287.029,287.057 ,287.084,287.112,287.138,287.164,287.19 ,287.215,287.24,287.264,287.288,287.311 ,287.335,287.357,287.38,287.402,287.424 ,287.445,287.465,287.484,287.505, 287.524,287.544,287.562,287.581,287.599 ,287.617,287.634,287.652,287.669, 287.702,287.733,287.763,287.793,287.821 ,287.847,287.853,287.854,288.477, 288.956,289.453,289.469,289.477,289.465 ,289.454,289.443,289.435,289.431, 289.418,289.407,289.397,289.39,289.383, 289.377,289.37,289.363,289.357,289.35, 289.342,289.334,289.325,289.317,289.309 ,289.302,289.295,289.292,289.285, 289.276,289.268,289.26,289.249,289.236, 289.227,289.219,289.21,289.2,289.189, 289.179,289.169,289.158,289.148,289.142 ,289.125,289.112,289.097,289.072, 289.066,289.03)
ORBIT_NUMBER = 18924
ORBITAL_ECCENTRICITY = 0.578
ORBITAL_INCLINATION = 86.96
ORBITAL_SEMIMAJOR_AXIS = 8806.88
PERIAPSIS_ALTITUDE = 329.77
PERIAPSIS_ARGUMENT_ANGLE = 318.32
PERIAPSIS_TIME = 2018-12-16T23:56:56.000Z
SPACECRAFT_ORIENTATION = (0.0,1.0,0.0)
^MEX_ORIENTATION_DESC = "MEX_ORIENTATION_DESC.TXT"
SPACECRAFT_POINTING_MODE = NADIR
^MEX_POINTING_DESC = "MEX_POINTING_DESC.TXT"
RIGHT_ASCENSION = -1e+32
DECLINATION = -1e+32
OFFSET_ANGLE = -1e+32
SPACECRAFT_SOLAR_DISTANCE = 2.14882e+08
TARGET_NAME = MARS
/* CAMERA DATA ELEMENTS */
DETECTOR_TEMPERATURE = 18.9822
FOCAL_PLANE_TEMPERATURE = 9.8067
INST_CMPRS_NAME = "DISCRETE COSINE TRANSFORMATION (DCT)"
INST_CMPRS_RATIO = 5.90018
INST_CMPRS_QUALITY = 0
INST_CMPRS_QUANTZ_TBL_ID = 0
INSTRUMENT_TEMPERATURE = 12.6613
LENS_TEMPERATURE = 10.2145
MACROPIXEL_SIZE = 1
MISSING_FRAMES = 0
PIXEL_SUBSAMPLING_FLAG = N
SIGNAL_CHAIN_ID = 0
/* RADIOMETRIC DATA ELEMENTS */
BANDWIDTH = 177.0
CENTER_FILTER_WAVELENGTH = 677.5
RADIANCE_OFFSET = 3.8681
RADIANCE_SCALING_FACTOR = 0.0147898
REFLECTANCE_SCALING_FACTOR = 0.000362779
MEX:REFLECTANCE_OFFSET = 0.0948808
/* IMAGE OBJECT DEFINITIONS */
OBJECT = IMAGE
  INTERCHANGE_FORMAT = BINARY
  LINES = 51884
  LINE_SAMPLES = 8328
  SAMPLE_TYPE = UNSIGNED_INTEGER
  SAMPLE_BITS = 8
  BANDS = 1
  BAND_STORAGE_TYPE = BAND_SEQUENTIAL
  MAXIMUM = 255
  MEAN = 155.979
  MINIMUM = 1
  STANDARD_DEVIATION = 27.8023
END_OBJECT = IMAGE
/* MAP OBJECT DEFINITIONS */
OBJECT = IMAGE_MAP_PROJECTION
  ^DATA_SET_MAP_PROJECTION_CATALOG= "DSMAP.CAT"
  A_AXIS_RADIUS = 3396.0
  B_AXIS_RADIUS = 3396.0
  C_AXIS_RADIUS = 3396.0
  CENTER_LATITUDE = 0.0
  CENTER_LONGITUDE = 288.0
  COORDINATE_SYSTEM_NAME = PLANETOGRAPHIC
  COORDINATE_SYSTEM_TYPE = "BODY-FIXED ROTATING"
  EASTERNMOST_LONGITUDE = 289.477
  FIRST_STANDARD_PARALLEL = "N/A"
  LINE_FIRST_PIXEL = 1
  LINE_LAST_PIXEL = 51884
  LINE_PROJECTION_OFFSET = -212395.0
  MAP_PROJECTION_ROTATION = 0.0
  MAP_PROJECTION_TYPE = SINUSOIDAL
  MAP_RESOLUTION = 4741.71043093333
  MAP_SCALE = 0.0125
  MAXIMUM_LATITUDE = -44.7925
  MINIMUM_LATITUDE = -55.735
  POSITIVE_LONGITUDE_DIRECTION = EAST
  REFERENCE_LATITUDE = "N/A"
  REFERENCE_LONGITUDE = "N/A"
  SAMPLE_FIRST_PIXEL = 1
  SAMPLE_LAST_PIXEL = 8328
  SAMPLE_PROJECTION_OFFSET = 3361.0
  SECOND_STANDARD_PARALLEL = "N/A"
  WESTERNMOST_LONGITUDE = 286.743
END_OBJECT = IMAGE_MAP_PROJECTION
END
