PDS_VERSION_ID = PDS3
/* FILE DATA ELEMENTS */
RECORD_TYPE = UNDEFINED
/* POINTERS TO DATA OBJECTS */
^IMAGE = ("HI924_0000_S24.TIF")
/* IDENTIFICATION DATA ELEMENTS */
DATA_SET_ID = "MEX-M-HRSC-4-REFDR-MAPPROJECT-EXT6-V4.0"
DATA_SET_NAME = "MARS EXPRESS HRSC MAP PROJECTED REFDR EXTENSION6 V4.0"
DETECTOR_ID = MEX_HRSC_S2
EVENT_TYPE = "MARS-REGIONAL-MAPPING-Te-Im-Ot"
INSTRUMENT_HOST_ID = MEX
INSTRUMENT_HOST_NAME = "MARS EXPRESS"
INSTRUMENT_ID = HRSC
INSTRUMENT_NAME = "HIGH RESOLUTION STEREO CAMERA"
MISSION_NAME = "MARS EXPRESS"
MISSION_PHASE_NAME = ME_Phase_39
PROCESSING_LEVEL_ID = 4
PRODUCT_CREATION_TIME = 2023-01-29T14:35:52.000Z
PRODUCT_ID = "HI924_0000_S24.TIF"
RELEASE_ID = 0005
REVISION_ID = 0000
/* QUALITY DATA ELEMENTS */
DATA_QUALITY_ID = 1
DATA_QUALITY_DESC = "Data calculated based on original SPICE kernels"
/* TIME DATA ELEMENTS */
SPACECRAFT_CLOCK_START_COUNT = "1/0493084330.23982"
SPACECRAFT_CLOCK_STOP_COUNT = "1/0493084566.00116"
START_TIME = 2018-12-16T23:52:42.091Z
STOP_TIME = 2018-12-16T23:55:36.080Z
/* ORBITAL DATA ELEMENTS */
ASCENDING_NODE_LONGITUDE = 219.17
MAXIMUM_RESOLUTION = 0.0283
FOOTPRINT_POINT_LATITUDE = (-55.8314,-55.8177,-55.8065,-55.7835, -55.7685,-55.7488,-55.7477,-55.6709, -55.3139,-54.9561,-54.597,-54.3587, -54.1178,-53.8781,-53.6379,-53.3978, -53.0372,-52.797,-52.5553,-52.3132, -52.0962,-51.6896,-51.2803,-50.8719, -50.5651,-50.2568,-49.9472,-49.7399, -49.5321,-49.3264,-49.119,-48.9114, -48.7032,-48.4948,-48.2863,-48.0776, -47.8692,-47.5574,-47.2435,-47.0338, -46.7198,-46.5102,-46.1966,-45.9876, -45.7783,-45.5676,-45.3555,-45.1441, -44.9384,-44.8355,-44.8149,-44.8427, -44.8484,-44.854,-44.8542,-44.8545, -45.163,-45.3734,-45.5854,-45.798, -46.008,-46.2166,-46.6285,-46.8385, -47.0484,-47.3704,-47.5877,-47.7959, -48.0041,-48.214,-48.4217,-48.6299, -48.8373,-49.045,-49.2536,-49.5662, -49.7757,-49.9844,-50.1912,-50.5007, -50.901,-51.3111,-51.7196,-52.033, -52.243,-52.4772,-52.7187,-52.9623, -53.2073,-53.4507,-53.6946,-53.9374, -54.1792,-54.4109,-54.6506,-55.0102, -55.2579,-55.6204,-55.7396,-55.8314)
FOOTPRINT_POINT_LONGITUDE = (289.085,288.557,288.191,287.55,287.184 ,286.75,286.727,286.691,286.747,286.802 ,286.855,286.89,286.923,286.957,286.99, 287.023,287.07,287.102,287.132,287.162, 287.189,287.237,287.283,287.329,287.362 ,287.394,287.425,287.445,287.465, 287.485,287.505,287.524,287.542,287.561 ,287.579,287.597,287.614,287.641, 287.666,287.682,287.707,287.723,287.746 ,287.762,287.778,287.792,287.806,287.82 ,287.833,287.84,287.841,288.687,289.007 ,289.471,289.487,289.493,289.486, 289.481,289.476,289.47,289.466,289.461, 289.455,289.45,289.445,289.433,289.424, 289.419,289.414,289.407,289.402,289.396 ,289.39,289.385,289.378,289.368,289.36, 289.353,289.347,289.337,289.329,289.316 ,289.303,289.288,289.278,289.269, 289.261,289.251,289.24,289.23,289.219, 289.209,289.198,289.193,289.183,289.168 ,289.152,289.133,289.127,289.085)
ORBIT_NUMBER = 18924
ORBITAL_ECCENTRICITY = 0.578
ORBITAL_INCLINATION = 86.96
ORBITAL_SEMIMAJOR_AXIS = 8806.88
PERIAPSIS_ALTITUDE = 329.77
PERIAPSIS_ARGUMENT_ANGLE = 318.32
PERIAPSIS_TIME = 2018-12-16T23:56:56.000Z
SPACECRAFT_ORIENTATION = (0.0,1.0,0.0)
^MEX_ORIENTATION_DESC = "MEX_ORIENTATION_DESC.TXT"
SPACECRAFT_POINTING_MODE = NADIR
^MEX_POINTING_DESC = "MEX_POINTING_DESC.TXT"
RIGHT_ASCENSION = -1e+32
DECLINATION = -1e+32
OFFSET_ANGLE = -1e+32
SPACECRAFT_SOLAR_DISTANCE = 2.14882e+08
TARGET_NAME = MARS
/* CAMERA DATA ELEMENTS */
DETECTOR_TEMPERATURE = 20.0017
FOCAL_PLANE_TEMPERATURE = 9.8067
INST_CMPRS_NAME = "DISCRETE COSINE TRANSFORMATION (DCT)"
INST_CMPRS_RATIO = 11.3168
INST_CMPRS_QUALITY = 0
INST_CMPRS_QUANTZ_TBL_ID = 0
INSTRUMENT_TEMPERATURE = 12.6613
LENS_TEMPERATURE = 10.2145
MACROPIXEL_SIZE = 2
MISSING_FRAMES = 0
PIXEL_SUBSAMPLING_FLAG = N
SIGNAL_CHAIN_ID = 1
/* RADIOMETRIC DATA ELEMENTS */
BANDWIDTH = 178.0
CENTER_FILTER_WAVELENGTH = 679.0
RADIANCE_OFFSET = 4.36989
RADIANCE_SCALING_FACTOR = 0.0148519
REFLECTANCE_SCALING_FACTOR = 0.000363168
MEX:REFLECTANCE_OFFSET = 0.106855
/* IMAGE OBJECT DEFINITIONS */
OBJECT = IMAGE
  INTERCHANGE_FORMAT = BINARY
  LINES = 25942
  LINE_SAMPLES = 4164
  SAMPLE_TYPE = UNSIGNED_INTEGER
  SAMPLE_BITS = 8
  BANDS = 1
  BAND_STORAGE_TYPE = BAND_SEQUENTIAL
  MAXIMUM = 255
  MEAN = 156.686
  MINIMUM = 1
  STANDARD_DEVIATION = 29.2201
END_OBJECT = IMAGE
/* MAP OBJECT DEFINITIONS */
OBJECT = IMAGE_MAP_PROJECTION
  ^DATA_SET_MAP_PROJECTION_CATALOG= "DSMAP.CAT"
  A_AXIS_RADIUS = 3396.0
  B_AXIS_RADIUS = 3396.0
  C_AXIS_RADIUS = 3396.0
  CENTER_LATITUDE = 0.0
  CENTER_LONGITUDE = 288.0
  COORDINATE_SYSTEM_NAME = PLANETOGRAPHIC
  COORDINATE_SYSTEM_TYPE = "BODY-FIXED ROTATING"
  EASTERNMOST_LONGITUDE = 289.493
  FIRST_STANDARD_PARALLEL = "N/A"
  LINE_FIRST_PIXEL = 1
  LINE_LAST_PIXEL = 25942
  LINE_PROJECTION_OFFSET = -106197.75
  MAP_PROJECTION_ROTATION = 0.0
  MAP_PROJECTION_TYPE = SINUSOIDAL
  MAP_RESOLUTION = 2370.85521546667
  MAP_SCALE = 0.025
  MAXIMUM_LATITUDE = -44.8149
  MINIMUM_LATITUDE = -55.8314
  POSITIVE_LONGITUDE_DIRECTION = EAST
  REFERENCE_LATITUDE = "N/A"
  REFERENCE_LONGITUDE = "N/A"
  SAMPLE_FIRST_PIXEL = 1
  SAMPLE_LAST_PIXEL = 4164
  SAMPLE_PROJECTION_OFFSET = 1680.25
  SECOND_STANDARD_PARALLEL = "N/A"
  WESTERNMOST_LONGITUDE = 286.691
END_OBJECT = IMAGE_MAP_PROJECTION
END
