PDS_VERSION_ID = PDS3
/* FILE DATA ELEMENTS */
RECORD_TYPE = UNDEFINED
/* POINTERS TO DATA OBJECTS */
^IMAGE = ("HI942_0000_P24.TIF")
/* IDENTIFICATION DATA ELEMENTS */
DATA_SET_ID = "MEX-M-HRSC-4-REFDR-MAPPROJECT-EXT6-V4.0"
DATA_SET_NAME = "MARS EXPRESS HRSC MAP PROJECTED REFDR EXTENSION6 V4.0"
DETECTOR_ID = MEX_HRSC_P2
EVENT_TYPE = "MARS-REGIONAL-MAPPING-Im-Gl-Pf"
INSTRUMENT_HOST_ID = MEX
INSTRUMENT_HOST_NAME = "MARS EXPRESS"
INSTRUMENT_ID = HRSC
INSTRUMENT_NAME = "HIGH RESOLUTION STEREO CAMERA"
MISSION_NAME = "MARS EXPRESS"
MISSION_PHASE_NAME = ME_Phase_39
PROCESSING_LEVEL_ID = 4
PRODUCT_CREATION_TIME = 2023-01-29T14:35:52.000Z
PRODUCT_ID = "HI942_0000_P24.TIF"
RELEASE_ID = 0005
REVISION_ID = 0000
/* QUALITY DATA ELEMENTS */
DATA_QUALITY_ID = 1
DATA_QUALITY_DESC = "Data calculated based on original SPICE kernels"
/* TIME DATA ELEMENTS */
SPACECRAFT_CLOCK_START_COUNT = "1/0493536939.25693"
SPACECRAFT_CLOCK_STOP_COUNT = "1/0493537146.42891"
START_TIME = 2018-12-22T05:36:22.281Z
STOP_TIME = 2018-12-22T05:38:47.879Z
/* ORBITAL DATA ELEMENTS */
ASCENDING_NODE_LONGITUDE = 218.84
MAXIMUM_RESOLUTION = 0.0268
FOOTPRINT_POINT_LATITUDE = (-52.7254,-52.7116,-52.6861,-52.6652, -52.6644,-52.6202,-52.4315,-52.1488, -51.8653,-51.6762,-51.4871,-51.2031, -51.0136,-50.8239,-50.6348,-50.4453, -50.1619,-49.8774,-49.5923,-49.4019, -49.1225,-48.7528,-48.4741,-48.1025, -47.8252,-47.6395,-47.4533,-47.1742, -46.9882,-46.8013,-46.6139,-46.4273, -46.1472,-45.9609,-45.7747,-45.5884, -45.3077,-45.1204,-44.9333,-44.7464, -44.5592,-44.3719,-44.1846,-43.9037, -43.7162,-43.5287,-43.3411,-43.2473, -43.2114,-43.2241,-43.2339,-43.2388, -43.2448,-43.2449,-43.2454,-43.5275, -43.7154,-43.9033,-44.0911,-44.2789, -44.4666,-44.6542,-44.9354,-45.1229, -45.404,-45.5912,-45.7784,-45.9654, -46.1524,-46.3395,-46.5261,-46.7131, -46.8999,-47.1804,-47.3685,-47.555, -47.7416,-47.9281,-48.2995,-48.4862, -48.7658,-48.9524,-49.3233,-49.5128, -49.7986,-49.9894,-50.1763,-50.3655, -50.5556,-50.8449,-51.0371,-51.2252, -51.4153,-51.6998,-51.8896,-52.174, -52.3634,-52.5528,-52.6474,-52.7254)
FOOTPRINT_POINT_LONGITUDE = (250.889,250.322,249.511,248.964, 248.946,248.913,248.935,248.968,248.999 ,249.02,249.041,249.071,249.091,249.11, 249.13,249.149,249.178,249.205,249.232, 249.25,249.275,249.307,249.33,249.36, 249.382,249.397,249.411,249.432,249.445 ,249.458,249.471,249.484,249.503, 249.515,249.528,249.54,249.558,249.569, 249.581,249.592,249.603,249.614,249.624 ,249.64,249.65,249.661,249.67,249.675, 249.677,250.131,250.555,250.813,251.222 ,251.237,251.243,251.236,251.231, 251.226,251.221,251.216,251.211,251.206 ,251.199,251.194,251.186,251.18,251.175 ,251.17,251.164,251.159,251.153,251.147 ,251.141,251.132,251.125,251.119, 251.113,251.106,251.094,251.087,251.076 ,251.069,251.056,251.049,251.039, 251.032,251.028,251.022,251.015,251.001 ,250.992,250.986,250.978,250.966, 250.958,250.946,250.937,250.929,250.924 ,250.889)
ORBIT_NUMBER = 18942
ORBITAL_ECCENTRICITY = 0.578
ORBITAL_INCLINATION = 86.96
ORBITAL_SEMIMAJOR_AXIS = 8802.83
PERIAPSIS_ALTITUDE = 328.68
PERIAPSIS_ARGUMENT_ANGLE = 315.23
PERIAPSIS_TIME = 2018-12-22T05:38:45.000Z
SPACECRAFT_ORIENTATION = (0.0,1.0,0.0)
^MEX_ORIENTATION_DESC = "MEX_ORIENTATION_DESC.TXT"
SPACECRAFT_POINTING_MODE = NADIR
^MEX_POINTING_DESC = "MEX_POINTING_DESC.TXT"
RIGHT_ASCENSION = -1e+32
DECLINATION = -1e+32
OFFSET_ANGLE = -1e+32
SPACECRAFT_SOLAR_DISTANCE = 2.1575e+08
TARGET_NAME = MARS
/* CAMERA DATA ELEMENTS */
DETECTOR_TEMPERATURE = 19.1861
FOCAL_PLANE_TEMPERATURE = 10.0106
INST_CMPRS_NAME = "DISCRETE COSINE TRANSFORMATION (DCT)"
INST_CMPRS_RATIO = 5.34026
INST_CMPRS_QUALITY = 0
INST_CMPRS_QUANTZ_TBL_ID = 0
INSTRUMENT_TEMPERATURE = 12.4574
LENS_TEMPERATURE = 10.2145
MACROPIXEL_SIZE = 2
MISSING_FRAMES = 0
PIXEL_SUBSAMPLING_FLAG = N
SIGNAL_CHAIN_ID = 3
/* RADIOMETRIC DATA ELEMENTS */
BANDWIDTH = 177.0
CENTER_FILTER_WAVELENGTH = 676.5
RADIANCE_OFFSET = 3.6833
RADIANCE_SCALING_FACTOR = 0.0183694
REFLECTANCE_SCALING_FACTOR = 0.000453371
MEX:REFLECTANCE_OFFSET = 0.0909067
/* IMAGE OBJECT DEFINITIONS */
OBJECT = IMAGE
  INTERCHANGE_FORMAT = BINARY
  LINES = 22441
  LINE_SAMPLES = 3681
  SAMPLE_TYPE = UNSIGNED_INTEGER
  SAMPLE_BITS = 8
  BANDS = 1
  BAND_STORAGE_TYPE = BAND_SEQUENTIAL
  MAXIMUM = 255
  MEAN = 148.834
  MINIMUM = 1
  STANDARD_DEVIATION = 38.9007
END_OBJECT = IMAGE
/* MAP OBJECT DEFINITIONS */
OBJECT = IMAGE_MAP_PROJECTION
  ^DATA_SET_MAP_PROJECTION_CATALOG= "DSMAP.CAT"
  A_AXIS_RADIUS = 3396.0
  B_AXIS_RADIUS = 3396.0
  C_AXIS_RADIUS = 3396.0
  CENTER_LATITUDE = 0.0
  CENTER_LONGITUDE = 250.0
  COORDINATE_SYSTEM_NAME = PLANETOGRAPHIC
  COORDINATE_SYSTEM_TYPE = "BODY-FIXED ROTATING"
  EASTERNMOST_LONGITUDE = 251.243
  FIRST_STANDARD_PARALLEL = "N/A"
  LINE_FIRST_PIXEL = 1
  LINE_LAST_PIXEL = 22441
  LINE_PROJECTION_OFFSET = -102413.25
  MAP_PROJECTION_ROTATION = 0.0
  MAP_PROJECTION_TYPE = SINUSOIDAL
  MAP_RESOLUTION = 2370.85521546667
  MAP_SCALE = 0.025
  MAXIMUM_LATITUDE = -43.2114
  MINIMUM_LATITUDE = -52.7254
  POSITIVE_LONGITUDE_DIRECTION = EAST
  REFERENCE_LATITUDE = "N/A"
  REFERENCE_LONGITUDE = "N/A"
  SAMPLE_FIRST_PIXEL = 1
  SAMPLE_LAST_PIXEL = 3681
  SAMPLE_PROJECTION_OFFSET = 1537.25
  SECOND_STANDARD_PARALLEL = "N/A"
  WESTERNMOST_LONGITUDE = 248.913
END_OBJECT = IMAGE_MAP_PROJECTION
END
