PDS_VERSION_ID = PDS3
/* FILE DATA ELEMENTS */
RECORD_TYPE = UNDEFINED
/* POINTERS TO DATA OBJECTS */
^IMAGE = ("HI958_0000_S14.TIF")
/* IDENTIFICATION DATA ELEMENTS */
DATA_SET_ID = "MEX-M-HRSC-4-REFDR-MAPPROJECT-EXT6-V4.0"
DATA_SET_NAME = "MARS EXPRESS HRSC MAP PROJECTED REFDR EXTENSION6 V4.0"
DETECTOR_ID = MEX_HRSC_S1
EVENT_TYPE = "MARS-REGIONAL-STEREO-Gl-Eo-La"
INSTRUMENT_HOST_ID = MEX
INSTRUMENT_HOST_NAME = "MARS EXPRESS"
INSTRUMENT_ID = HRSC
INSTRUMENT_NAME = "HIGH RESOLUTION STEREO CAMERA"
MISSION_NAME = "MARS EXPRESS"
MISSION_PHASE_NAME = ME_Phase_39
PROCESSING_LEVEL_ID = 4
PRODUCT_CREATION_TIME = 2023-01-29T14:35:52.000Z
PRODUCT_ID = "HI958_0000_S14.TIF"
RELEASE_ID = 0005
REVISION_ID = 0000
/* QUALITY DATA ELEMENTS */
DATA_QUALITY_ID = 1
DATA_QUALITY_DESC = "Data calculated based on original SPICE kernels"
/* TIME DATA ELEMENTS */
SPACECRAFT_CLOCK_START_COUNT = "1/0493939327.25738"
SPACECRAFT_CLOCK_STOP_COUNT = "1/0493939553.26332"
START_TIME = 2018-12-26T21:23:38.161Z
STOP_TIME = 2018-12-26T21:26:23.152Z
/* ORBITAL DATA ELEMENTS */
ASCENDING_NODE_LONGITUDE = 218.54
MAXIMUM_RESOLUTION = 0.0143
FOOTPRINT_POINT_LATITUDE = (-44.7002,-44.693,-44.6837,-44.6692, -44.6688,-44.7632,-44.4508,-44.2445, -44.0366,-43.8306,-43.6229,-43.4154, -43.2081,-42.8995,-42.6933,-42.3848, -42.1789,-41.9726,-41.7671,-41.4547, -41.1361,-40.9239,-40.7131,-40.5024, -40.2912,-40.0795,-39.7627,-39.5529, -39.3427,-39.1332,-38.9242,-38.7176, -38.507,-38.2999,-37.9883,-37.7786, -37.4652,-37.1535,-36.9458,-36.7381, -36.5316,-36.3242,-36.1175,-35.9103, -35.6004,-35.2923,-35.0866,-34.8809, -34.6756,-34.4304,-34.3086,-34.3081, -34.3129,-34.3168,-34.3197,-34.3223, -34.3221,-34.3224,-34.5672,-34.8951, -35.1015,-35.4103,-35.7183,-35.924, -36.1321,-36.4427,-36.6512,-36.8594, -37.171,-37.3808,-37.7916,-38.0013, -38.3146,-38.6291,-38.8386,-39.0488, -39.3639,-39.6784,-39.9957,-40.2073, -40.4188,-40.632,-40.9516,-41.1638, -41.4822,-41.6917,-41.8978,-42.2068, -42.4128,-42.7227,-42.9293,-43.1366, -43.4468,-43.6541,-43.9659,-44.2777, -44.4854,-44.6934,-44.7966,-44.7002)
FOOTPRINT_POINT_LONGITUDE = (57.2169,56.7779,56.292,55.6495,55.6338 ,55.5799,55.5967,55.6067,55.6174, 55.6269,55.6372,55.6472,55.657,55.6702, 55.6791,55.6918,55.7003,55.7088,55.7168 ,55.7289,55.7408,55.7485,55.7556, 55.7623,55.7693,55.7763,55.7864,55.7924 ,55.7984,55.8041,55.8094,55.8136, 55.8196,55.8238,55.8305,55.8358,55.843, 55.8493,55.8535,55.8575,55.861,55.8648, 55.8682,55.8718,55.8768,55.881,55.8837, 55.8865,55.8891,55.8922,55.8934,55.8934 ,56.34,56.6748,56.9463,57.4892,57.5051, 57.513,57.5085,57.5024,57.4988,57.4928, 57.4862,57.4818,57.4781,57.4718,57.468, 57.4639,57.4572,57.4534,57.4419,57.4376 ,57.4304,57.4234,57.4185,57.4136, 57.4061,57.398,57.3906,57.3855,57.3803, 57.3756,57.3681,57.3626,57.3542,57.3486 ,57.3431,57.3345,57.3286,57.3199, 57.3138,57.308,57.2986,57.2923,57.283, 57.2734,57.2667,57.26,57.2563,57.2169)
ORBIT_NUMBER = 18958
ORBITAL_ECCENTRICITY = 0.578
ORBITAL_INCLINATION = 86.98
ORBITAL_SEMIMAJOR_AXIS = 8797.1
PERIAPSIS_ALTITUDE = 328.8
PERIAPSIS_ARGUMENT_ANGLE = 312.53
PERIAPSIS_TIME = 2018-12-26T21:22:29.000Z
SPACECRAFT_ORIENTATION = (0.0,1.0,0.0)
^MEX_ORIENTATION_DESC = "MEX_ORIENTATION_DESC.TXT"
SPACECRAFT_POINTING_MODE = NADIR
^MEX_POINTING_DESC = "MEX_POINTING_DESC.TXT"
RIGHT_ASCENSION = -1e+32
DECLINATION = -1e+32
OFFSET_ANGLE = -1e+32
SPACECRAFT_SOLAR_DISTANCE = 2.16546e+08
TARGET_NAME = MARS
/* CAMERA DATA ELEMENTS */
DETECTOR_TEMPERATURE = 18.1666
FOCAL_PLANE_TEMPERATURE = 11.0301
INST_CMPRS_NAME = "DISCRETE COSINE TRANSFORMATION (DCT)"
INST_CMPRS_RATIO = 8.54462
INST_CMPRS_QUALITY = 0
INST_CMPRS_QUANTZ_TBL_ID = 0
INSTRUMENT_TEMPERATURE = 12.8652
LENS_TEMPERATURE = 11.0301
MACROPIXEL_SIZE = 1
MISSING_FRAMES = 0
PIXEL_SUBSAMPLING_FLAG = N
SIGNAL_CHAIN_ID = 2
/* RADIOMETRIC DATA ELEMENTS */
BANDWIDTH = 180.0
CENTER_FILTER_WAVELENGTH = 677.0
RADIANCE_OFFSET = 7.46481
RADIANCE_SCALING_FACTOR = 0.0183581
REFLECTANCE_SCALING_FACTOR = 0.000449128
MEX:REFLECTANCE_OFFSET = 0.182625
/* IMAGE OBJECT DEFINITIONS */
OBJECT = IMAGE
  INTERCHANGE_FORMAT = BINARY
  LINES = 49866
  LINE_SAMPLES = 6627
  SAMPLE_TYPE = UNSIGNED_INTEGER
  SAMPLE_BITS = 8
  BANDS = 1
  BAND_STORAGE_TYPE = BAND_SEQUENTIAL
  MAXIMUM = 254
  MEAN = 205.557
  MINIMUM = 1
  STANDARD_DEVIATION = 13.2981
END_OBJECT = IMAGE
/* MAP OBJECT DEFINITIONS */
OBJECT = IMAGE_MAP_PROJECTION
  ^DATA_SET_MAP_PROJECTION_CATALOG= "DSMAP.CAT"
  A_AXIS_RADIUS = 3396.0
  B_AXIS_RADIUS = 3396.0
  C_AXIS_RADIUS = 3396.0
  CENTER_LATITUDE = 0.0
  CENTER_LONGITUDE = 57.0
  COORDINATE_SYSTEM_NAME = PLANETOGRAPHIC
  COORDINATE_SYSTEM_TYPE = "BODY-FIXED ROTATING"
  EASTERNMOST_LONGITUDE = 57.513
  FIRST_STANDARD_PARALLEL = "N/A"
  LINE_FIRST_PIXEL = 1
  LINE_LAST_PIXEL = 49866
  LINE_PROJECTION_OFFSET = -162415.0
  MAP_PROJECTION_ROTATION = 0.0
  MAP_PROJECTION_TYPE = SINUSOIDAL
  MAP_RESOLUTION = 4741.71043093333
  MAP_SCALE = 0.0125
  MAXIMUM_LATITUDE = -34.3081
  MINIMUM_LATITUDE = -44.7966
  POSITIVE_LONGITUDE_DIRECTION = EAST
  REFERENCE_LATITUDE = "N/A"
  REFERENCE_LONGITUDE = "N/A"
  SAMPLE_FIRST_PIXEL = 1
  SAMPLE_LAST_PIXEL = 6627
  SAMPLE_PROJECTION_OFFSET = 4752.0
  SECOND_STANDARD_PARALLEL = "N/A"
  WESTERNMOST_LONGITUDE = 55.5799
END_OBJECT = IMAGE_MAP_PROJECTION
END
