PDS_VERSION_ID = PDS3
/* FILE DATA ELEMENTS */
RECORD_TYPE = UNDEFINED
/* POINTERS TO DATA OBJECTS */
^IMAGE = ("HI959_0000_S14.TIF")
/* IDENTIFICATION DATA ELEMENTS */
DATA_SET_ID = "MEX-M-HRSC-4-REFDR-MAPPROJECT-EXT6-V4.0"
DATA_SET_NAME = "MARS EXPRESS HRSC MAP PROJECTED REFDR EXTENSION6 V4.0"
DETECTOR_ID = MEX_HRSC_S1
EVENT_TYPE = "MARS-REGIONAL-MAPPING-Vo-Ot"
INSTRUMENT_HOST_ID = MEX
INSTRUMENT_HOST_NAME = "MARS EXPRESS"
INSTRUMENT_ID = HRSC
INSTRUMENT_NAME = "HIGH RESOLUTION STEREO CAMERA"
MISSION_NAME = "MARS EXPRESS"
MISSION_PHASE_NAME = ME_Phase_39
PROCESSING_LEVEL_ID = 4
PRODUCT_CREATION_TIME = 2023-01-29T14:35:52.000Z
PRODUCT_ID = "HI959_0000_S14.TIF"
RELEASE_ID = 0005
REVISION_ID = 0000
/* QUALITY DATA ELEMENTS */
DATA_QUALITY_ID = 1
DATA_QUALITY_DESC = "Data calculated based on original SPICE kernels"
/* TIME DATA ELEMENTS */
SPACECRAFT_CLOCK_START_COUNT = "1/0493964426.23969"
SPACECRAFT_CLOCK_STOP_COUNT = "1/0493964610.31687"
START_TIME = 2018-12-27T04:21:57.417Z
STOP_TIME = 2018-12-27T04:24:00.285Z
/* ORBITAL DATA ELEMENTS */
ASCENDING_NODE_LONGITUDE = 218.53
MAXIMUM_RESOLUTION = 0.0282
FOOTPRINT_POINT_LATITUDE = (-47.378,-47.378,-47.3776,-47.3767, -47.3755,-47.3738,-47.3708,-47.3706, -47.4511,-47.2933,-47.1366,-46.9793, -46.8215,-46.5865,-46.4294,-46.2721, -46.1108,-45.8767,-45.7195,-45.5618, -45.4043,-45.2476,-45.011,-44.776, -44.6183,-44.3074,-43.9897,-43.8326, -43.5993,-43.2876,-43.0536,-42.8956, -42.587,-42.4255,-42.1888,-42.0291, -41.867,-41.6991,-41.384,-41.2243, -40.9862,-40.8219,-40.6626,-40.3489, -40.1082,-39.9468,-39.6371,-39.5582, -39.5305,-39.5243,-39.5266,-39.5265, -39.5248,-39.5223,-39.5221,-39.5225, -39.6812,-39.8401,-40.0785,-40.2381, -40.3974,-40.5567,-40.7136,-40.8733, -41.0334,-41.2736,-41.4334,-41.595, -41.7561,-41.9202,-42.1587,-42.3195, -42.4782,-42.7894,-43.0246,-43.1804, -43.4921,-43.6482,-43.8058,-43.963, -44.2748,-44.4341,-44.5953,-44.8328, -44.9916,-45.1494,-45.3076,-45.4638, -45.7727,-45.9308,-46.0906,-46.3285, -46.486,-46.6433,-46.8005,-46.9582, -47.1951,-47.3531,-47.4319,-47.378)
FOOTPRINT_POINT_LONGITUDE = (314.196,313.943,313.687,313.43,313.17, 312.909,312.546,312.53,312.443,312.456, 312.469,312.482,312.495,312.513,312.525 ,312.538,312.554,312.571,312.583, 312.595,312.607,312.618,312.636,312.653 ,312.665,312.684,312.709,312.72,312.734 ,312.753,312.767,312.778,312.794, 312.808,312.818,312.826,312.836,312.851 ,312.863,312.871,312.882,312.893, 312.901,312.911,312.924,312.933,312.94, 312.943,312.944,313.232,313.619,313.928 ,314.281,314.525,314.54,314.545,314.54, 314.534,314.525,314.519,314.514,314.508 ,314.502,314.496,314.49,314.48,314.474, 314.468,314.461,314.455,314.445,314.439 ,314.432,314.419,314.409,314.402, 314.389,314.382,314.375,314.368,314.354 ,314.346,314.339,314.328,314.32,314.313 ,314.305,314.298,314.282,314.274, 314.266,314.254,314.246,314.237,314.229 ,314.221,314.208,314.199,314.195, 314.196)
ORBIT_NUMBER = 18959
ORBITAL_ECCENTRICITY = 0.578
ORBITAL_INCLINATION = 86.98
ORBITAL_SEMIMAJOR_AXIS = 8793.02
PERIAPSIS_ALTITUDE = 329.21
PERIAPSIS_ARGUMENT_ANGLE = 312.37
PERIAPSIS_TIME = 2018-12-27T04:21:28.000Z
SPACECRAFT_ORIENTATION = (0.0,1.0,0.0)
^MEX_ORIENTATION_DESC = "MEX_ORIENTATION_DESC.TXT"
SPACECRAFT_POINTING_MODE = ACROSSTRACK
^MEX_POINTING_DESC = "MEX_POINTING_DESC.TXT"
RIGHT_ASCENSION = -1e+32
DECLINATION = -1e+32
OFFSET_ANGLE = 0.539
SPACECRAFT_SOLAR_DISTANCE = 2.16596e+08
TARGET_NAME = MARS
/* CAMERA DATA ELEMENTS */
DETECTOR_TEMPERATURE = 17.9627
FOCAL_PLANE_TEMPERATURE = 10.2145
INST_CMPRS_NAME = "DISCRETE COSINE TRANSFORMATION (DCT)"
INST_CMPRS_RATIO = 9.02324
INST_CMPRS_QUALITY = 0
INST_CMPRS_QUANTZ_TBL_ID = 0
INSTRUMENT_TEMPERATURE = 12.2535
LENS_TEMPERATURE = 10.6223
MACROPIXEL_SIZE = 2
MISSING_FRAMES = 0
PIXEL_SUBSAMPLING_FLAG = N
SIGNAL_CHAIN_ID = 1
/* RADIOMETRIC DATA ELEMENTS */
BANDWIDTH = 180.0
CENTER_FILTER_WAVELENGTH = 677.0
RADIANCE_OFFSET = 4.47675
RADIANCE_SCALING_FACTOR = 0.0232846
REFLECTANCE_SCALING_FACTOR = 0.00056992
MEX:REFLECTANCE_OFFSET = 0.109574
/* IMAGE OBJECT DEFINITIONS */
OBJECT = IMAGE
  INTERCHANGE_FORMAT = BINARY
  LINES = 18863
  LINE_SAMPLES = 3446
  SAMPLE_TYPE = UNSIGNED_INTEGER
  SAMPLE_BITS = 8
  BANDS = 1
  BAND_STORAGE_TYPE = BAND_SEQUENTIAL
  MAXIMUM = 255
  MEAN = 134.422
  MINIMUM = 1
  STANDARD_DEVIATION = 42.6663
END_OBJECT = IMAGE
/* MAP OBJECT DEFINITIONS */
OBJECT = IMAGE_MAP_PROJECTION
  ^DATA_SET_MAP_PROJECTION_CATALOG= "DSMAP.CAT"
  A_AXIS_RADIUS = 3396.0
  B_AXIS_RADIUS = 3396.0
  C_AXIS_RADIUS = 3396.0
  CENTER_LATITUDE = 0.0
  CENTER_LONGITUDE = 314.0
  COORDINATE_SYSTEM_NAME = PLANETOGRAPHIC
  COORDINATE_SYSTEM_TYPE = "BODY-FIXED ROTATING"
  EASTERNMOST_LONGITUDE = 314.545
  FIRST_STANDARD_PARALLEL = "N/A"
  LINE_FIRST_PIXEL = 1
  LINE_LAST_PIXEL = 18863
  LINE_PROJECTION_OFFSET = -93679.25
  MAP_PROJECTION_ROTATION = 0.0
  MAP_PROJECTION_TYPE = SINUSOIDAL
  MAP_RESOLUTION = 2370.85521546667
  MAP_SCALE = 0.025
  MAXIMUM_LATITUDE = -39.5221
  MINIMUM_LATITUDE = -47.4511
  POSITIVE_LONGITUDE_DIRECTION = EAST
  REFERENCE_LATITUDE = "N/A"
  REFERENCE_LONGITUDE = "N/A"
  SAMPLE_FIRST_PIXEL = 1
  SAMPLE_LAST_PIXEL = 3446
  SAMPLE_PROJECTION_OFFSET = 2486.75
  SECOND_STANDARD_PARALLEL = "N/A"
  WESTERNMOST_LONGITUDE = 312.443
END_OBJECT = IMAGE_MAP_PROJECTION
END
