PDS_VERSION_ID = PDS3
/* FILE DATA ELEMENTS */
RECORD_TYPE = UNDEFINED
/* POINTERS TO DATA OBJECTS */
^IMAGE = ("HI961_0000_GR4.TIF")
/* IDENTIFICATION DATA ELEMENTS */
DATA_SET_ID = "MEX-M-HRSC-4-REFDR-MAPPROJECT-EXT6-V4.0"
DATA_SET_NAME = "MARS EXPRESS HRSC MAP PROJECTED REFDR EXTENSION6 V4.0"
DETECTOR_ID = MEX_HRSC_GREEN
EVENT_TYPE = "MARS-REGIONAL-MAPPING-Im-Eo-Mw"
INSTRUMENT_HOST_ID = MEX
INSTRUMENT_HOST_NAME = "MARS EXPRESS"
INSTRUMENT_ID = HRSC
INSTRUMENT_NAME = "HIGH RESOLUTION STEREO CAMERA"
MISSION_NAME = "MARS EXPRESS"
MISSION_PHASE_NAME = ME_Phase_39
PROCESSING_LEVEL_ID = 4
PRODUCT_CREATION_TIME = 2023-01-29T14:35:52.000Z
PRODUCT_ID = "HI961_0000_GR4.TIF"
RELEASE_ID = 0005
REVISION_ID = 0000
/* QUALITY DATA ELEMENTS */
DATA_QUALITY_ID = 1
DATA_QUALITY_DESC = "Data calculated based on original SPICE kernels"
/* TIME DATA ELEMENTS */
SPACECRAFT_CLOCK_START_COUNT = "1/0494014618.23923"
SPACECRAFT_CLOCK_STOP_COUNT = "1/0494014829.06206"
START_TIME = 2018-12-27T18:18:06.189Z
STOP_TIME = 2018-12-27T18:20:34.051Z
/* ORBITAL DATA ELEMENTS */
ASCENDING_NODE_LONGITUDE = 218.49
MAXIMUM_RESOLUTION = 0.0521
FOOTPRINT_POINT_LATITUDE = (-53.1835,-53.1677,-53.1424,-53.1265, -53.1258,-53.1325,-52.8439,-52.6506, -52.4582,-52.2654,-52.0727,-51.7835, -51.5907,-51.3017,-50.8206,-50.6278, -50.4352,-50.2422,-50.0495,-49.8566, -49.5673,-49.3743,-49.0851,-48.8923, -48.6993,-48.4098,-47.928,-47.7352, -47.5421,-47.2529,-47.06,-46.8665, -46.5773,-46.3844,-46.1911,-45.8058, -45.517,-45.1321,-44.9394,-44.7468, -44.5542,-44.2648,-44.0717,-43.8789, -43.5916,-43.4955,-43.4536,-43.4691, -43.4763,-43.4816,-43.4864,-43.4866, -43.4875,-43.6802,-43.8731,-44.0659, -44.2587,-44.4513,-44.6445,-44.8376, -45.0307,-45.2236,-45.513,-45.706, -45.8988,-46.0927,-46.383,-46.5764, -46.7697,-46.9631,-47.2531,-47.4464, -47.6399,-47.8333,-48.2186,-48.509, -48.7027,-48.8961,-49.0894,-49.2828, -49.5729,-49.7664,-49.9597,-50.1533, -50.3466,-50.5401,-50.7335,-50.9271, -51.1208,-51.315,-51.5088,-51.7024, -51.8968,-52.0902,-52.2835,-52.4768, -52.6701,-53.0555,-53.1518,-53.1835)
FOOTPRINT_POINT_LONGITUDE = (110.467,109.857,109.056,108.621, 108.603,108.569,108.601,108.625,108.646 ,108.667,108.688,108.718,108.738, 108.766,108.809,108.827,108.844,108.862 ,108.878,108.895,108.92,108.936,108.959 ,108.974,108.99,109.013,109.046,109.06, 109.075,109.094,109.107,109.122,109.141 ,109.154,109.167,109.19,109.206,109.227 ,109.238,109.249,109.259,109.276, 109.288,109.299,109.309,109.314,109.316 ,109.933,110.272,110.568,110.878, 110.892,110.897,110.891,110.886,110.88, 110.874,110.867,110.862,110.856,110.85, 110.843,110.832,110.826,110.818,110.813 ,110.804,110.798,110.791,110.783, 110.773,110.765,110.758,110.751,110.731 ,110.72,110.712,110.704,110.695,110.687 ,110.674,110.665,110.656,110.648, 110.639,110.63,110.621,110.612,110.603, 110.596,110.588,110.579,110.572,110.562 ,110.552,110.542,110.532,110.507, 110.501,110.467)
ORBIT_NUMBER = 18961
ORBITAL_ECCENTRICITY = 0.578
ORBITAL_INCLINATION = 86.97
ORBITAL_SEMIMAJOR_AXIS = 8797.67
PERIAPSIS_ALTITUDE = 328.5
PERIAPSIS_ARGUMENT_ANGLE = 312.0
PERIAPSIS_TIME = 2018-12-27T18:19:22.000Z
SPACECRAFT_ORIENTATION = (0.0,1.0,0.0)
^MEX_ORIENTATION_DESC = "MEX_ORIENTATION_DESC.TXT"
SPACECRAFT_POINTING_MODE = NADIR
^MEX_POINTING_DESC = "MEX_POINTING_DESC.TXT"
RIGHT_ASCENSION = -1e+32
DECLINATION = -1e+32
OFFSET_ANGLE = -1e+32
SPACECRAFT_SOLAR_DISTANCE = 2.16697e+08
TARGET_NAME = MARS
/* CAMERA DATA ELEMENTS */
DETECTOR_TEMPERATURE = 18.5744
FOCAL_PLANE_TEMPERATURE = 8.9911
INST_CMPRS_NAME = "DISCRETE COSINE TRANSFORMATION (DCT)"
INST_CMPRS_RATIO = 12.9127
INST_CMPRS_QUALITY = 0
INST_CMPRS_QUANTZ_TBL_ID = 0
INSTRUMENT_TEMPERATURE = 11.8457
LENS_TEMPERATURE = 9.3989
MACROPIXEL_SIZE = 4
MISSING_FRAMES = 0
PIXEL_SUBSAMPLING_FLAG = N
SIGNAL_CHAIN_ID = 2
/* RADIOMETRIC DATA ELEMENTS */
BANDWIDTH = 88.0
CENTER_FILTER_WAVELENGTH = 538.0
RADIANCE_OFFSET = 2.02135
RADIANCE_SCALING_FACTOR = 0.00514402
REFLECTANCE_SCALING_FACTOR = 0.000207968
MEX:REFLECTANCE_OFFSET = 0.0817211
/* IMAGE OBJECT DEFINITIONS */
OBJECT = IMAGE
  INTERCHANGE_FORMAT = BINARY
  LINES = 11552
  LINE_SAMPLES = 1798
  SAMPLE_TYPE = UNSIGNED_INTEGER
  SAMPLE_BITS = 8
  BANDS = 1
  BAND_STORAGE_TYPE = BAND_SEQUENTIAL
  MAXIMUM = 255
  MEAN = 113.259
  MINIMUM = 1
  STANDARD_DEVIATION = 24.9267
END_OBJECT = IMAGE
/* MAP OBJECT DEFINITIONS */
OBJECT = IMAGE_MAP_PROJECTION
  ^DATA_SET_MAP_PROJECTION_CATALOG= "DSMAP.CAT"
  A_AXIS_RADIUS = 3396.0
  B_AXIS_RADIUS = 3396.0
  C_AXIS_RADIUS = 3396.0
  CENTER_LATITUDE = 0.0
  CENTER_LONGITUDE = 110.0
  COORDINATE_SYSTEM_NAME = PLANETOGRAPHIC
  COORDINATE_SYSTEM_TYPE = "BODY-FIXED ROTATING"
  EASTERNMOST_LONGITUDE = 110.897
  FIRST_STANDARD_PARALLEL = "N/A"
  LINE_FIRST_PIXEL = 1
  LINE_LAST_PIXEL = 11552
  LINE_PROJECTION_OFFSET = -51516.625
  MAP_PROJECTION_ROTATION = 0.0
  MAP_PROJECTION_TYPE = SINUSOIDAL
  MAP_RESOLUTION = 1185.42760773333
  MAP_SCALE = 0.05
  MAXIMUM_LATITUDE = -43.4536
  MINIMUM_LATITUDE = -53.1835
  POSITIVE_LONGITUDE_DIRECTION = EAST
  REFERENCE_LATITUDE = "N/A"
  REFERENCE_LONGITUDE = "N/A"
  SAMPLE_FIRST_PIXEL = 1
  SAMPLE_LAST_PIXEL = 1798
  SAMPLE_PROJECTION_OFFSET = 1027.375
  SECOND_STANDARD_PARALLEL = "N/A"
  WESTERNMOST_LONGITUDE = 108.569
END_OBJECT = IMAGE_MAP_PROJECTION
END
