PDS_VERSION_ID = PDS3
/* FILE DATA ELEMENTS */
RECORD_TYPE = UNDEFINED
/* POINTERS TO DATA OBJECTS */
^IMAGE = ("HI962_0000_P24.TIF")
/* IDENTIFICATION DATA ELEMENTS */
DATA_SET_ID = "MEX-M-HRSC-4-REFDR-MAPPROJECT-EXT6-V4.0"
DATA_SET_NAME = "MARS EXPRESS HRSC MAP PROJECTED REFDR EXTENSION6 V4.0"
DETECTOR_ID = MEX_HRSC_P2
EVENT_TYPE = "MARS-REGIONAL-MAPPING-Im-Mw"
INSTRUMENT_HOST_ID = MEX
INSTRUMENT_HOST_NAME = "MARS EXPRESS"
INSTRUMENT_ID = HRSC
INSTRUMENT_NAME = "HIGH RESOLUTION STEREO CAMERA"
MISSION_NAME = "MARS EXPRESS"
MISSION_PHASE_NAME = ME_Phase_39
PROCESSING_LEVEL_ID = 4
PRODUCT_CREATION_TIME = 2023-01-29T14:35:52.000Z
PRODUCT_ID = "HI962_0000_P24.TIF"
RELEASE_ID = 0005
REVISION_ID = 0000
/* QUALITY DATA ELEMENTS */
DATA_QUALITY_ID = 1
DATA_QUALITY_DESC = "Data calculated based on original SPICE kernels"
/* TIME DATA ELEMENTS */
SPACECRAFT_CLOCK_START_COUNT = "1/0494039731.25682"
SPACECRAFT_CLOCK_STOP_COUNT = "1/0494039928.34103"
START_TIME = 2018-12-28T01:16:14.175Z
STOP_TIME = 2018-12-28T01:18:29.423Z
/* ORBITAL DATA ELEMENTS */
ASCENDING_NODE_LONGITUDE = 218.47
MAXIMUM_RESOLUTION = 0.0269
FOOTPRINT_POINT_LATITUDE = (-54.9625,-54.9488,-54.9318,-54.9216, -54.9054,-54.9046,-54.8586,-54.6814, -54.5042,-54.3274,-54.1503,-53.973, -53.7959,-53.6184,-53.4406,-53.2628, -53.0846,-52.9063,-52.7277,-52.4597, -52.1145,-51.8554,-51.5082,-51.2496, -50.9037,-50.7304,-50.4706,-50.2104, -50.0367,-49.8615,-49.6869,-49.5114, -49.3369,-49.0761,-48.7309,-48.5561, -48.3815,-48.2071,-47.9459,-47.7713, -47.5968,-47.4219,-47.1594,-46.9843, -46.8093,-46.6341,-46.4592,-46.1963, -46.1087,-46.0912,-46.1032,-46.1102, -46.1154,-46.1233,-46.1234,-46.1239, -46.2997,-46.4756,-46.6512,-46.8261, -47.0014,-47.1769,-47.3525,-47.5284, -47.7039,-47.8792,-48.1412,-48.3163, -48.4913,-48.7532,-49.015,-49.1894, -49.4511,-49.7125,-49.887,-50.1485, -50.323,-50.4967,-50.6715,-50.8452, -51.0189,-51.1935,-51.4541,-51.7985, -52.0592,-52.4924,-52.7631,-52.9434, -53.1216,-53.2997,-53.4781,-53.656, -53.8337,-54.011,-54.189,-54.3672, -54.5447,-54.8124,-54.901,-54.9625)
FOOTPRINT_POINT_LONGITUDE = (8.48041,7.84937,7.24079,6.92782, 6.47833,6.45881,6.43096,6.45354,6.47589 ,6.49812,6.51999,6.5415,6.56284,6.58371 ,6.60426,6.62451,6.64434,6.66391, 6.68308,6.71139,6.74744,6.77385,6.8075, 6.83308,6.86593,6.8819,6.90556,6.92866, 6.94368,6.95791,6.97215,6.98587,6.99982 ,7.02084,7.04942,7.06246,7.07544,7.0883 ,7.1075,7.11989,7.13215,7.1441,7.16163, 7.17306,7.18438,7.1955,7.20657,7.22263, 7.22791,7.22905,7.69149,8.04332,8.33206 ,8.86218,8.87832,8.88412,8.87882, 8.87327,8.86787,8.86299,8.85765,8.85201 ,8.84619,8.83998,8.83401,8.82814,8.8198 ,8.81377,8.80768,8.79889,8.78983, 8.78376,8.7743,8.76482,8.75815,8.748, 8.74095,8.73447,8.72677,8.71998,8.71307 ,8.70511,8.69407,8.6817,8.66962,8.65001 ,8.63478,8.62479,8.61666,8.60842, 8.59966,8.59118,8.58276,8.57445,8.56524 ,8.55569,8.54653,8.53092,8.52624, 8.48041)
ORBIT_NUMBER = 18962
ORBITAL_ECCENTRICITY = 0.578
ORBITAL_INCLINATION = 86.97
ORBITAL_SEMIMAJOR_AXIS = 8794.75
PERIAPSIS_ALTITUDE = 329.24
PERIAPSIS_ARGUMENT_ANGLE = 311.83
PERIAPSIS_TIME = 2018-12-28T01:18:19.000Z
SPACECRAFT_ORIENTATION = (0.0,1.0,0.0)
^MEX_ORIENTATION_DESC = "MEX_ORIENTATION_DESC.TXT"
SPACECRAFT_POINTING_MODE = ACROSSTRACK
^MEX_POINTING_DESC = "MEX_POINTING_DESC.TXT"
RIGHT_ASCENSION = -1e+32
DECLINATION = -1e+32
OFFSET_ANGLE = -0.12
SPACECRAFT_SOLAR_DISTANCE = 2.16748e+08
TARGET_NAME = MARS
/* CAMERA DATA ELEMENTS */
DETECTOR_TEMPERATURE = 19.1861
FOCAL_PLANE_TEMPERATURE = 10.8262
INST_CMPRS_NAME = "DISCRETE COSINE TRANSFORMATION (DCT)"
INST_CMPRS_RATIO = 5.66378
INST_CMPRS_QUALITY = 0
INST_CMPRS_QUANTZ_TBL_ID = 0
INSTRUMENT_TEMPERATURE = 11.8457
LENS_TEMPERATURE = 11.234
MACROPIXEL_SIZE = 2
MISSING_FRAMES = 0
PIXEL_SUBSAMPLING_FLAG = N
SIGNAL_CHAIN_ID = 3
/* RADIOMETRIC DATA ELEMENTS */
BANDWIDTH = 177.0
CENTER_FILTER_WAVELENGTH = 676.5
RADIANCE_OFFSET = 3.18028
RADIANCE_SCALING_FACTOR = 0.0211574
REFLECTANCE_SCALING_FACTOR = 0.000527019
MEX:REFLECTANCE_OFFSET = 0.0792193
/* IMAGE OBJECT DEFINITIONS */
OBJECT = IMAGE
  INTERCHANGE_FORMAT = BINARY
  LINES = 20912
  LINE_SAMPLES = 3568
  SAMPLE_TYPE = UNSIGNED_INTEGER
  SAMPLE_BITS = 8
  BANDS = 1
  BAND_STORAGE_TYPE = BAND_SEQUENTIAL
  MAXIMUM = 255
  MEAN = 172.182
  MINIMUM = 1
  STANDARD_DEVIATION = 23.6481
END_OBJECT = IMAGE
/* MAP OBJECT DEFINITIONS */
OBJECT = IMAGE_MAP_PROJECTION
  ^DATA_SET_MAP_PROJECTION_CATALOG= "DSMAP.CAT"
  A_AXIS_RADIUS = 3396.0
  B_AXIS_RADIUS = 3396.0
  C_AXIS_RADIUS = 3396.0
  CENTER_LATITUDE = 0.0
  CENTER_LONGITUDE = 8.0
  COORDINATE_SYSTEM_NAME = PLANETOGRAPHIC
  COORDINATE_SYSTEM_TYPE = "BODY-FIXED ROTATING"
  EASTERNMOST_LONGITUDE = 8.884119999999999
  FIRST_STANDARD_PARALLEL = "N/A"
  LINE_FIRST_PIXEL = 1
  LINE_LAST_PIXEL = 20912
  LINE_PROJECTION_OFFSET = -109254.75
  MAP_PROJECTION_ROTATION = 0.0
  MAP_PROJECTION_TYPE = SINUSOIDAL
  MAP_RESOLUTION = 2370.85521546667
  MAP_SCALE = 0.025
  MAXIMUM_LATITUDE = -46.0912
  MINIMUM_LATITUDE = -54.9625
  POSITIVE_LONGITUDE_DIRECTION = EAST
  REFERENCE_LATITUDE = "N/A"
  REFERENCE_LONGITUDE = "N/A"
  SAMPLE_FIRST_PIXEL = 1
  SAMPLE_LAST_PIXEL = 3568
  SAMPLE_PROJECTION_OFFSET = 2118.25
  SECOND_STANDARD_PARALLEL = "N/A"
  WESTERNMOST_LONGITUDE = 6.43096
END_OBJECT = IMAGE_MAP_PROJECTION
END
