PDS_VERSION_ID = PDS3
/* FILE DATA ELEMENTS */
RECORD_TYPE = UNDEFINED
/* POINTERS TO DATA OBJECTS */
^IMAGE = ("HI966_0000_P14.TIF")
/* IDENTIFICATION DATA ELEMENTS */
DATA_SET_ID = "MEX-M-HRSC-4-REFDR-MAPPROJECT-EXT6-V4.0"
DATA_SET_NAME = "MARS EXPRESS HRSC MAP PROJECTED REFDR EXTENSION6 V4.0"
DETECTOR_ID = MEX_HRSC_P1
EVENT_TYPE = "MARS-REGIONAL-MAPPING-Im-Gl-Pf"
INSTRUMENT_HOST_ID = MEX
INSTRUMENT_HOST_NAME = "MARS EXPRESS"
INSTRUMENT_ID = HRSC
INSTRUMENT_NAME = "HIGH RESOLUTION STEREO CAMERA"
MISSION_NAME = "MARS EXPRESS"
MISSION_PHASE_NAME = ME_Phase_39
PROCESSING_LEVEL_ID = 4
PRODUCT_CREATION_TIME = 2023-01-29T14:35:52.000Z
PRODUCT_ID = "HI966_0000_P14.TIF"
RELEASE_ID = 0005
REVISION_ID = 0000
/* QUALITY DATA ELEMENTS */
DATA_QUALITY_ID = 1
DATA_QUALITY_DESC = "Data calculated based on original SPICE kernels"
/* TIME DATA ELEMENTS */
SPACECRAFT_CLOCK_START_COUNT = "1/0494140362.23971"
SPACECRAFT_CLOCK_STOP_COUNT = "1/0494140592.64535"
START_TIME = 2018-12-29T05:13:58.684Z
STOP_TIME = 2018-12-29T05:16:53.801Z
/* ORBITAL DATA ELEMENTS */
ASCENDING_NODE_LONGITUDE = 218.4
MAXIMUM_RESOLUTION = 0.0274
FOOTPRINT_POINT_LATITUDE = (-51.3092,-51.2826,-51.2436,-51.2146, -51.2135,-51.2886,-50.9098,-50.6573, -50.406,-50.1533,-49.9013,-49.5241, -49.2729,-49.0221,-48.7704,-48.3954, -48.1444,-47.894,-47.6435,-47.3934, -47.0179,-46.7677,-46.5185,-46.2687, -46.0194,-45.7705,-45.5211,-45.2717, -45.0226,-44.7735,-44.5245,-44.2756, -44.0257,-43.7751,-43.2786,-43.0293, -42.6557,-42.1593,-41.9046,-41.6477, -41.3925,-41.136,-40.8804,-40.4971, -39.9856,-39.7299,-39.4747,-39.2186, -38.8339,-38.7071,-38.6986,-38.7389, -38.7808,-38.7815,-38.7822,-39.165, -39.546,-39.8016,-40.0563,-40.3124, -40.6967,-41.0827,-41.3402,-41.5968, -41.8526,-42.1087,-42.3594,-42.7325, -42.9831,-43.4806,-43.7301,-44.1044, -44.3539,-44.6034,-44.9775,-45.227, -45.4769,-45.7266,-45.9765,-46.2265, -46.6007,-46.8512,-47.2266,-47.6025, -47.8535,-48.1043,-48.3555,-48.6073, -48.984,-49.235,-49.4875,-49.7403, -49.9921,-50.2438,-50.4956,-50.7483, -51.0011,-51.2551,-51.3816,-51.3092)
FOOTPRINT_POINT_LONGITUDE = (319.895,319.351,318.615,318.107, 318.089,318.028,318.068,318.094,318.119 ,318.144,318.169,318.204,318.227, 318.249,318.272,318.303,318.324,318.345 ,318.365,318.384,318.413,318.431, 318.449,318.467,318.484,318.5,318.517, 318.533,318.549,318.564,318.579,318.594 ,318.61,318.626,318.653,318.667,318.687 ,318.712,318.724,318.737,318.748,318.76 ,318.77,318.786,318.807,318.817,318.826 ,318.836,318.853,318.856,318.856, 319.536,320.369,320.384,320.389,320.379 ,320.367,320.36,320.352,320.346,320.336 ,320.327,320.321,320.313,320.305, 320.298,320.29,320.278,320.272,320.256, 320.249,320.237,320.229,320.22,320.207, 320.198,320.189,320.18,320.171,320.161, 320.146,320.137,320.121,320.106,320.096 ,320.085,320.074,320.063,320.046, 320.035,320.023,320.012,320.0,319.987, 319.975,319.962,319.949,319.937,319.93, 319.895)
ORBIT_NUMBER = 18966
ORBITAL_ECCENTRICITY = 0.578
ORBITAL_INCLINATION = 86.98
ORBITAL_SEMIMAJOR_AXIS = 8790.66
PERIAPSIS_ALTITUDE = 329.04
PERIAPSIS_ARGUMENT_ANGLE = 311.17
PERIAPSIS_TIME = 2018-12-29T05:14:12.000Z
SPACECRAFT_ORIENTATION = (0.0,1.0,0.0)
^MEX_ORIENTATION_DESC = "MEX_ORIENTATION_DESC.TXT"
SPACECRAFT_POINTING_MODE = INERT
^MEX_POINTING_DESC = "MEX_POINTING_DESC.TXT"
RIGHT_ASCENSION = 37.537
DECLINATION = 54.292
OFFSET_ANGLE = -1e+32
SPACECRAFT_SOLAR_DISTANCE = 2.16951e+08
TARGET_NAME = MARS
/* CAMERA DATA ELEMENTS */
DETECTOR_TEMPERATURE = 17.7588
FOCAL_PLANE_TEMPERATURE = 9.3989
INST_CMPRS_NAME = "DISCRETE COSINE TRANSFORMATION (DCT)"
INST_CMPRS_RATIO = 8.24081
INST_CMPRS_QUALITY = 0
INST_CMPRS_QUANTZ_TBL_ID = 0
INSTRUMENT_TEMPERATURE = 12.4574
LENS_TEMPERATURE = 9.8067
MACROPIXEL_SIZE = 2
MISSING_FRAMES = 0
PIXEL_SUBSAMPLING_FLAG = N
SIGNAL_CHAIN_ID = 3
/* RADIOMETRIC DATA ELEMENTS */
BANDWIDTH = 174.0
CENTER_FILTER_WAVELENGTH = 675.0
RADIANCE_OFFSET = 5.14193
RADIANCE_SCALING_FACTOR = 0.0192042
REFLECTANCE_SCALING_FACTOR = 0.000486188
MEX:REFLECTANCE_OFFSET = 0.130177
/* IMAGE OBJECT DEFINITIONS */
OBJECT = IMAGE
  INTERCHANGE_FORMAT = BINARY
  LINES = 30093
  LINE_SAMPLES = 4033
  SAMPLE_TYPE = UNSIGNED_INTEGER
  SAMPLE_BITS = 8
  BANDS = 1
  BAND_STORAGE_TYPE = BAND_SEQUENTIAL
  MAXIMUM = 255
  MEAN = 176.662
  MINIMUM = 1
  STANDARD_DEVIATION = 45.1011
END_OBJECT = IMAGE
/* MAP OBJECT DEFINITIONS */
OBJECT = IMAGE_MAP_PROJECTION
  ^DATA_SET_MAP_PROJECTION_CATALOG= "DSMAP.CAT"
  A_AXIS_RADIUS = 3396.0
  B_AXIS_RADIUS = 3396.0
  C_AXIS_RADIUS = 3396.0
  CENTER_LATITUDE = 0.0
  CENTER_LONGITUDE = 319.0
  COORDINATE_SYSTEM_NAME = PLANETOGRAPHIC
  COORDINATE_SYSTEM_TYPE = "BODY-FIXED ROTATING"
  EASTERNMOST_LONGITUDE = 320.389
  FIRST_STANDARD_PARALLEL = "N/A"
  LINE_FIRST_PIXEL = 1
  LINE_LAST_PIXEL = 30093
  LINE_PROJECTION_OFFSET = -91774.75
  MAP_PROJECTION_ROTATION = 0.0
  MAP_PROJECTION_TYPE = SINUSOIDAL
  MAP_RESOLUTION = 2370.85521546667
  MAP_SCALE = 0.025
  MAXIMUM_LATITUDE = -38.6986
  MINIMUM_LATITUDE = -51.3816
  POSITIVE_LONGITUDE_DIRECTION = EAST
  REFERENCE_LATITUDE = "N/A"
  REFERENCE_LONGITUDE = "N/A"
  SAMPLE_FIRST_PIXEL = 1
  SAMPLE_LAST_PIXEL = 4033
  SAMPLE_PROJECTION_OFFSET = 1312.25
  SECOND_STANDARD_PARALLEL = "N/A"
  WESTERNMOST_LONGITUDE = 318.028
END_OBJECT = IMAGE_MAP_PROJECTION
END
