PDS_VERSION_ID = PDS3
/* FILE DATA ELEMENTS */
RECORD_TYPE = UNDEFINED
/* POINTERS TO DATA OBJECTS */
^IMAGE = ("HI966_0000_S24.TIF")
/* IDENTIFICATION DATA ELEMENTS */
DATA_SET_ID = "MEX-M-HRSC-4-REFDR-MAPPROJECT-EXT6-V4.0"
DATA_SET_NAME = "MARS EXPRESS HRSC MAP PROJECTED REFDR EXTENSION6 V4.0"
DETECTOR_ID = MEX_HRSC_S2
EVENT_TYPE = "MARS-REGIONAL-MAPPING-Im-Gl-Pf"
INSTRUMENT_HOST_ID = MEX
INSTRUMENT_HOST_NAME = "MARS EXPRESS"
INSTRUMENT_ID = HRSC
INSTRUMENT_NAME = "HIGH RESOLUTION STEREO CAMERA"
MISSION_NAME = "MARS EXPRESS"
MISSION_PHASE_NAME = ME_Phase_39
PROCESSING_LEVEL_ID = 4
PRODUCT_CREATION_TIME = 2023-01-29T14:35:52.000Z
PRODUCT_ID = "HI966_0000_S24.TIF"
RELEASE_ID = 0005
REVISION_ID = 0000
/* QUALITY DATA ELEMENTS */
DATA_QUALITY_ID = 1
DATA_QUALITY_DESC = "Data calculated based on original SPICE kernels"
/* TIME DATA ELEMENTS */
SPACECRAFT_CLOCK_START_COUNT = "1/0494140362.23971"
SPACECRAFT_CLOCK_STOP_COUNT = "1/0494140592.64535"
START_TIME = 2018-12-29T05:13:14.189Z
STOP_TIME = 2018-12-29T05:16:07.134Z
/* ORBITAL DATA ELEMENTS */
ASCENDING_NODE_LONGITUDE = 218.4
MAXIMUM_RESOLUTION = 0.0274
FOOTPRINT_POINT_LATITUDE = (-51.4532,-51.4221,-51.3971,-51.3625, -51.3615,-51.3042,-51.0561,-50.6839, -50.4355,-50.187,-49.8145,-49.5656, -49.1922,-48.9429,-48.569,-48.3186, -48.0691,-47.8194,-47.569,-47.3188, -46.9432,-46.6917,-46.3152,-46.0642, -45.8122,-45.4345,-45.1828,-44.9309, -44.5526,-44.3003,-44.0483,-43.8015, -43.5472,-43.2944,-43.044,-42.6682, -42.2854,-42.0314,-41.6522,-41.2718, -41.0148,-40.7589,-40.3749,-39.9916, -39.4784,-39.094,-38.8372,-38.7071, -38.7002,-38.7282,-38.7431,-38.767, -38.7812,-38.7818,-38.7825,-39.1708, -39.4383,-39.6975,-40.0793,-40.5879, -40.8403,-41.2157,-41.4703,-41.8533, -42.1116,-42.3633,-42.6216,-43.1207, -43.3736,-43.6264,-43.8772,-44.1293, -44.3811,-44.6333,-44.8858,-45.1379, -45.3913,-45.7673,-46.0189,-46.2704, -46.5224,-46.7742,-47.025,-47.2755, -47.5269,-47.7777,-48.0277,-48.2779, -48.6523,-49.0278,-49.4024,-49.6515, -49.9005,-50.15,-50.5243,-50.7729, -51.0219,-51.2699,-51.3941,-51.4532)
FOOTPRINT_POINT_LONGITUDE = (320.015,319.36,318.89,318.303,318.287, 318.248,318.273,318.309,318.332,318.355 ,318.389,318.411,318.443,318.463, 318.494,318.513,318.532,318.551,318.57, 318.588,318.614,318.631,318.656,318.673 ,318.689,318.712,318.727,318.742, 318.764,318.778,318.792,318.807,318.82, 318.833,318.846,318.866,318.883,318.895 ,318.912,318.929,318.939,318.949, 318.963,318.978,318.996,319.009,319.018 ,319.022,319.022,319.539,319.874, 320.255,320.575,320.59,320.596,320.583, 320.571,320.561,320.549,320.533,320.525 ,320.515,320.506,320.492,320.481, 320.473,320.462,320.447,320.437,320.428 ,320.419,320.41,320.4,320.39,320.38, 320.37,320.358,320.343,320.333,320.322, 320.31,320.298,320.287,320.276,320.264, 320.252,320.24,320.228,320.21,320.191, 320.172,320.159,320.146,320.132,320.111 ,320.098,320.084,320.07,320.063, 320.015)
ORBIT_NUMBER = 18966
ORBITAL_ECCENTRICITY = 0.578
ORBITAL_INCLINATION = 86.98
ORBITAL_SEMIMAJOR_AXIS = 8790.66
PERIAPSIS_ALTITUDE = 329.04
PERIAPSIS_ARGUMENT_ANGLE = 311.17
PERIAPSIS_TIME = 2018-12-29T05:14:12.000Z
SPACECRAFT_ORIENTATION = (0.0,1.0,0.0)
^MEX_ORIENTATION_DESC = "MEX_ORIENTATION_DESC.TXT"
SPACECRAFT_POINTING_MODE = INERT
^MEX_POINTING_DESC = "MEX_POINTING_DESC.TXT"
RIGHT_ASCENSION = 37.537
DECLINATION = 54.292
OFFSET_ANGLE = -1e+32
SPACECRAFT_SOLAR_DISTANCE = 2.16951e+08
TARGET_NAME = MARS
/* CAMERA DATA ELEMENTS */
DETECTOR_TEMPERATURE = 19.1861
FOCAL_PLANE_TEMPERATURE = 9.3989
INST_CMPRS_NAME = "DISCRETE COSINE TRANSFORMATION (DCT)"
INST_CMPRS_RATIO = 10.0755
INST_CMPRS_QUALITY = 0
INST_CMPRS_QUANTZ_TBL_ID = 0
INSTRUMENT_TEMPERATURE = 12.4574
LENS_TEMPERATURE = 9.8067
MACROPIXEL_SIZE = 2
MISSING_FRAMES = 0
PIXEL_SUBSAMPLING_FLAG = N
SIGNAL_CHAIN_ID = 1
/* RADIOMETRIC DATA ELEMENTS */
BANDWIDTH = 178.0
CENTER_FILTER_WAVELENGTH = 679.0
RADIANCE_OFFSET = 5.19531
RADIANCE_SCALING_FACTOR = 0.0203738
REFLECTANCE_SCALING_FACTOR = 0.000507834
MEX:REFLECTANCE_OFFSET = 0.129498
/* IMAGE OBJECT DEFINITIONS */
OBJECT = IMAGE
  INTERCHANGE_FORMAT = BINARY
  LINES = 30093
  LINE_SAMPLES = 4033
  SAMPLE_TYPE = UNSIGNED_INTEGER
  SAMPLE_BITS = 8
  BANDS = 1
  BAND_STORAGE_TYPE = BAND_SEQUENTIAL
  MAXIMUM = 255
  MEAN = 168.552
  MINIMUM = 1
  STANDARD_DEVIATION = 42.1115
END_OBJECT = IMAGE
/* MAP OBJECT DEFINITIONS */
OBJECT = IMAGE_MAP_PROJECTION
  ^DATA_SET_MAP_PROJECTION_CATALOG= "DSMAP.CAT"
  A_AXIS_RADIUS = 3396.0
  B_AXIS_RADIUS = 3396.0
  C_AXIS_RADIUS = 3396.0
  CENTER_LATITUDE = 0.0
  CENTER_LONGITUDE = 319.0
  COORDINATE_SYSTEM_NAME = PLANETOGRAPHIC
  COORDINATE_SYSTEM_TYPE = "BODY-FIXED ROTATING"
  EASTERNMOST_LONGITUDE = 320.596
  FIRST_STANDARD_PARALLEL = "N/A"
  LINE_FIRST_PIXEL = 1
  LINE_LAST_PIXEL = 30093
  LINE_PROJECTION_OFFSET = -91774.75
  MAP_PROJECTION_ROTATION = 0.0
  MAP_PROJECTION_TYPE = SINUSOIDAL
  MAP_RESOLUTION = 2370.85521546667
  MAP_SCALE = 0.025
  MAXIMUM_LATITUDE = -38.7002
  MINIMUM_LATITUDE = -51.4532
  POSITIVE_LONGITUDE_DIRECTION = EAST
  REFERENCE_LATITUDE = "N/A"
  REFERENCE_LONGITUDE = "N/A"
  SAMPLE_FIRST_PIXEL = 1
  SAMPLE_LAST_PIXEL = 4033
  SAMPLE_PROJECTION_OFFSET = 1312.25
  SECOND_STANDARD_PARALLEL = "N/A"
  WESTERNMOST_LONGITUDE = 318.248
END_OBJECT = IMAGE_MAP_PROJECTION
END
