PDS_VERSION_ID = PDS3
/* FILE DATA ELEMENTS */
RECORD_TYPE = UNDEFINED
/* POINTERS TO DATA OBJECTS */
^IMAGE = ("HI968_0000_GR4.TIF")
/* IDENTIFICATION DATA ELEMENTS */
DATA_SET_ID = "MEX-M-HRSC-4-REFDR-MAPPROJECT-EXT6-V4.0"
DATA_SET_NAME = "MARS EXPRESS HRSC MAP PROJECTED REFDR EXTENSION6 V4.0"
DETECTOR_ID = MEX_HRSC_GREEN
EVENT_TYPE = "MARS-REGIONAL-MAPPING-Vo-Im-Eo"
INSTRUMENT_HOST_ID = MEX
INSTRUMENT_HOST_NAME = "MARS EXPRESS"
INSTRUMENT_ID = HRSC
INSTRUMENT_NAME = "HIGH RESOLUTION STEREO CAMERA"
MISSION_NAME = "MARS EXPRESS"
MISSION_PHASE_NAME = ME_Phase_39
PROCESSING_LEVEL_ID = 4
PRODUCT_CREATION_TIME = 2023-01-29T14:35:52.000Z
PRODUCT_ID = "HI968_0000_GR4.TIF"
RELEASE_ID = 0005
REVISION_ID = 0000
/* QUALITY DATA ELEMENTS */
DATA_QUALITY_ID = 1
DATA_QUALITY_DESC = "Data calculated based on original SPICE kernels"
/* TIME DATA ELEMENTS */
SPACECRAFT_CLOCK_START_COUNT = "1/0494190581.24947"
SPACECRAFT_CLOCK_STOP_COUNT = "1/0494190806.56251"
START_TIME = 2018-12-29T19:10:45.042Z
STOP_TIME = 2018-12-29T19:13:34.818Z
/* ORBITAL DATA ELEMENTS */
ASCENDING_NODE_LONGITUDE = 218.36
MAXIMUM_RESOLUTION = 0.0519
FOOTPRINT_POINT_LATITUDE = (-55.2902,-55.2447,-55.211,-55.1815, -55.1803,-55.2023,-54.9589,-54.714, -54.4705,-54.2282,-53.985,-53.6207, -53.2551,-53.0111,-52.7687,-52.5257, -52.2827,-52.0397,-51.6753,-51.4328, -51.1899,-50.8256,-50.461,-50.2179, -49.8534,-49.4893,-49.1252,-48.8824, -48.6399,-48.397,-48.0331,-47.669, -47.4262,-47.0621,-46.8195,-46.5768, -46.3341,-46.0912,-45.8483,-45.4841, -45.2413,-44.9986,-44.6347,-44.3917, -44.1483,-43.9052,-43.4197,-43.1766, -43.0551,-42.998,-43.0268,-43.0588, -43.0846,-43.0853,-43.0865,-43.33, -43.6953,-43.9381,-44.3028,-44.6672, -44.9101,-45.1533,-45.5179,-45.761, -46.0041,-46.2472,-46.6119,-46.855, -47.0982,-47.3413,-47.5844,-47.8277, -48.313,-48.5561,-48.8002,-49.0435, -49.4081,-49.6515,-49.8951,-50.2606, -50.5041,-50.7476,-50.9911,-51.2346, -51.4782,-51.7218,-51.9657,-52.3315, -52.5754,-52.9403,-53.1849,-53.4274, -53.6724,-53.9163,-54.161,-54.5278, -54.7723,-55.1387,-55.2609,-55.2902)
FOOTPRINT_POINT_LONGITUDE = (115.021,114.136,113.544,113.06,113.041 ,112.984,113.021,113.062,113.099, 113.132,113.166,113.216,113.267,113.302 ,113.331,113.362,113.392,113.422, 113.465,113.491,113.518,113.558,113.599 ,113.625,113.664,113.699,113.734, 113.757,113.777,113.801,113.83,113.86, 113.88,113.912,113.932,113.95,113.969, 113.984,114.0,114.025,114.041,114.058, 114.083,114.097,114.11,114.123,114.153, 114.166,114.172,114.176,114.649,115.223 ,115.734,115.749,115.754,115.744, 115.728,115.719,115.704,115.69,115.68, 115.669,115.653,115.643,115.632,115.62, 115.603,115.591,115.58,115.568,115.555, 115.543,115.514,115.501,115.49,115.477, 115.455,115.442,115.428,115.406,115.391 ,115.376,115.361,115.345,115.329, 115.312,115.296,115.271,115.254,115.226 ,115.209,115.189,115.171,115.152, 115.133,115.104,115.084,115.053,115.042 ,115.021)
ORBIT_NUMBER = 18968
ORBITAL_ECCENTRICITY = 0.578
ORBITAL_INCLINATION = 86.97
ORBITAL_SEMIMAJOR_AXIS = 8795.52
PERIAPSIS_ALTITUDE = 328.51
PERIAPSIS_ARGUMENT_ANGLE = 310.8
PERIAPSIS_TIME = 2018-12-29T19:12:07.000Z
SPACECRAFT_ORIENTATION = (0.0,1.0,0.0)
^MEX_ORIENTATION_DESC = "MEX_ORIENTATION_DESC.TXT"
SPACECRAFT_POINTING_MODE = INERT
^MEX_POINTING_DESC = "MEX_POINTING_DESC.TXT"
RIGHT_ASCENSION = 32.659
DECLINATION = 58.32
OFFSET_ANGLE = -1e+32
SPACECRAFT_SOLAR_DISTANCE = 2.17053e+08
TARGET_NAME = MARS
/* CAMERA DATA ELEMENTS */
DETECTOR_TEMPERATURE = 18.5744
FOCAL_PLANE_TEMPERATURE = 9.3989
INST_CMPRS_NAME = "DISCRETE COSINE TRANSFORMATION (DCT)"
INST_CMPRS_RATIO = 11.2722
INST_CMPRS_QUALITY = 0
INST_CMPRS_QUANTZ_TBL_ID = 0
INSTRUMENT_TEMPERATURE = 11.4379
LENS_TEMPERATURE = 10.0106
MACROPIXEL_SIZE = 4
MISSING_FRAMES = 0
PIXEL_SUBSAMPLING_FLAG = N
SIGNAL_CHAIN_ID = 2
/* RADIOMETRIC DATA ELEMENTS */
BANDWIDTH = 88.0
CENTER_FILTER_WAVELENGTH = 538.0
RADIANCE_OFFSET = 1.93533
RADIANCE_SCALING_FACTOR = 0.00548134
REFLECTANCE_SCALING_FACTOR = 0.000222333
MEX:REFLECTANCE_OFFSET = 0.0785008
/* IMAGE OBJECT DEFINITIONS */
OBJECT = IMAGE
  INTERCHANGE_FORMAT = BINARY
  LINES = 14623
  LINE_SAMPLES = 2027
  SAMPLE_TYPE = UNSIGNED_INTEGER
  SAMPLE_BITS = 8
  BANDS = 1
  BAND_STORAGE_TYPE = BAND_SEQUENTIAL
  MAXIMUM = 255
  MEAN = 103.257
  MINIMUM = 1
  STANDARD_DEVIATION = 32.5087
END_OBJECT = IMAGE
/* MAP OBJECT DEFINITIONS */
OBJECT = IMAGE_MAP_PROJECTION
  ^DATA_SET_MAP_PROJECTION_CATALOG= "DSMAP.CAT"
  A_AXIS_RADIUS = 3396.0
  B_AXIS_RADIUS = 3396.0
  C_AXIS_RADIUS = 3396.0
  CENTER_LATITUDE = 0.0
  CENTER_LONGITUDE = 115.0
  COORDINATE_SYSTEM_NAME = PLANETOGRAPHIC
  COORDINATE_SYSTEM_TYPE = "BODY-FIXED ROTATING"
  EASTERNMOST_LONGITUDE = 115.754
  FIRST_STANDARD_PARALLEL = "N/A"
  LINE_FIRST_PIXEL = 1
  LINE_LAST_PIXEL = 14623
  LINE_PROJECTION_OFFSET = -50976.625
  MAP_PROJECTION_ROTATION = 0.0
  MAP_PROJECTION_TYPE = SINUSOIDAL
  MAP_RESOLUTION = 1185.42760773333
  MAP_SCALE = 0.05
  MAXIMUM_LATITUDE = -42.998
  MINIMUM_LATITUDE = -55.2902
  POSITIVE_LONGITUDE_DIRECTION = EAST
  REFERENCE_LATITUDE = "N/A"
  REFERENCE_LONGITUDE = "N/A"
  SAMPLE_FIRST_PIXEL = 1
  SAMPLE_LAST_PIXEL = 2027
  SAMPLE_PROJECTION_OFFSET = 1356.125
  SECOND_STANDARD_PARALLEL = "N/A"
  WESTERNMOST_LONGITUDE = 112.984
END_OBJECT = IMAGE_MAP_PROJECTION
END
