PDS_VERSION_ID = PDS3
/* FILE DATA ELEMENTS */
RECORD_TYPE = UNDEFINED
/* POINTERS TO DATA OBJECTS */
^IMAGE = ("HI972_0000_S24.TIF")
/* IDENTIFICATION DATA ELEMENTS */
DATA_SET_ID = "MEX-M-HRSC-4-REFDR-MAPPROJECT-EXT6-V4.0"
DATA_SET_NAME = "MARS EXPRESS HRSC MAP PROJECTED REFDR EXTENSION6 V4.0"
DETECTOR_ID = MEX_HRSC_S2
EVENT_TYPE = "MARS-REGIONAL-STEREO-Gl-Pf-Eo"
INSTRUMENT_HOST_ID = MEX
INSTRUMENT_HOST_NAME = "MARS EXPRESS"
INSTRUMENT_ID = HRSC
INSTRUMENT_NAME = "HIGH RESOLUTION STEREO CAMERA"
MISSION_NAME = "MARS EXPRESS"
MISSION_PHASE_NAME = ME_Phase_39
PROCESSING_LEVEL_ID = 4
PRODUCT_CREATION_TIME = 2023-01-29T14:35:52.000Z
PRODUCT_ID = "HI972_0000_S24.TIF"
RELEASE_ID = 0005
REVISION_ID = 0000
/* QUALITY DATA ELEMENTS */
DATA_QUALITY_ID = 1
DATA_QUALITY_DESC = "Data calculated based on original SPICE kernels"
/* TIME DATA ELEMENTS */
SPACECRAFT_CLOCK_START_COUNT = "1/0494291147.25672"
SPACECRAFT_CLOCK_STOP_COUNT = "1/0494291350.35147"
START_TIME = 2018-12-30T23:06:19.199Z
STOP_TIME = 2018-12-30T23:08:46.557Z
/* ORBITAL DATA ELEMENTS */
ASCENDING_NODE_LONGITUDE = 218.28
MAXIMUM_RESOLUTION = 0.014
FOOTPRINT_POINT_LATITUDE = (-55.1496,-55.1338,-55.116,-55.0948, -55.0941,-55.0321,-54.8143,-54.5955, -54.38,-54.1609,-53.8347,-53.6162, -53.4028,-53.1909,-52.8741,-52.4515, -52.135,-51.9239,-51.6076,-51.3932, -51.1796,-50.7609,-50.5477,-50.1245, -49.9117,-49.5926,-49.3795,-49.167, -48.8502,-48.5306,-48.3185,-48.1038, -47.7838,-47.5707,-47.3562,-47.034, -46.8176,-46.6051,-46.3893,-46.0653, -45.8507,-45.6348,-45.421,-45.1004, -44.8822,-44.6679,-44.4523,-44.3438, -44.3348,-44.3526,-44.3602,-44.3656, -44.3712,-44.3713,-44.3714,-44.6979, -44.9107,-45.1257,-45.3428,-45.6667, -45.8826,-46.1001,-46.316,-46.5319, -46.8544,-47.176,-47.3907,-47.7113, -47.9267,-48.247,-48.4615,-48.6747, -48.8861,-49.0992,-49.4169,-49.6292, -49.8421,-50.0554,-50.2684,-50.4799, -50.6922,-50.9049,-51.1176,-51.3299, -51.5426,-51.7547,-52.1773,-52.389, -52.706,-52.9178,-53.2353,-53.447, -53.661,-53.8792,-54.0968,-54.3154, -54.643,-54.97,-55.0784,-55.1496)
FOOTPRINT_POINT_LONGITUDE = (67.8961,67.1947,66.5804,65.9736, 65.9547,65.9473,65.9708,65.9939,66.0166 ,66.039,66.0719,66.0934,66.114,66.1342, 66.1638,66.2023,66.2304,66.2487,66.2757 ,66.2934,66.3109,66.3447,66.3613, 66.3938,66.4096,66.433,66.4483,66.4633, 66.4854,66.507,66.5211,66.5351,66.5556, 66.569,66.5823,66.6018,66.6146,66.6271, 66.6395,66.6578,66.6696,66.6814,66.6929 ,66.7098,66.721,66.7319,66.7427,66.748, 66.7485,67.2781,67.6296,67.9511,68.43, 68.4472,68.4558,68.4426,68.4373,68.4301 ,68.4212,68.4089,68.4005,68.3907,68.382 ,68.3731,68.3606,68.3485,68.3399, 68.3282,68.3186,68.3064,68.2972,68.289, 68.2825,68.2741,68.2632,68.2552,68.2466 ,68.2372,68.2279,68.2201,68.2113, 68.2018,68.1921,68.1827,68.1726,68.163, 68.145,68.1353,68.121,68.1104,68.0947, 68.0837,68.0719,68.0607,68.0502,68.0381 ,68.0196,68.0014,67.9963,67.8961)
ORBIT_NUMBER = 18972
ORBITAL_ECCENTRICITY = 0.578
ORBITAL_INCLINATION = 86.98
ORBITAL_SEMIMAJOR_AXIS = 8792.83
PERIAPSIS_ALTITUDE = 328.22
PERIAPSIS_ARGUMENT_ANGLE = 310.13
PERIAPSIS_TIME = 2018-12-30T23:08:00.000Z
SPACECRAFT_ORIENTATION = (0.0,1.0,0.0)
^MEX_ORIENTATION_DESC = "MEX_ORIENTATION_DESC.TXT"
SPACECRAFT_POINTING_MODE = INERT
^MEX_POINTING_DESC = "MEX_POINTING_DESC.TXT"
RIGHT_ASCENSION = 27.154
DECLINATION = 51.641
OFFSET_ANGLE = -1e+32
SPACECRAFT_SOLAR_DISTANCE = 2.17258e+08
TARGET_NAME = MARS
/* CAMERA DATA ELEMENTS */
DETECTOR_TEMPERATURE = 17.5549
FOCAL_PLANE_TEMPERATURE = 9.6028
INST_CMPRS_NAME = "DISCRETE COSINE TRANSFORMATION (DCT)"
INST_CMPRS_RATIO = 7.98445
INST_CMPRS_QUALITY = 0
INST_CMPRS_QUANTZ_TBL_ID = 0
INSTRUMENT_TEMPERATURE = 12.0496
LENS_TEMPERATURE = 10.0106
MACROPIXEL_SIZE = 1
MISSING_FRAMES = 0
PIXEL_SUBSAMPLING_FLAG = N
SIGNAL_CHAIN_ID = 1
/* RADIOMETRIC DATA ELEMENTS */
BANDWIDTH = 178.0
CENTER_FILTER_WAVELENGTH = 679.0
RADIANCE_OFFSET = 6.14851
RADIANCE_SCALING_FACTOR = 0.023576
REFLECTANCE_SCALING_FACTOR = 0.000589317
MEX:REFLECTANCE_OFFSET = 0.153691
/* IMAGE OBJECT DEFINITIONS */
OBJECT = IMAGE
  INTERCHANGE_FORMAT = BINARY
  LINES = 51044
  LINE_SAMPLES = 7602
  SAMPLE_TYPE = UNSIGNED_INTEGER
  SAMPLE_BITS = 8
  BANDS = 1
  BAND_STORAGE_TYPE = BAND_SEQUENTIAL
  MAXIMUM = 255
  MEAN = 179.342
  MINIMUM = 1
  STANDARD_DEVIATION = 36.8895
END_OBJECT = IMAGE
/* MAP OBJECT DEFINITIONS */
OBJECT = IMAGE_MAP_PROJECTION
  ^DATA_SET_MAP_PROJECTION_CATALOG= "DSMAP.CAT"
  A_AXIS_RADIUS = 3396.0
  B_AXIS_RADIUS = 3396.0
  C_AXIS_RADIUS = 3396.0
  CENTER_LATITUDE = 0.0
  CENTER_LONGITUDE = 67.0
  COORDINATE_SYSTEM_NAME = PLANETOGRAPHIC
  COORDINATE_SYSTEM_TYPE = "BODY-FIXED ROTATING"
  EASTERNMOST_LONGITUDE = 68.4558
  FIRST_STANDARD_PARALLEL = "N/A"
  LINE_FIRST_PIXEL = 1
  LINE_LAST_PIXEL = 51044
  LINE_PROJECTION_OFFSET = -210259.0
  MAP_PROJECTION_ROTATION = 0.0
  MAP_PROJECTION_TYPE = SINUSOIDAL
  MAP_RESOLUTION = 4741.71043093333
  MAP_SCALE = 0.0125
  MAXIMUM_LATITUDE = -44.3348
  MINIMUM_LATITUDE = -55.1496
  POSITIVE_LONGITUDE_DIRECTION = EAST
  REFERENCE_LATITUDE = "N/A"
  REFERENCE_LONGITUDE = "N/A"
  SAMPLE_FIRST_PIXEL = 1
  SAMPLE_LAST_PIXEL = 7602
  SAMPLE_PROJECTION_OFFSET = 3144.0
  SECOND_STANDARD_PARALLEL = "N/A"
  WESTERNMOST_LONGITUDE = 65.9473
END_OBJECT = IMAGE_MAP_PROJECTION
END
