PDS_VERSION_ID = PDS3
/* FILE DATA ELEMENTS */
RECORD_TYPE = UNDEFINED
/* POINTERS TO DATA OBJECTS */
^IMAGE = ("HI973_0000_P14.TIF")
/* IDENTIFICATION DATA ELEMENTS */
DATA_SET_ID = "MEX-M-HRSC-4-REFDR-MAPPROJECT-EXT6-V4.0"
DATA_SET_NAME = "MARS EXPRESS HRSC MAP PROJECTED REFDR EXTENSION6 V4.0"
DETECTOR_ID = MEX_HRSC_P1
EVENT_TYPE = "MARS-REGIONAL-MAPPING-Im-Gl-Pf"
INSTRUMENT_HOST_ID = MEX
INSTRUMENT_HOST_NAME = "MARS EXPRESS"
INSTRUMENT_ID = HRSC
INSTRUMENT_NAME = "HIGH RESOLUTION STEREO CAMERA"
MISSION_NAME = "MARS EXPRESS"
MISSION_PHASE_NAME = ME_Phase_39
PROCESSING_LEVEL_ID = 4
PRODUCT_CREATION_TIME = 2023-01-29T14:35:52.000Z
PRODUCT_ID = "HI973_0000_P14.TIF"
RELEASE_ID = 0005
REVISION_ID = 0000
/* QUALITY DATA ELEMENTS */
DATA_QUALITY_ID = 1
DATA_QUALITY_DESC = "Data calculated based on original SPICE kernels"
/* TIME DATA ELEMENTS */
SPACECRAFT_CLOCK_START_COUNT = "1/0494316307.25683"
SPACECRAFT_CLOCK_STOP_COUNT = "1/0494316498.24179"
START_TIME = 2018-12-31T06:06:23.684Z
STOP_TIME = 2018-12-31T06:08:39.314Z
/* ORBITAL DATA ELEMENTS */
ASCENDING_NODE_LONGITUDE = 218.27
MAXIMUM_RESOLUTION = 0.027
FOOTPRINT_POINT_LATITUDE = (-53.5814,-53.5538,-53.513,-53.4825, -53.4814,-53.5522,-53.3559,-53.1594, -52.963,-52.7668,-52.5697,-52.2745, -51.9813,-51.7859,-51.5901,-51.297, -51.0037,-50.7107,-50.5153,-50.3205, -50.1249,-49.93,-49.7343,-49.441, -49.2457,-48.9543,-48.7594,-48.5656, -48.371,-48.1766,-47.9819,-47.6905, -47.3992,-47.1082,-46.9142,-46.7199, -46.5259,-46.3319,-46.138,-45.9441, -45.7503,-45.4596,-45.2657,-45.0716, -44.6846,-44.4909,-44.1037,-43.9085, -43.8101,-43.7693,-43.7897,-43.8175, -43.8335,-43.8541,-43.8546,-43.8553, -44.1457,-44.5331,-44.823,-45.2061, -45.4045,-45.6011,-45.7954,-45.9893, -46.3764,-46.6677,-46.8625,-47.0578, -47.2521,-47.4472,-47.7397,-47.9342, -48.1288,-48.4206,-48.6156,-48.8099, -49.0039,-49.1991,-49.393,-49.5882, -49.8811,-50.2709,-50.4683,-50.6632, -50.8595,-51.0588,-51.2537,-51.4483, -51.644,-51.9383,-52.1346,-52.3307, -52.529,-52.726,-52.9228,-53.12, -53.3153,-53.5125,-53.6111,-53.5814)
FOOTPRINT_POINT_LONGITUDE = (324.932,324.363,323.594,323.062, 323.044,322.979,323.003,323.027,323.051 ,323.074,323.098,323.133,323.165, 323.186,323.207,323.238,323.268,323.297 ,323.317,323.335,323.354,323.372, 323.391,323.418,323.436,323.461,323.477 ,323.493,323.509,323.524,323.54,323.563 ,323.585,323.606,323.62,323.634,323.648 ,323.661,323.674,323.687,323.7,323.719, 323.731,323.743,323.766,323.778,323.8, 323.814,323.821,323.823,324.163,324.644 ,324.971,325.406,325.421,325.427, 325.416,325.403,325.392,325.373,325.37, 325.365,325.358,325.35,325.334,325.322, 325.314,325.307,325.299,325.291,325.279 ,325.27,325.261,325.248,325.239,325.23, 325.22,325.211,325.201,325.191,325.177, 325.156,325.148,325.137,325.127,325.119 ,325.108,325.096,325.085,325.069, 325.058,325.046,325.036,325.024,325.013 ,325.001,324.988,324.976,324.97, 324.932)
ORBIT_NUMBER = 18973
ORBITAL_ECCENTRICITY = 0.577
ORBITAL_INCLINATION = 86.98
ORBITAL_SEMIMAJOR_AXIS = 8788.47
PERIAPSIS_ALTITUDE = 328.81
PERIAPSIS_ARGUMENT_ANGLE = 309.96
PERIAPSIS_TIME = 2018-12-31T06:06:56.000Z
SPACECRAFT_ORIENTATION = (0.0,1.0,0.0)
^MEX_ORIENTATION_DESC = "MEX_ORIENTATION_DESC.TXT"
SPACECRAFT_POINTING_MODE = INERT
^MEX_POINTING_DESC = "MEX_POINTING_DESC.TXT"
RIGHT_ASCENSION = 31.754
DECLINATION = 55.811
OFFSET_ANGLE = -1e+32
SPACECRAFT_SOLAR_DISTANCE = 2.17309e+08
TARGET_NAME = MARS
/* CAMERA DATA ELEMENTS */
DETECTOR_TEMPERATURE = 17.1471
FOCAL_PLANE_TEMPERATURE = 8.5833
INST_CMPRS_NAME = "DISCRETE COSINE TRANSFORMATION (DCT)"
INST_CMPRS_RATIO = 8.65707
INST_CMPRS_QUALITY = 0
INST_CMPRS_QUANTZ_TBL_ID = 0
INSTRUMENT_TEMPERATURE = 11.234
LENS_TEMPERATURE = 8.7872
MACROPIXEL_SIZE = 2
MISSING_FRAMES = 0
PIXEL_SUBSAMPLING_FLAG = N
SIGNAL_CHAIN_ID = 3
/* RADIOMETRIC DATA ELEMENTS */
BANDWIDTH = 174.0
CENTER_FILTER_WAVELENGTH = 675.0
RADIANCE_OFFSET = 5.52415
RADIANCE_SCALING_FACTOR = 0.0163715
REFLECTANCE_SCALING_FACTOR = 0.000415843
MEX:REFLECTANCE_OFFSET = 0.140315
/* IMAGE OBJECT DEFINITIONS */
OBJECT = IMAGE
  INTERCHANGE_FORMAT = BINARY
  LINES = 23446
  LINE_SAMPLES = 3901
  SAMPLE_TYPE = UNSIGNED_INTEGER
  SAMPLE_BITS = 8
  BANDS = 1
  BAND_STORAGE_TYPE = BAND_SEQUENTIAL
  MAXIMUM = 255
  MEAN = 135.902
  MINIMUM = 1
  STANDARD_DEVIATION = 43.8712
END_OBJECT = IMAGE
/* MAP OBJECT DEFINITIONS */
OBJECT = IMAGE_MAP_PROJECTION
  ^DATA_SET_MAP_PROJECTION_CATALOG= "DSMAP.CAT"
  A_AXIS_RADIUS = 3396.0
  B_AXIS_RADIUS = 3396.0
  C_AXIS_RADIUS = 3396.0
  CENTER_LATITUDE = 0.0
  CENTER_LONGITUDE = 324.0
  COORDINATE_SYSTEM_NAME = PLANETOGRAPHIC
  COORDINATE_SYSTEM_TYPE = "BODY-FIXED ROTATING"
  EASTERNMOST_LONGITUDE = 325.427
  FIRST_STANDARD_PARALLEL = "N/A"
  LINE_FIRST_PIXEL = 1
  LINE_LAST_PIXEL = 23446
  LINE_PROJECTION_OFFSET = -103770.75
  MAP_PROJECTION_ROTATION = 0.0
  MAP_PROJECTION_TYPE = SINUSOIDAL
  MAP_RESOLUTION = 2370.85521546667
  MAP_SCALE = 0.025
  MAXIMUM_LATITUDE = -43.7693
  MINIMUM_LATITUDE = -53.6111
  POSITIVE_LONGITUDE_DIRECTION = EAST
  REFERENCE_LATITUDE = "N/A"
  REFERENCE_LONGITUDE = "N/A"
  SAMPLE_FIRST_PIXEL = 1
  SAMPLE_LAST_PIXEL = 3901
  SAMPLE_PROJECTION_OFFSET = 1323.25
  SECOND_STANDARD_PARALLEL = "N/A"
  WESTERNMOST_LONGITUDE = 322.979
END_OBJECT = IMAGE_MAP_PROJECTION
END
