PDS_VERSION_ID = PDS3
/* FILE DATA ELEMENTS */
RECORD_TYPE = UNDEFINED
/* POINTERS TO DATA OBJECTS */
^IMAGE = ("HI973_0000_P24.TIF")
/* IDENTIFICATION DATA ELEMENTS */
DATA_SET_ID = "MEX-M-HRSC-4-REFDR-MAPPROJECT-EXT6-V4.0"
DATA_SET_NAME = "MARS EXPRESS HRSC MAP PROJECTED REFDR EXTENSION6 V4.0"
DETECTOR_ID = MEX_HRSC_P2
EVENT_TYPE = "MARS-REGIONAL-MAPPING-Im-Gl-Pf"
INSTRUMENT_HOST_ID = MEX
INSTRUMENT_HOST_NAME = "MARS EXPRESS"
INSTRUMENT_ID = HRSC
INSTRUMENT_NAME = "HIGH RESOLUTION STEREO CAMERA"
MISSION_NAME = "MARS EXPRESS"
MISSION_PHASE_NAME = ME_Phase_39
PROCESSING_LEVEL_ID = 4
PRODUCT_CREATION_TIME = 2023-01-29T14:35:52.000Z
PRODUCT_ID = "HI973_0000_P24.TIF"
RELEASE_ID = 0005
REVISION_ID = 0000
/* QUALITY DATA ELEMENTS */
DATA_QUALITY_ID = 1
DATA_QUALITY_DESC = "Data calculated based on original SPICE kernels"
/* TIME DATA ELEMENTS */
SPACECRAFT_CLOCK_START_COUNT = "1/0494316307.25683"
SPACECRAFT_CLOCK_STOP_COUNT = "1/0494316498.24179"
START_TIME = 2018-12-31T06:05:48.097Z
STOP_TIME = 2018-12-31T06:08:03.677Z
/* ORBITAL DATA ELEMENTS */
ASCENDING_NODE_LONGITUDE = 218.27
MAXIMUM_RESOLUTION = 0.027
FOOTPRINT_POINT_LATITUDE = (-53.6923,-53.6672,-53.6264,-53.5957, -53.5946,-53.5563,-53.3627,-53.0724, -52.7824,-52.492,-52.2017,-52.0081, -51.8137,-51.6197,-51.2341,-51.0386, -50.8431,-50.5515,-50.3567,-50.1633, -49.9683,-49.7739,-49.4831,-49.1913, -48.9948,-48.8002,-48.6047,-48.3117, -48.019,-47.8236,-47.628,-47.4322, -47.1384,-46.9426,-46.649,-46.4532, -46.257,-45.9629,-45.6684,-45.472, -45.2759,-45.081,-44.884,-44.5883, -44.3913,-44.1948,-43.9056,-43.8067, -43.7675,-43.7847,-43.8054,-43.8323, -43.855,-43.8557,-43.8564,-44.0537, -44.3481,-44.6438,-44.9465,-45.1498, -45.434,-45.8203,-46.0166,-46.2133, -46.4103,-46.6085,-46.9018,-47.1943, -47.3897,-47.5847,-47.7809,-47.9765, -48.1717,-48.3675,-48.563,-48.7594, -48.9558,-49.1521,-49.3468,-49.5421, -49.7371,-49.933,-50.129,-50.3224, -50.5178,-50.7113,-51.0009,-51.1954, -51.3905,-51.6824,-51.877,-52.0719, -52.3627,-52.5566,-52.8474,-53.0412, -53.2358,-53.5268,-53.6239,-53.6923)
FOOTPRINT_POINT_LONGITUDE = (325.039,324.499,323.727,323.206, 323.188,323.143,323.166,323.2,323.233, 323.265,323.297,323.318,323.338,323.358 ,323.399,323.417,323.435,323.462,323.48 ,323.498,323.515,323.533,323.559, 323.584,323.599,323.615,323.63,323.653, 323.675,323.69,323.704,323.718,323.739, 323.753,323.773,323.786,323.799,323.818 ,323.836,323.848,323.86,323.872,323.884 ,323.9,323.911,323.922,323.94,323.945, 323.947,324.232,324.645,325.121,325.565 ,325.581,325.587,325.579,325.568, 325.556,325.539,325.527,325.521,325.509 ,325.5,325.492,325.482,325.472,325.459, 325.447,325.438,325.43,325.42,325.411, 325.402,325.392,325.382,325.371,325.36, 325.35,325.34,325.329,325.319,325.308, 325.296,325.287,325.275,325.266,325.252 ,325.24,325.229,325.211,325.199,325.187 ,325.169,325.158,325.14,325.128,325.114 ,325.095,325.089,325.039)
ORBIT_NUMBER = 18973
ORBITAL_ECCENTRICITY = 0.577
ORBITAL_INCLINATION = 86.98
ORBITAL_SEMIMAJOR_AXIS = 8788.47
PERIAPSIS_ALTITUDE = 328.81
PERIAPSIS_ARGUMENT_ANGLE = 309.96
PERIAPSIS_TIME = 2018-12-31T06:06:56.000Z
SPACECRAFT_ORIENTATION = (0.0,1.0,0.0)
^MEX_ORIENTATION_DESC = "MEX_ORIENTATION_DESC.TXT"
SPACECRAFT_POINTING_MODE = INERT
^MEX_POINTING_DESC = "MEX_POINTING_DESC.TXT"
RIGHT_ASCENSION = 31.754
DECLINATION = 55.811
OFFSET_ANGLE = -1e+32
SPACECRAFT_SOLAR_DISTANCE = 2.17309e+08
TARGET_NAME = MARS
/* CAMERA DATA ELEMENTS */
DETECTOR_TEMPERATURE = 18.5744
FOCAL_PLANE_TEMPERATURE = 8.5833
INST_CMPRS_NAME = "DISCRETE COSINE TRANSFORMATION (DCT)"
INST_CMPRS_RATIO = 6.51161
INST_CMPRS_QUALITY = 0
INST_CMPRS_QUANTZ_TBL_ID = 0
INSTRUMENT_TEMPERATURE = 11.234
LENS_TEMPERATURE = 8.7872
MACROPIXEL_SIZE = 2
MISSING_FRAMES = 0
PIXEL_SUBSAMPLING_FLAG = N
SIGNAL_CHAIN_ID = 3
/* RADIOMETRIC DATA ELEMENTS */
BANDWIDTH = 177.0
CENTER_FILTER_WAVELENGTH = 676.5
RADIANCE_OFFSET = 5.33677
RADIANCE_SCALING_FACTOR = 0.0160614
REFLECTANCE_SCALING_FACTOR = 0.000402157
MEX:REFLECTANCE_OFFSET = 0.133626
/* IMAGE OBJECT DEFINITIONS */
OBJECT = IMAGE
  INTERCHANGE_FORMAT = BINARY
  LINES = 23446
  LINE_SAMPLES = 3901
  SAMPLE_TYPE = UNSIGNED_INTEGER
  SAMPLE_BITS = 8
  BANDS = 1
  BAND_STORAGE_TYPE = BAND_SEQUENTIAL
  MAXIMUM = 255
  MEAN = 130.23
  MINIMUM = 1
  STANDARD_DEVIATION = 40.237
END_OBJECT = IMAGE
/* MAP OBJECT DEFINITIONS */
OBJECT = IMAGE_MAP_PROJECTION
  ^DATA_SET_MAP_PROJECTION_CATALOG= "DSMAP.CAT"
  A_AXIS_RADIUS = 3396.0
  B_AXIS_RADIUS = 3396.0
  C_AXIS_RADIUS = 3396.0
  CENTER_LATITUDE = 0.0
  CENTER_LONGITUDE = 324.0
  COORDINATE_SYSTEM_NAME = PLANETOGRAPHIC
  COORDINATE_SYSTEM_TYPE = "BODY-FIXED ROTATING"
  EASTERNMOST_LONGITUDE = 325.587
  FIRST_STANDARD_PARALLEL = "N/A"
  LINE_FIRST_PIXEL = 1
  LINE_LAST_PIXEL = 23446
  LINE_PROJECTION_OFFSET = -103770.75
  MAP_PROJECTION_ROTATION = 0.0
  MAP_PROJECTION_TYPE = SINUSOIDAL
  MAP_RESOLUTION = 2370.85521546667
  MAP_SCALE = 0.025
  MAXIMUM_LATITUDE = -43.7675
  MINIMUM_LATITUDE = -53.6923
  POSITIVE_LONGITUDE_DIRECTION = EAST
  REFERENCE_LATITUDE = "N/A"
  REFERENCE_LONGITUDE = "N/A"
  SAMPLE_FIRST_PIXEL = 1
  SAMPLE_LAST_PIXEL = 3901
  SAMPLE_PROJECTION_OFFSET = 1323.25
  SECOND_STANDARD_PARALLEL = "N/A"
  WESTERNMOST_LONGITUDE = 323.143
END_OBJECT = IMAGE_MAP_PROJECTION
END
