PDS_VERSION_ID = PDS3
/* FILE DATA ELEMENTS */
RECORD_TYPE = UNDEFINED
/* POINTERS TO DATA OBJECTS */
^IMAGE = ("HI974_0000_BL4.TIF")
/* IDENTIFICATION DATA ELEMENTS */
DATA_SET_ID = "MEX-M-HRSC-4-REFDR-MAPPROJECT-EXT6-V4.0"
DATA_SET_NAME = "MARS EXPRESS HRSC MAP PROJECTED REFDR EXTENSION6 V4.0"
DETECTOR_ID = MEX_HRSC_BLUE
EVENT_TYPE = "MARS-REGIONAL-MAPPING-Te-Gl-Pf"
INSTRUMENT_HOST_ID = MEX
INSTRUMENT_HOST_NAME = "MARS EXPRESS"
INSTRUMENT_ID = HRSC
INSTRUMENT_NAME = "HIGH RESOLUTION STEREO CAMERA"
MISSION_NAME = "MARS EXPRESS"
MISSION_PHASE_NAME = ME_Phase_39
PROCESSING_LEVEL_ID = 4
PRODUCT_CREATION_TIME = 2023-01-29T14:35:52.000Z
PRODUCT_ID = "HI974_0000_BL4.TIF"
RELEASE_ID = 0005
REVISION_ID = 0000
/* QUALITY DATA ELEMENTS */
DATA_QUALITY_ID = 1
DATA_QUALITY_DESC = "Data calculated based on original SPICE kernels"
/* TIME DATA ELEMENTS */
SPACECRAFT_CLOCK_START_COUNT = "1/0494341335.25679"
SPACECRAFT_CLOCK_STOP_COUNT = "1/0494341569.56341"
START_TIME = 2018-12-31T13:03:11.000Z
STOP_TIME = 2018-12-31T13:06:09.209Z
/* ORBITAL DATA ELEMENTS */
ASCENDING_NODE_LONGITUDE = 218.25
MAXIMUM_RESOLUTION = 0.0524
FOOTPRINT_POINT_LATITUDE = (-60.7549,-60.7079,-60.63,-60.6286, -60.6334,-60.3748,-60.1161,-59.8575, -59.4694,-59.0814,-58.8227,-58.564, -58.3052,-58.0465,-57.7877,-57.3995, -57.0106,-56.7516,-56.4926,-56.2344, -55.8507,-55.3505,-55.0996,-54.7232, -54.3468,-54.0956,-53.8444,-53.4676, -53.0909,-52.7141,-52.4627,-52.2113, -51.9599,-51.7085,-51.3312,-51.0794, -50.8276,-50.5759,-50.3241,-50.0722, -49.8202,-49.568,-49.316,-49.0637, -48.8114,-48.4327,-48.0537,-47.9281, -47.8745,-47.9263,-47.9639,-47.9645, -47.9657,-48.2181,-48.4703,-48.7234, -48.9766,-49.2289,-49.4816,-49.7344, -49.9872,-50.3663,-50.745,-50.9975, -51.2497,-51.5017,-51.7537,-52.1319, -52.384,-52.636,-52.8882,-53.1409, -53.6436,-53.8955,-54.1474,-54.5251, -54.777,-55.0288,-55.2803,-55.5317, -55.7833,-56.0349,-56.4214,-56.6812, -56.9411,-57.201,-57.4609,-57.7209, -57.9808,-58.2408,-58.5008,-58.7608, -59.0208,-59.2808,-59.6709,-59.9309, -60.1909,-60.581,-60.7111,-60.7549)
FOOTPRINT_POINT_LONGITUDE = (222.311,221.33,219.951,219.929,219.874 ,219.93,219.984,220.038,220.116,220.191 ,220.24,220.288,220.335,220.381,220.426 ,220.492,220.551,220.592,220.633, 220.675,220.728,220.804,220.838,220.889 ,220.937,220.969,221.0,221.045,221.09, 221.133,221.16,221.188,221.215,221.241, 221.279,221.304,221.328,221.353,221.376 ,221.399,221.421,221.443,221.465, 221.486,221.507,221.537,221.566,221.576 ,221.58,222.497,223.258,223.274,223.28, 223.268,223.257,223.244,223.231,223.219 ,223.207,223.193,223.18,223.159,223.138 ,223.124,223.11,223.095,223.081,223.058 ,223.043,223.027,223.011,222.993, 222.963,222.946,222.928,222.902,222.883 ,222.864,222.846,222.828,222.809,222.79 ,222.76,222.74,222.719,222.698,222.677, 222.655,222.633,222.609,222.586,222.562 ,222.537,222.512,222.473,222.447,222.42 ,222.378,222.364,222.311)
ORBIT_NUMBER = 18974
ORBITAL_ECCENTRICITY = 0.578
ORBITAL_INCLINATION = 86.99
ORBITAL_SEMIMAJOR_AXIS = 8789.53
PERIAPSIS_ALTITUDE = 328.06
PERIAPSIS_ARGUMENT_ANGLE = 309.77
PERIAPSIS_TIME = 2018-12-31T13:05:50.000Z
SPACECRAFT_ORIENTATION = (0.0,1.0,0.0)
^MEX_ORIENTATION_DESC = "MEX_ORIENTATION_DESC.TXT"
SPACECRAFT_POINTING_MODE = INERT
^MEX_POINTING_DESC = "MEX_POINTING_DESC.TXT"
RIGHT_ASCENSION = 21.829
DECLINATION = 57.728
OFFSET_ANGLE = -1e+32
SPACECRAFT_SOLAR_DISTANCE = 2.17361e+08
TARGET_NAME = MARS
/* CAMERA DATA ELEMENTS */
DETECTOR_TEMPERATURE = 18.9822
FOCAL_PLANE_TEMPERATURE = 10.4184
INST_CMPRS_NAME = "DISCRETE COSINE TRANSFORMATION (DCT)"
INST_CMPRS_RATIO = 5.46084
INST_CMPRS_QUALITY = 0
INST_CMPRS_QUANTZ_TBL_ID = 0
INSTRUMENT_TEMPERATURE = 12.4574
LENS_TEMPERATURE = 11.0301
MACROPIXEL_SIZE = 4
MISSING_FRAMES = 0
PIXEL_SUBSAMPLING_FLAG = N
SIGNAL_CHAIN_ID = 2
/* RADIOMETRIC DATA ELEMENTS */
BANDWIDTH = 76.0
CENTER_FILTER_WAVELENGTH = 444.0
RADIANCE_OFFSET = 0.570724
RADIANCE_SCALING_FACTOR = 0.00161354
REFLECTANCE_SCALING_FACTOR = 7.83242e-05
MEX:REFLECTANCE_OFFSET = 0.027704
/* IMAGE OBJECT DEFINITIONS */
OBJECT = IMAGE
  INTERCHANGE_FORMAT = BINARY
  LINES = 15290
  LINE_SAMPLES = 2257
  SAMPLE_TYPE = UNSIGNED_INTEGER
  SAMPLE_BITS = 8
  BANDS = 1
  BAND_STORAGE_TYPE = BAND_SEQUENTIAL
  MAXIMUM = 255
  MEAN = 134.184
  MINIMUM = 1
  STANDARD_DEVIATION = 31.7815
END_OBJECT = IMAGE
/* MAP OBJECT DEFINITIONS */
OBJECT = IMAGE_MAP_PROJECTION
  ^DATA_SET_MAP_PROJECTION_CATALOG= "DSMAP.CAT"
  A_AXIS_RADIUS = 3396.0
  B_AXIS_RADIUS = 3396.0
  C_AXIS_RADIUS = 3396.0
  CENTER_LATITUDE = 0.0
  CENTER_LONGITUDE = 222.0
  COORDINATE_SYSTEM_NAME = PLANETOGRAPHIC
  COORDINATE_SYSTEM_TYPE = "BODY-FIXED ROTATING"
  EASTERNMOST_LONGITUDE = 223.28
  FIRST_STANDARD_PARALLEL = "N/A"
  LINE_FIRST_PIXEL = 1
  LINE_LAST_PIXEL = 15290
  LINE_PROJECTION_OFFSET = -56756.375
  MAP_PROJECTION_ROTATION = 0.0
  MAP_PROJECTION_TYPE = SINUSOIDAL
  MAP_RESOLUTION = 1185.42760773333
  MAP_SCALE = 0.05
  MAXIMUM_LATITUDE = -47.8745
  MINIMUM_LATITUDE = -60.7549
  POSITIVE_LONGITUDE_DIRECTION = EAST
  REFERENCE_LATITUDE = "N/A"
  REFERENCE_LONGITUDE = "N/A"
  SAMPLE_FIRST_PIXEL = 1
  SAMPLE_LAST_PIXEL = 2257
  SAMPLE_PROJECTION_OFFSET = 1258.625
  SECOND_STANDARD_PARALLEL = "N/A"
  WESTERNMOST_LONGITUDE = 219.874
END_OBJECT = IMAGE_MAP_PROJECTION
END
