PDS_VERSION_ID = PDS3
/* FILE DATA ELEMENTS */
RECORD_TYPE = UNDEFINED
/* POINTERS TO DATA OBJECTS */
^IMAGE = ("HI974_0000_ND4.TIF")
/* IDENTIFICATION DATA ELEMENTS */
DATA_SET_ID = "MEX-M-HRSC-4-REFDR-MAPPROJECT-EXT6-V4.0"
DATA_SET_NAME = "MARS EXPRESS HRSC MAP PROJECTED REFDR EXTENSION6 V4.0"
DETECTOR_ID = MEX_HRSC_NADIR
EVENT_TYPE = "MARS-REGIONAL-MAPPING-Te-Gl-Pf"
INSTRUMENT_HOST_ID = MEX
INSTRUMENT_HOST_NAME = "MARS EXPRESS"
INSTRUMENT_ID = HRSC
INSTRUMENT_NAME = "HIGH RESOLUTION STEREO CAMERA"
MISSION_NAME = "MARS EXPRESS"
MISSION_PHASE_NAME = ME_Phase_39
PROCESSING_LEVEL_ID = 4
PRODUCT_CREATION_TIME = 2023-01-29T14:35:52.000Z
PRODUCT_ID = "HI974_0000_ND4.TIF"
RELEASE_ID = 0005
REVISION_ID = 0000
/* QUALITY DATA ELEMENTS */
DATA_QUALITY_ID = 1
DATA_QUALITY_DESC = "Data calculated based on original SPICE kernels"
/* TIME DATA ELEMENTS */
SPACECRAFT_CLOCK_START_COUNT = "1/0494341335.25679"
SPACECRAFT_CLOCK_STOP_COUNT = "1/0494341569.56341"
START_TIME = 2018-12-31T13:03:15.688Z
STOP_TIME = 2018-12-31T13:06:13.678Z
/* ORBITAL DATA ELEMENTS */
ASCENDING_NODE_LONGITUDE = 218.25
MAXIMUM_RESOLUTION = 0.013
FOOTPRINT_POINT_LATITUDE = (-60.7526,-60.7155,-60.6834,-60.6272, -60.6257,-60.6429,-60.3822,-60.1215, -59.8607,-59.5999,-59.2089,-58.9481, -58.6875,-58.4267,-58.1662,-57.9055, -57.6449,-57.3842,-57.1241,-56.8634, -56.4724,-56.2161,-55.7117,-55.3334, -54.7028,-54.3244,-54.072,-53.8196, -53.4411,-53.0625,-52.6839,-52.4314, -52.0527,-51.6739,-51.2951,-50.916, -50.537,-50.2842,-50.0314,-49.7786, -49.5256,-49.2728,-49.0198,-48.7668, -48.5137,-48.2605,-48.0073,-47.881, -47.8777,-47.9181,-47.9667,-47.9674, -47.968,-48.2212,-48.4744,-48.728, -48.9818,-49.235,-49.4885,-49.742, -49.9955,-50.3757,-50.7557,-51.009, -51.2622,-51.5153,-51.7684,-52.0216, -52.2747,-52.5279,-52.9077,-53.1609, -53.4138,-53.7934,-54.0464,-54.2995, -54.5526,-54.8056,-55.0586,-55.4382, -55.6913,-55.9443,-56.1975,-56.4506, -56.8428,-57.1045,-57.3664,-57.7593, -58.1521,-58.4141,-58.676,-58.9379, -59.1999,-59.4619,-59.7241,-59.9862, -60.2482,-60.6416,-60.7727,-60.7526)
FOOTPRINT_POINT_LONGITUDE = (222.295,221.51,220.893,219.922,219.898 ,219.834,219.89,219.946,220.0,220.054, 220.131,220.181,220.23,220.279,220.326, 220.372,220.417,220.461,220.5,220.542, 220.604,220.646,220.719,220.776,220.861 ,220.911,220.942,220.974,221.02,221.065 ,221.108,221.136,221.177,221.217, 221.256,221.293,221.33,221.353,221.377, 221.399,221.421,221.443,221.465,221.485 ,221.506,221.526,221.545,221.555, 221.556,222.259,223.231,223.248,223.256 ,223.245,223.234,223.221,223.208, 223.196,223.184,223.17,223.157,223.136, 223.115,223.101,223.087,223.073,223.059 ,223.044,223.028,223.013,222.989, 222.972,222.957,222.932,222.915,222.897 ,222.879,222.861,222.842,222.815, 222.797,222.777,222.758,222.738,222.708 ,222.686,222.665,222.633,222.599, 222.575,222.551,222.526,222.502,222.476 ,222.45,222.424,222.396,222.354,222.34, 222.295)
ORBIT_NUMBER = 18974
ORBITAL_ECCENTRICITY = 0.578
ORBITAL_INCLINATION = 86.99
ORBITAL_SEMIMAJOR_AXIS = 8789.53
PERIAPSIS_ALTITUDE = 328.06
PERIAPSIS_ARGUMENT_ANGLE = 309.77
PERIAPSIS_TIME = 2018-12-31T13:05:50.000Z
SPACECRAFT_ORIENTATION = (0.0,1.0,0.0)
^MEX_ORIENTATION_DESC = "MEX_ORIENTATION_DESC.TXT"
SPACECRAFT_POINTING_MODE = INERT
^MEX_POINTING_DESC = "MEX_POINTING_DESC.TXT"
RIGHT_ASCENSION = 21.829
DECLINATION = 57.728
OFFSET_ANGLE = -1e+32
SPACECRAFT_SOLAR_DISTANCE = 2.17361e+08
TARGET_NAME = MARS
/* CAMERA DATA ELEMENTS */
DETECTOR_TEMPERATURE = 18.9822
FOCAL_PLANE_TEMPERATURE = 10.4184
INST_CMPRS_NAME = "DISCRETE COSINE TRANSFORMATION (DCT)"
INST_CMPRS_RATIO = 5.69506
INST_CMPRS_QUALITY = 0
INST_CMPRS_QUANTZ_TBL_ID = 0
INSTRUMENT_TEMPERATURE = 12.4574
LENS_TEMPERATURE = 11.0301
MACROPIXEL_SIZE = 1
MISSING_FRAMES = 0
PIXEL_SUBSAMPLING_FLAG = N
SIGNAL_CHAIN_ID = 0
/* RADIOMETRIC DATA ELEMENTS */
BANDWIDTH = 177.0
CENTER_FILTER_WAVELENGTH = 677.5
RADIANCE_OFFSET = 2.99777
RADIANCE_SCALING_FACTOR = 0.0208574
REFLECTANCE_SCALING_FACTOR = 0.000523483
MEX:REFLECTANCE_OFFSET = 0.0752389
/* IMAGE OBJECT DEFINITIONS */
OBJECT = IMAGE
  INTERCHANGE_FORMAT = BINARY
  LINES = 61160
  LINE_SAMPLES = 9026
  SAMPLE_TYPE = UNSIGNED_INTEGER
  SAMPLE_BITS = 8
  BANDS = 1
  BAND_STORAGE_TYPE = BAND_SEQUENTIAL
  MAXIMUM = 255
  MEAN = 130.171
  MINIMUM = 1
  STANDARD_DEVIATION = 33.1688
END_OBJECT = IMAGE
/* MAP OBJECT DEFINITIONS */
OBJECT = IMAGE_MAP_PROJECTION
  ^DATA_SET_MAP_PROJECTION_CATALOG= "DSMAP.CAT"
  A_AXIS_RADIUS = 3396.0
  B_AXIS_RADIUS = 3396.0
  C_AXIS_RADIUS = 3396.0
  CENTER_LATITUDE = 0.0
  CENTER_LONGITUDE = 222.0
  COORDINATE_SYSTEM_NAME = PLANETOGRAPHIC
  COORDINATE_SYSTEM_TYPE = "BODY-FIXED ROTATING"
  EASTERNMOST_LONGITUDE = 223.256
  FIRST_STANDARD_PARALLEL = "N/A"
  LINE_FIRST_PIXEL = 1
  LINE_LAST_PIXEL = 61160
  LINE_PROJECTION_OFFSET = -227024.0
  MAP_PROJECTION_ROTATION = 0.0
  MAP_PROJECTION_TYPE = SINUSOIDAL
  MAP_RESOLUTION = 4741.71043093333
  MAP_SCALE = 0.0125
  MAXIMUM_LATITUDE = -47.8777
  MINIMUM_LATITUDE = -60.7727
  POSITIVE_LONGITUDE_DIRECTION = EAST
  REFERENCE_LATITUDE = "N/A"
  REFERENCE_LONGITUDE = "N/A"
  SAMPLE_FIRST_PIXEL = 1
  SAMPLE_LAST_PIXEL = 9026
  SAMPLE_PROJECTION_OFFSET = 5036.0
  SECOND_STANDARD_PARALLEL = "N/A"
  WESTERNMOST_LONGITUDE = 219.834
END_OBJECT = IMAGE_MAP_PROJECTION
END
