PDS_VERSION_ID = PDS3
/* FILE DATA ELEMENTS */
RECORD_TYPE = UNDEFINED
/* POINTERS TO DATA OBJECTS */
^IMAGE = ("HI974_0000_S14.TIF")
/* IDENTIFICATION DATA ELEMENTS */
DATA_SET_ID = "MEX-M-HRSC-4-REFDR-MAPPROJECT-EXT6-V4.0"
DATA_SET_NAME = "MARS EXPRESS HRSC MAP PROJECTED REFDR EXTENSION6 V4.0"
DETECTOR_ID = MEX_HRSC_S1
EVENT_TYPE = "MARS-REGIONAL-MAPPING-Te-Gl-Pf"
INSTRUMENT_HOST_ID = MEX
INSTRUMENT_HOST_NAME = "MARS EXPRESS"
INSTRUMENT_ID = HRSC
INSTRUMENT_NAME = "HIGH RESOLUTION STEREO CAMERA"
MISSION_NAME = "MARS EXPRESS"
MISSION_PHASE_NAME = ME_Phase_39
PROCESSING_LEVEL_ID = 4
PRODUCT_CREATION_TIME = 2023-01-29T14:35:52.000Z
PRODUCT_ID = "HI974_0000_S14.TIF"
RELEASE_ID = 0005
REVISION_ID = 0000
/* QUALITY DATA ELEMENTS */
DATA_QUALITY_ID = 1
DATA_QUALITY_DESC = "Data calculated based on original SPICE kernels"
/* TIME DATA ELEMENTS */
SPACECRAFT_CLOCK_START_COUNT = "1/0494341335.25679"
SPACECRAFT_CLOCK_STOP_COUNT = "1/0494341569.56341"
START_TIME = 2018-12-31T13:03:44.707Z
STOP_TIME = 2018-12-31T13:06:39.684Z
/* ORBITAL DATA ELEMENTS */
ASCENDING_NODE_LONGITUDE = 218.25
MAXIMUM_RESOLUTION = 0.0267
FOOTPRINT_POINT_LATITUDE = (-60.6458,-60.6214,-60.5793,-60.5196, -60.5182,-60.6087,-60.3424,-60.0763, -59.8102,-59.5445,-59.2788,-59.0141, -58.6165,-58.351,-58.0945,-57.8385, -57.5835,-57.3275,-56.8242,-56.5695, -56.3104,-55.806,-55.5436,-55.165, -54.786,-54.5331,-54.2805,-53.9026, -53.5242,-53.272,-53.0194,-52.7674, -52.5156,-52.2641,-52.0124,-51.7608, -51.5094,-51.2583,-51.0074,-50.7568, -50.5054,-50.2547,-49.879,-49.5037, -49.2534,-49.0033,-48.6285,-48.0047, -47.8793,-47.8417,-47.8768,-47.9052, -47.926,-47.9269,-47.9277,-48.3045, -48.6803,-49.0555,-49.3066,-49.5572, -49.8075,-50.1826,-50.4337,-50.685, -50.9358,-51.1872,-51.4396,-51.6914, -51.9437,-52.3219,-52.5742,-52.8246, -53.0767,-53.3316,-53.5849,-53.8377, -54.2169,-54.47,-54.7211,-55.1023, -55.4851,-55.7406,-56.1224,-56.3771, -56.6383,-56.8934,-57.1471,-57.5348, -57.7922,-58.1778,-58.4352,-58.7011, -59.1006,-59.3669,-59.6341,-59.9013, -60.1677,-60.5696,-60.7036,-60.6458)
FOOTPRINT_POINT_LONGITUDE = (222.202,221.688,220.871,219.824,219.8, 219.719,219.779,219.837,219.894,219.949 ,220.004,220.056,220.134,220.184, 220.231,220.278,220.322,220.367,220.447 ,220.489,220.533,220.608,220.652, 220.706,220.758,220.793,220.826,220.875 ,220.922,220.953,220.984,221.014, 221.043,221.071,221.099,221.127,221.153 ,221.18,221.205,221.23,221.255,221.279, 221.314,221.348,221.37,221.392,221.424, 221.474,221.484,221.487,222.104,222.642 ,223.101,223.117,223.123,223.107,223.09 ,223.073,223.061,223.049,223.036, 223.016,223.004,222.991,222.977,222.963 ,222.95,222.936,222.922,222.9,222.885, 222.869,222.853,222.839,222.823,222.806 ,222.781,222.764,222.745,222.719, 222.692,222.674,222.645,222.626,222.608 ,222.588,222.566,222.536,222.515, 222.482,222.459,222.435,222.399,222.373 ,222.348,222.322,222.294,222.253, 222.239,222.202)
ORBIT_NUMBER = 18974
ORBITAL_ECCENTRICITY = 0.578
ORBITAL_INCLINATION = 86.99
ORBITAL_SEMIMAJOR_AXIS = 8789.53
PERIAPSIS_ALTITUDE = 328.06
PERIAPSIS_ARGUMENT_ANGLE = 309.77
PERIAPSIS_TIME = 2018-12-31T13:05:50.000Z
SPACECRAFT_ORIENTATION = (0.0,1.0,0.0)
^MEX_ORIENTATION_DESC = "MEX_ORIENTATION_DESC.TXT"
SPACECRAFT_POINTING_MODE = INERT
^MEX_POINTING_DESC = "MEX_POINTING_DESC.TXT"
RIGHT_ASCENSION = 21.829
DECLINATION = 57.728
OFFSET_ANGLE = -1e+32
SPACECRAFT_SOLAR_DISTANCE = 2.17361e+08
TARGET_NAME = MARS
/* CAMERA DATA ELEMENTS */
DETECTOR_TEMPERATURE = 18.1666
FOCAL_PLANE_TEMPERATURE = 10.4184
INST_CMPRS_NAME = "DISCRETE COSINE TRANSFORMATION (DCT)"
INST_CMPRS_RATIO = 7.71523
INST_CMPRS_QUALITY = 0
INST_CMPRS_QUANTZ_TBL_ID = 0
INSTRUMENT_TEMPERATURE = 12.4574
LENS_TEMPERATURE = 11.0301
MACROPIXEL_SIZE = 2
MISSING_FRAMES = 0
PIXEL_SUBSAMPLING_FLAG = N
SIGNAL_CHAIN_ID = 1
/* RADIOMETRIC DATA ELEMENTS */
BANDWIDTH = 180.0
CENTER_FILTER_WAVELENGTH = 677.0
RADIANCE_OFFSET = 3.7699
RADIANCE_SCALING_FACTOR = 0.0218063
REFLECTANCE_SCALING_FACTOR = 0.000537506
MEX:REFLECTANCE_OFFSET = 0.0929248
/* IMAGE OBJECT DEFINITIONS */
OBJECT = IMAGE
  INTERCHANGE_FORMAT = BINARY
  LINES = 30580
  LINE_SAMPLES = 4513
  SAMPLE_TYPE = UNSIGNED_INTEGER
  SAMPLE_BITS = 8
  BANDS = 1
  BAND_STORAGE_TYPE = BAND_SEQUENTIAL
  MAXIMUM = 255
  MEAN = 139.366
  MINIMUM = 1
  STANDARD_DEVIATION = 33.1722
END_OBJECT = IMAGE
/* MAP OBJECT DEFINITIONS */
OBJECT = IMAGE_MAP_PROJECTION
  ^DATA_SET_MAP_PROJECTION_CATALOG= "DSMAP.CAT"
  A_AXIS_RADIUS = 3396.0
  B_AXIS_RADIUS = 3396.0
  C_AXIS_RADIUS = 3396.0
  CENTER_LATITUDE = 0.0
  CENTER_LONGITUDE = 222.0
  COORDINATE_SYSTEM_NAME = PLANETOGRAPHIC
  COORDINATE_SYSTEM_TYPE = "BODY-FIXED ROTATING"
  EASTERNMOST_LONGITUDE = 223.123
  FIRST_STANDARD_PARALLEL = "N/A"
  LINE_FIRST_PIXEL = 1
  LINE_LAST_PIXEL = 30580
  LINE_PROJECTION_OFFSET = -113512.25
  MAP_PROJECTION_ROTATION = 0.0
  MAP_PROJECTION_TYPE = SINUSOIDAL
  MAP_RESOLUTION = 2370.85521546667
  MAP_SCALE = 0.025
  MAXIMUM_LATITUDE = -47.8417
  MINIMUM_LATITUDE = -60.7036
  POSITIVE_LONGITUDE_DIRECTION = EAST
  REFERENCE_LATITUDE = "N/A"
  REFERENCE_LONGITUDE = "N/A"
  SAMPLE_FIRST_PIXEL = 1
  SAMPLE_LAST_PIXEL = 4513
  SAMPLE_PROJECTION_OFFSET = 2517.75
  SECOND_STANDARD_PARALLEL = "N/A"
  WESTERNMOST_LONGITUDE = 219.719
END_OBJECT = IMAGE_MAP_PROJECTION
END
