PDS_VERSION_ID = PDS3
/* FILE DATA ELEMENTS */
RECORD_TYPE = UNDEFINED
/* POINTERS TO DATA OBJECTS */
^IMAGE = ("HI975_0000_P14.TIF")
/* IDENTIFICATION DATA ELEMENTS */
DATA_SET_ID = "MEX-M-HRSC-4-REFDR-MAPPROJECT-EXT6-V4.0"
DATA_SET_NAME = "MARS EXPRESS HRSC MAP PROJECTED REFDR EXTENSION6 V4.0"
DETECTOR_ID = MEX_HRSC_P1
EVENT_TYPE = "MARS-REGIONAL-MAPPING-Vo-Im"
INSTRUMENT_HOST_ID = MEX
INSTRUMENT_HOST_NAME = "MARS EXPRESS"
INSTRUMENT_ID = HRSC
INSTRUMENT_NAME = "HIGH RESOLUTION STEREO CAMERA"
MISSION_NAME = "MARS EXPRESS"
MISSION_PHASE_NAME = ME_Phase_39
PROCESSING_LEVEL_ID = 4
PRODUCT_CREATION_TIME = 2023-01-29T14:35:52.000Z
PRODUCT_ID = "HI975_0000_P14.TIF"
RELEASE_ID = 0005
REVISION_ID = 0000
/* QUALITY DATA ELEMENTS */
DATA_QUALITY_ID = 1
DATA_QUALITY_DESC = "Data calculated based on original SPICE kernels"
/* TIME DATA ELEMENTS */
SPACECRAFT_CLOCK_START_COUNT = "1/0494366542.23981"
SPACECRAFT_CLOCK_STOP_COUNT = "1/0494366745.33020"
START_TIME = 2018-12-31T20:03:40.534Z
STOP_TIME = 2018-12-31T20:06:06.062Z
/* ORBITAL DATA ELEMENTS */
ASCENDING_NODE_LONGITUDE = 218.23
MAXIMUM_RESOLUTION = 0.027
FOOTPRINT_POINT_LATITUDE = (-57.1138,-57.0887,-57.0604,-57.0227, -57.0216,-57.0914,-56.8745,-56.655, -56.4328,-56.2124,-55.8879,-55.5754, -55.3642,-55.1507,-54.9394,-54.729, -54.5179,-54.3042,-53.9828,-53.7749, -53.5629,-53.2491,-52.8349,-52.625, -52.41,-52.1986,-51.99,-51.7802, -51.4687,-51.2589,-51.0443,-50.8332, -50.6268,-50.4178,-50.2113,-50.0014, -49.7916,-49.377,-49.0646,-48.8544, -48.5424,-48.3343,-48.1267,-47.919, -47.7111,-47.5032,-47.2959,-46.9848, -46.6735,-46.5694,-46.541,-46.5644, -46.5876,-46.605,-46.6055,-46.6062, -46.9177,-47.1255,-47.3336,-47.6456, -47.9576,-48.3715,-48.5797,-48.7895, -49.1034,-49.3138,-49.5236,-49.7331, -50.0475,-50.3615,-50.6752,-50.9878, -51.1988,-51.4077,-51.6174,-51.8283, -52.0401,-52.3582,-52.7751,-52.986, -53.1929,-53.4053,-53.616,-53.8323, -54.0458,-54.2575,-54.4704,-54.6841, -55.0026,-55.215,-55.5313,-55.7437, -55.9547,-56.1696,-56.3906,-56.612, -56.8324,-57.0511,-57.1609,-57.1138)
FOOTPRINT_POINT_LONGITUDE = (119.342,118.668,117.984,117.158, 117.136,117.037,117.08,117.126,117.175, 117.221,117.284,117.339,117.378,117.419 ,117.457,117.494,117.53,117.57,117.63, 117.66,117.696,117.743,117.799,117.83, 117.867,117.899,117.927,117.956,117.994 ,118.022,118.057,118.086,118.108, 118.134,118.156,118.182,118.208,118.251 ,118.285,118.31,118.342,118.363,118.383 ,118.403,118.423,118.443,118.462,118.49 ,118.517,118.527,118.529,119.081,119.69 ,120.209,120.225,120.231,120.213, 120.201,120.189,120.171,120.152,120.126 ,120.113,120.099,120.079,120.064,120.05 ,120.035,120.013,119.99,119.967,119.943 ,119.926,119.91,119.893,119.876,119.858 ,119.831,119.795,119.776,119.758, 119.738,119.718,119.698,119.677,119.656 ,119.635,119.613,119.58,119.557,119.523 ,119.5,119.476,119.452,119.426,119.4, 119.373,119.346,119.333,119.342)
ORBIT_NUMBER = 18975
ORBITAL_ECCENTRICITY = 0.578
ORBITAL_INCLINATION = 86.97
ORBITAL_SEMIMAJOR_AXIS = 8793.34
PERIAPSIS_ALTITUDE = 328.49
PERIAPSIS_ARGUMENT_ANGLE = 309.61
PERIAPSIS_TIME = 2018-12-31T20:04:51.000Z
SPACECRAFT_ORIENTATION = (0.0,1.0,0.0)
^MEX_ORIENTATION_DESC = "MEX_ORIENTATION_DESC.TXT"
SPACECRAFT_POINTING_MODE = INERT
^MEX_POINTING_DESC = "MEX_POINTING_DESC.TXT"
RIGHT_ASCENSION = 27.699
DECLINATION = 59.283
OFFSET_ANGLE = -1e+32
SPACECRAFT_SOLAR_DISTANCE = 2.17412e+08
TARGET_NAME = MARS
/* CAMERA DATA ELEMENTS */
DETECTOR_TEMPERATURE = 18.3705
FOCAL_PLANE_TEMPERATURE = 10.6223
INST_CMPRS_NAME = "DISCRETE COSINE TRANSFORMATION (DCT)"
INST_CMPRS_RATIO = 9.50222
INST_CMPRS_QUALITY = 0
INST_CMPRS_QUANTZ_TBL_ID = 0
INSTRUMENT_TEMPERATURE = 11.8457
LENS_TEMPERATURE = 10.6223
MACROPIXEL_SIZE = 2
MISSING_FRAMES = 0
PIXEL_SUBSAMPLING_FLAG = N
SIGNAL_CHAIN_ID = 3
/* RADIOMETRIC DATA ELEMENTS */
BANDWIDTH = 174.0
CENTER_FILTER_WAVELENGTH = 675.0
RADIANCE_OFFSET = 5.44142
RADIANCE_SCALING_FACTOR = 0.0208849
REFLECTANCE_SCALING_FACTOR = 0.000530988
MEX:REFLECTANCE_OFFSET = 0.138345
/* IMAGE OBJECT DEFINITIONS */
OBJECT = IMAGE
  INTERCHANGE_FORMAT = BINARY
  LINES = 25348
  LINE_SAMPLES = 4454
  SAMPLE_TYPE = UNSIGNED_INTEGER
  SAMPLE_BITS = 8
  BANDS = 1
  BAND_STORAGE_TYPE = BAND_SEQUENTIAL
  MAXIMUM = 255
  MEAN = 117.54
  MINIMUM = 1
  STANDARD_DEVIATION = 37.809
END_OBJECT = IMAGE
/* MAP OBJECT DEFINITIONS */
OBJECT = IMAGE_MAP_PROJECTION
  ^DATA_SET_MAP_PROJECTION_CATALOG= "DSMAP.CAT"
  A_AXIS_RADIUS = 3396.0
  B_AXIS_RADIUS = 3396.0
  C_AXIS_RADIUS = 3396.0
  CENTER_LATITUDE = 0.0
  CENTER_LONGITUDE = 119.0
  COORDINATE_SYSTEM_NAME = PLANETOGRAPHIC
  COORDINATE_SYSTEM_TYPE = "BODY-FIXED ROTATING"
  EASTERNMOST_LONGITUDE = 120.231
  FIRST_STANDARD_PARALLEL = "N/A"
  LINE_FIRST_PIXEL = 1
  LINE_LAST_PIXEL = 25348
  LINE_PROJECTION_OFFSET = -110346.25
  MAP_PROJECTION_ROTATION = 0.0
  MAP_PROJECTION_TYPE = SINUSOIDAL
  MAP_RESOLUTION = 2370.85521546667
  MAP_SCALE = 0.025
  MAXIMUM_LATITUDE = -46.541
  MINIMUM_LATITUDE = -57.1609
  POSITIVE_LONGITUDE_DIRECTION = EAST
  REFERENCE_LATITUDE = "N/A"
  REFERENCE_LONGITUDE = "N/A"
  SAMPLE_FIRST_PIXEL = 1
  SAMPLE_LAST_PIXEL = 4454
  SAMPLE_PROJECTION_OFFSET = 2359.25
  SECOND_STANDARD_PARALLEL = "N/A"
  WESTERNMOST_LONGITUDE = 117.037
END_OBJECT = IMAGE_MAP_PROJECTION
END
