PDS_VERSION_ID = PDS3
/* FILE DATA ELEMENTS */
RECORD_TYPE = UNDEFINED
/* POINTERS TO DATA OBJECTS */
^IMAGE = ("HI983_0000_BL4.TIF")
/* IDENTIFICATION DATA ELEMENTS */
DATA_SET_ID = "MEX-M-HRSC-4-REFDR-MAPPROJECT-EXT7-V4.0"
DATA_SET_NAME = "MARS EXPRESS HRSC MAP PROJECTED REFDR EXTENSION7 V4.0"
DETECTOR_ID = MEX_HRSC_BLUE
EVENT_TYPE = "MARS-REGIONAL-MAPPING-Te-Im-Pf"
INSTRUMENT_HOST_ID = MEX
INSTRUMENT_HOST_NAME = "MARS EXPRESS"
INSTRUMENT_ID = HRSC
INSTRUMENT_NAME = "HIGH RESOLUTION STEREO CAMERA"
MISSION_NAME = "MARS EXPRESS"
MISSION_PHASE_NAME = ME_Phase_40
PROCESSING_LEVEL_ID = 4
PRODUCT_CREATION_TIME = 2023-01-26T14:38:39.000Z
PRODUCT_ID = "HI983_0000_BL4.TIF"
RELEASE_ID = 0002
REVISION_ID = 0000
/* QUALITY DATA ELEMENTS */
DATA_QUALITY_ID = 1
DATA_QUALITY_DESC = "Data calculated based on original SPICE kernels"
/* TIME DATA ELEMENTS */
SPACECRAFT_CLOCK_START_COUNT = "1/0494567635.25716"
SPACECRAFT_CLOCK_STOP_COUNT = "1/0494567837.42983"
START_TIME = 2019-01-03T03:54:49.781Z
STOP_TIME = 2019-01-03T03:57:16.817Z
/* ORBITAL DATA ELEMENTS */
ASCENDING_NODE_LONGITUDE = 218.09
MAXIMUM_RESOLUTION = 0.0523
FOOTPRINT_POINT_LATITUDE = (-58.6735,-58.6305,-58.5598,-58.5586, -58.5592,-58.3435,-58.0199,-57.8041, -57.5883,-57.3725,-57.054,-56.6363, -56.4274,-56.2184,-56.0093,-55.6958, -55.4867,-55.2776,-55.0686,-54.8595, -54.6503,-54.3365,-54.0227,-53.8135, -53.4996,-53.2903,-53.0809,-52.8714, -52.662,-52.3474,-52.1377,-51.9284, -51.6141,-51.1967,-50.9872,-50.7773, -50.5676,-50.3579,-50.1482,-49.8327, -49.6221,-49.4117,-49.2018,-48.887, -48.5713,-48.3606,-48.15,-48.0451, -48.0099,-48.0326,-48.0647,-48.0808, -48.0996,-48.1003,-48.1014,-48.3122, -48.523,-48.7339,-48.9444,-49.1551, -49.3657,-49.7845,-49.9954,-50.2076, -50.418,-50.8377,-51.1524,-51.363, -51.6784,-51.8884,-52.0984,-52.4132, -52.6231,-52.833,-53.0429,-53.2528, -53.4627,-53.6727,-53.8825,-54.0924, -54.4071,-54.7217,-54.9314,-55.2461, -55.4559,-55.6656,-55.8753,-56.085, -56.3995,-56.714,-56.9236,-57.1333, -57.3436,-57.5603,-57.7769,-57.9937, -58.2105,-58.5356,-58.644,-58.6735)
FOOTPRINT_POINT_LONGITUDE = (23.3804,22.4916,21.2432,21.2231,21.178 ,21.2165,21.2725,21.3109,21.3474,21.382 ,21.4336,21.4996,21.5312,21.5622, 21.5925,21.6375,21.667,21.6957,21.7243, 21.7524,21.7799,21.8201,21.8595,21.8852 ,21.9232,21.9479,21.9719,21.9956, 22.0189,22.0527,22.0748,22.0972,22.1299 ,22.1745,22.1951,22.2148,22.2347, 22.2541,22.2733,22.3005,22.3181,22.3357 ,22.3535,22.3798,22.4046,22.4207, 22.4367,22.4448,22.4474,22.8284,23.4177 ,23.737,24.1362,24.1522,24.1575,24.1469 ,24.1362,24.125,24.1142,24.103,24.0916, 24.072,24.0597,24.0451,24.033,24.0103, 23.9929,23.9794,23.9599,23.9471,23.9341 ,23.9146,23.9013,23.8878,23.8741, 23.8599,23.8457,23.8307,23.8162,23.801, 23.7782,23.7554,23.7406,23.7161,23.6992 ,23.6825,23.6658,23.6491,23.6236, 23.5972,23.5794,23.5616,23.5437,23.525, 23.505,23.4864,23.4669,23.4362,23.4259, 23.3804)
ORBIT_NUMBER = 18983
ORBITAL_ECCENTRICITY = 0.578
ORBITAL_INCLINATION = 86.97
ORBITAL_SEMIMAJOR_AXIS = 8789.79
PERIAPSIS_ALTITUDE = 328.83
PERIAPSIS_ARGUMENT_ANGLE = 308.24
PERIAPSIS_TIME = 2019-01-03T03:56:35.000Z
SPACECRAFT_ORIENTATION = (0.0,1.0,0.0)
^MEX_ORIENTATION_DESC = "MEX_ORIENTATION_DESC.TXT"
SPACECRAFT_POINTING_MODE = INERT
^MEX_POINTING_DESC = "MEX_POINTING_DESC.TXT"
RIGHT_ASCENSION = 23.461
DECLINATION = 57.362
OFFSET_ANGLE = -1e+32
SPACECRAFT_SOLAR_DISTANCE = 2.17827e+08
TARGET_NAME = MARS
/* CAMERA DATA ELEMENTS */
DETECTOR_TEMPERATURE = 18.9822
FOCAL_PLANE_TEMPERATURE = 9.8067
INST_CMPRS_NAME = "DISCRETE COSINE TRANSFORMATION (DCT)"
INST_CMPRS_RATIO = 5.45527
INST_CMPRS_QUALITY = 0
INST_CMPRS_QUANTZ_TBL_ID = 0
INSTRUMENT_TEMPERATURE = 12.2535
LENS_TEMPERATURE = 10.4184
MACROPIXEL_SIZE = 4
MISSING_FRAMES = 0
PIXEL_SUBSAMPLING_FLAG = N
SIGNAL_CHAIN_ID = 2
/* RADIOMETRIC DATA ELEMENTS */
BANDWIDTH = 76.0
CENTER_FILTER_WAVELENGTH = 444.0
RADIANCE_OFFSET = 0.703451
RADIANCE_SCALING_FACTOR = 0.00130124
REFLECTANCE_SCALING_FACTOR = 6.34361e-05
MEX:REFLECTANCE_OFFSET = 0.0342935
/* IMAGE OBJECT DEFINITIONS */
OBJECT = IMAGE
  INTERCHANGE_FORMAT = BINARY
  LINES = 12656
  LINE_SAMPLES = 2049
  SAMPLE_TYPE = UNSIGNED_INTEGER
  SAMPLE_BITS = 8
  BANDS = 1
  BAND_STORAGE_TYPE = BAND_SEQUENTIAL
  MAXIMUM = 255
  MEAN = 132.591
  MINIMUM = 1
  STANDARD_DEVIATION = 28.9665
END_OBJECT = IMAGE
/* MAP OBJECT DEFINITIONS */
OBJECT = IMAGE_MAP_PROJECTION
  ^DATA_SET_MAP_PROJECTION_CATALOG= "DSMAP.CAT"
  A_AXIS_RADIUS = 3396.0
  B_AXIS_RADIUS = 3396.0
  C_AXIS_RADIUS = 3396.0
  CENTER_LATITUDE = 0.0
  CENTER_LONGITUDE = 23.0
  COORDINATE_SYSTEM_NAME = PLANETOGRAPHIC
  COORDINATE_SYSTEM_TYPE = "BODY-FIXED ROTATING"
  EASTERNMOST_LONGITUDE = 24.1575
  FIRST_STANDARD_PARALLEL = "N/A"
  LINE_FIRST_PIXEL = 1
  LINE_LAST_PIXEL = 12656
  LINE_PROJECTION_OFFSET = -56901.625
  MAP_PROJECTION_ROTATION = 0.0
  MAP_PROJECTION_TYPE = SINUSOIDAL
  MAP_RESOLUTION = 1185.42760773333
  MAP_SCALE = 0.05
  MAXIMUM_LATITUDE = -48.0099
  MINIMUM_LATITUDE = -58.6735
  POSITIVE_LONGITUDE_DIRECTION = EAST
  REFERENCE_LATITUDE = "N/A"
  REFERENCE_LONGITUDE = "N/A"
  SAMPLE_FIRST_PIXEL = 1
  SAMPLE_LAST_PIXEL = 2049
  SAMPLE_PROJECTION_OFFSET = 1147.875
  SECOND_STANDARD_PARALLEL = "N/A"
  WESTERNMOST_LONGITUDE = 21.178
END_OBJECT = IMAGE_MAP_PROJECTION
END
