PDS_VERSION_ID = PDS3
/* FILE DATA ELEMENTS */
RECORD_TYPE = UNDEFINED
/* POINTERS TO DATA OBJECTS */
^IMAGE = ("HI995_0000_IR4.TIF")
/* IDENTIFICATION DATA ELEMENTS */
DATA_SET_ID = "MEX-M-HRSC-4-REFDR-MAPPROJECT-EXT7-V4.0"
DATA_SET_NAME = "MARS EXPRESS HRSC MAP PROJECTED REFDR EXTENSION7 V4.0"
DETECTOR_ID = MEX_HRSC_IR
EVENT_TYPE = "MARS-REGIONAL-MAPPING-Im-Gl-Pf"
INSTRUMENT_HOST_ID = MEX
INSTRUMENT_HOST_NAME = "MARS EXPRESS"
INSTRUMENT_ID = HRSC
INSTRUMENT_NAME = "HIGH RESOLUTION STEREO CAMERA"
MISSION_NAME = "MARS EXPRESS"
MISSION_PHASE_NAME = ME_Phase_40
PROCESSING_LEVEL_ID = 4
PRODUCT_CREATION_TIME = 2023-01-26T14:38:39.000Z
PRODUCT_ID = "HI995_0000_IR4.TIF"
RELEASE_ID = 0002
REVISION_ID = 0000
/* QUALITY DATA ELEMENTS */
DATA_QUALITY_ID = 1
DATA_QUALITY_DESC = "Data calculated based on original SPICE kernels"
/* TIME DATA ELEMENTS */
SPACECRAFT_CLOCK_START_COUNT = "1/0494869327.25696"
SPACECRAFT_CLOCK_STOP_COUNT = "1/0494869540.48574"
START_TIME = 2019-01-06T15:43:34.141Z
STOP_TIME = 2019-01-06T15:46:05.526Z
/* ORBITAL DATA ELEMENTS */
ASCENDING_NODE_LONGITUDE = 217.87
MAXIMUM_RESOLUTION = 0.0543
FOOTPRINT_POINT_LATITUDE = (-58.1085,-58.0844,-58.0718,-58.0378, -58.037,-58.0915,-57.7894,-57.5886, -57.3884,-57.1893,-56.9898,-56.7898, -56.5898,-56.3896,-56.1894,-55.9895, -55.6913,-55.4013,-55.2067,-55.0137, -54.8208,-54.4357,-54.2429,-54.0502, -53.6649,-53.28,-52.895,-52.6969, -52.4979,-52.2995,-52.0018,-51.8025, -51.6039,-51.4058,-51.2085,-50.9112, -50.713,-50.4165,-50.2188,-49.9226, -49.7251,-49.528,-49.3309,-49.1339, -48.937,-48.7403,-48.5438,-48.3472, -48.249,-48.2144,-48.2244,-48.2325, -48.2426,-48.2555,-48.2557,-48.2567, -48.4537,-48.7493,-48.9466,-49.2427, -49.44,-49.638,-49.8357,-50.1327, -50.3308,-50.529,-50.7275,-51.0253, -51.3233,-51.522,-51.7207,-52.0193, -52.2183,-52.4175,-52.617,-52.8165, -53.0132,-53.3991,-53.5923,-53.8822, -54.0755,-54.2689,-54.5595,-54.7555, -55.1389,-55.3325,-55.5261,-55.7198, -56.0194,-56.2197,-56.4217,-56.6247, -56.9255,-57.1275,-57.3241,-57.5292, -57.8329,-58.0338,-58.132,-58.1085)
FOOTPRINT_POINT_LONGITUDE = (237.959,237.161,236.791,235.898, 235.878,235.825,235.875,235.907,235.937 ,235.967,235.996,236.025,236.054, 236.083,236.111,236.138,236.177,236.215 ,236.241,236.265,236.289,236.335, 236.358,236.38,236.423,236.465,236.506, 236.526,236.546,236.566,236.595,236.614 ,236.633,236.651,236.668,236.694, 236.711,236.736,236.752,236.776,236.792 ,236.807,236.822,236.836,236.851, 236.865,236.879,236.892,236.899,236.901 ,237.259,237.569,237.993,238.63,238.646 ,238.651,238.642,238.628,238.618, 238.604,238.594,238.584,238.574,238.558 ,238.548,238.537,238.526,238.51,238.493 ,238.482,238.47,238.452,238.44,238.428, 238.416,238.403,238.391,238.366,238.353 ,238.334,238.321,238.307,238.287, 238.274,238.244,238.229,238.215,238.2, 238.176,238.16,238.145,238.129,238.104, 238.087,238.067,238.052,238.027,238.008 ,237.997,237.959)
ORBIT_NUMBER = 18995
ORBITAL_ECCENTRICITY = 0.578
ORBITAL_INCLINATION = 86.98
ORBITAL_SEMIMAJOR_AXIS = 8784.85
PERIAPSIS_ALTITUDE = 327.73
PERIAPSIS_ARGUMENT_ANGLE = 306.18
PERIAPSIS_TIME = 2019-01-06T15:44:18.000Z
SPACECRAFT_ORIENTATION = (0.0,1.0,0.0)
^MEX_ORIENTATION_DESC = "MEX_ORIENTATION_DESC.TXT"
SPACECRAFT_POINTING_MODE = NADIR
^MEX_POINTING_DESC = "MEX_POINTING_DESC.TXT"
RIGHT_ASCENSION = -1e+32
DECLINATION = -1e+32
OFFSET_ANGLE = -1e+32
SPACECRAFT_SOLAR_DISTANCE = 2.18458e+08
TARGET_NAME = MARS
/* CAMERA DATA ELEMENTS */
DETECTOR_TEMPERATURE = 18.1666
FOCAL_PLANE_TEMPERATURE = 10.4184
INST_CMPRS_NAME = "DISCRETE COSINE TRANSFORMATION (DCT)"
INST_CMPRS_RATIO = 11.4419
INST_CMPRS_QUALITY = 0
INST_CMPRS_QUANTZ_TBL_ID = 0
INSTRUMENT_TEMPERATURE = 11.4379
LENS_TEMPERATURE = 10.4184
MACROPIXEL_SIZE = 4
MISSING_FRAMES = 0
PIXEL_SUBSAMPLING_FLAG = N
SIGNAL_CHAIN_ID = 2
/* RADIOMETRIC DATA ELEMENTS */
BANDWIDTH = 81.0
CENTER_FILTER_WAVELENGTH = 955.5
RADIANCE_OFFSET = 0.751407
RADIANCE_SCALING_FACTOR = 0.00452785
REFLECTANCE_SCALING_FACTOR = 0.00046618
MEX:REFLECTANCE_OFFSET = 0.0773637
/* IMAGE OBJECT DEFINITIONS */
OBJECT = IMAGE
  INTERCHANGE_FORMAT = BINARY
  LINES = 11805
  LINE_SAMPLES = 2039
  SAMPLE_TYPE = UNSIGNED_INTEGER
  SAMPLE_BITS = 8
  BANDS = 1
  BAND_STORAGE_TYPE = BAND_SEQUENTIAL
  MAXIMUM = 255
  MEAN = 149.644
  MINIMUM = 1
  STANDARD_DEVIATION = 32.6195
END_OBJECT = IMAGE
/* MAP OBJECT DEFINITIONS */
OBJECT = IMAGE_MAP_PROJECTION
  ^DATA_SET_MAP_PROJECTION_CATALOG= "DSMAP.CAT"
  A_AXIS_RADIUS = 3396.0
  B_AXIS_RADIUS = 3396.0
  C_AXIS_RADIUS = 3396.0
  CENTER_LATITUDE = 0.0
  CENTER_LONGITUDE = 237.0
  COORDINATE_SYSTEM_NAME = PLANETOGRAPHIC
  COORDINATE_SYSTEM_TYPE = "BODY-FIXED ROTATING"
  EASTERNMOST_LONGITUDE = 238.651
  FIRST_STANDARD_PARALLEL = "N/A"
  LINE_FIRST_PIXEL = 1
  LINE_LAST_PIXEL = 11805
  LINE_PROJECTION_OFFSET = -57176.375
  MAP_PROJECTION_ROTATION = 0.0
  MAP_PROJECTION_TYPE = SINUSOIDAL
  MAP_RESOLUTION = 1185.42760773333
  MAP_SCALE = 0.05
  MAXIMUM_LATITUDE = -48.2144
  MINIMUM_LATITUDE = -58.132
  POSITIVE_LONGITUDE_DIRECTION = EAST
  REFERENCE_LATITUDE = "N/A"
  REFERENCE_LONGITUDE = "N/A"
  SAMPLE_FIRST_PIXEL = 1
  SAMPLE_LAST_PIXEL = 2039
  SAMPLE_PROJECTION_OFFSET = 748.625
  SECOND_STANDARD_PARALLEL = "N/A"
  WESTERNMOST_LONGITUDE = 235.825
END_OBJECT = IMAGE_MAP_PROJECTION
END
