PDS_VERSION_ID = PDS3
/* FILE DATA ELEMENTS */
RECORD_TYPE = UNDEFINED
/* POINTERS TO DATA OBJECTS */
^IMAGE = ("HJ886_0000_S24.TIF")
/* IDENTIFICATION DATA ELEMENTS */
DATA_SET_ID = "MEX-M-HRSC-4-REFDR-MAPPROJECT-EXT7-V4.0"
DATA_SET_NAME = "MARS EXPRESS HRSC MAP PROJECTED REFDR EXTENSION7 V4.0"
DETECTOR_ID = MEX_HRSC_S2
EVENT_TYPE = "MARS-REGIONAL-MAPPING-Vo-Te-Im"
INSTRUMENT_HOST_ID = MEX
INSTRUMENT_HOST_NAME = "MARS EXPRESS"
INSTRUMENT_ID = HRSC
INSTRUMENT_NAME = "HIGH RESOLUTION STEREO CAMERA"
MISSION_NAME = "MARS EXPRESS"
MISSION_PHASE_NAME = ME_Phase_41
PROCESSING_LEVEL_ID = 4
PRODUCT_CREATION_TIME = 2023-01-26T14:38:39.000Z
PRODUCT_ID = "HJ886_0000_S24.TIF"
RELEASE_ID = 0002
REVISION_ID = 0000
/* QUALITY DATA ELEMENTS */
DATA_QUALITY_ID = 1
DATA_QUALITY_DESC = "Data calculated based on original SPICE kernels"
/* TIME DATA ELEMENTS */
SPACECRAFT_CLOCK_START_COUNT = "1/0517268214.23946"
SPACECRAFT_CLOCK_STOP_COUNT = "1/0517268413.57880"
START_TIME = 2019-09-22T21:38:35.284Z
STOP_TIME = 2019-09-22T21:40:43.914Z
/* ORBITAL DATA ELEMENTS */
ASCENDING_NODE_LONGITUDE = 201.6
MAXIMUM_RESOLUTION = 0.0156
FOOTPRINT_POINT_LATITUDE = (31.8876,31.8722,31.8599,31.8476, 31.8353,31.823,31.8107,31.8099,31.8608, 31.6639,31.4619,31.2782,31.1121,30.9461 ,30.697,30.4488,30.2831,30.1175,29.8691 ,29.7039,29.4562,29.291,29.0431,28.8781 ,28.6307,28.4658,28.3008,28.0534, 27.8885,27.7237,27.559,27.3945,27.23, 27.0657,26.8194,26.6551,26.4093,26.2453 ,25.9964,25.8326,25.5869,25.4232, 25.1777,25.0143,24.851,24.5246,24.1989, 23.8736,23.6299,23.5487,23.5482,23.5597 ,23.5712,23.5916,23.6043,23.6217, 23.6225,23.6231,24.0298,24.3555,24.6813 ,25.0078,25.2533,25.4988,25.6626, 25.9082,26.0715,26.2356,26.4032,26.5674 ,26.8141,26.9785,27.1429,27.3896, 27.5542,27.7189,27.9658,28.1305,28.2956 ,28.4607,28.708,28.9561,29.1214,29.2866 ,29.4519,29.7002,29.8658,30.0313,30.197 ,30.4456,30.6116,30.7776,30.9435, 31.1095,31.2755,31.4429,31.641,31.8395, 31.9387,31.8876)
FOOTPRINT_POINT_LONGITUDE = (158.129,157.812,157.562,157.316, 157.073,156.833,156.595,156.581,156.584 ,156.585,156.586,156.587,156.588, 156.589,156.591,156.592,156.593,156.593 ,156.594,156.595,156.596,156.596, 156.597,156.597,156.598,156.598,156.598 ,156.598,156.598,156.598,156.598, 156.598,156.597,156.597,156.597,156.596 ,156.596,156.595,156.595,156.594, 156.593,156.592,156.591,156.59,156.59, 156.588,156.586,156.584,156.582,156.581 ,156.581,156.805,157.031,157.434, 157.684,158.027,158.042,158.05,158.055, 158.059,158.063,158.067,158.071,158.074 ,158.076,158.08,158.082,158.084,158.086 ,158.089,158.093,158.095,158.098, 158.101,158.104,158.106,158.11,158.112, 158.115,158.117,158.121,158.125,158.128 ,158.13,158.133,158.137,158.14,158.143, 158.145,158.149,158.152,158.155,158.158 ,158.161,158.164,158.167,158.17,158.174 ,158.176,158.129)
ORBIT_NUMBER = 19886
ORBITAL_ECCENTRICITY = 0.575
ORBITAL_INCLINATION = 86.98
ORBITAL_SEMIMAJOR_AXIS = 8828.12
PERIAPSIS_ALTITUDE = 363.24
PERIAPSIS_ARGUMENT_ANGLE = 154.04
PERIAPSIS_TIME = 2019-09-22T21:39:34.000Z
SPACECRAFT_ORIENTATION = (0.0,-1.0,0.0)
^MEX_ORIENTATION_DESC = "MEX_ORIENTATION_DESC.TXT"
SPACECRAFT_POINTING_MODE = ACROSSTRACK
^MEX_POINTING_DESC = "MEX_POINTING_DESC.TXT"
RIGHT_ASCENSION = -1e+32
DECLINATION = -1e+32
OFFSET_ANGLE = 1.0
SPACECRAFT_SOLAR_DISTANCE = 2.48663e+08
TARGET_NAME = MARS
/* CAMERA DATA ELEMENTS */
DETECTOR_TEMPERATURE = 17.7588
FOCAL_PLANE_TEMPERATURE = 7.9716
INST_CMPRS_NAME = "DISCRETE COSINE TRANSFORMATION (DCT)"
INST_CMPRS_RATIO = 6.18902
INST_CMPRS_QUALITY = 0
INST_CMPRS_QUANTZ_TBL_ID = 0
INSTRUMENT_TEMPERATURE = 11.4379
LENS_TEMPERATURE = 8.5833
MACROPIXEL_SIZE = 1
MISSING_FRAMES = 2
PIXEL_SUBSAMPLING_FLAG = N
SIGNAL_CHAIN_ID = 1
/* RADIOMETRIC DATA ELEMENTS */
BANDWIDTH = 178.0
CENTER_FILTER_WAVELENGTH = 679.0
RADIANCE_OFFSET = 2.21359
RADIANCE_SCALING_FACTOR = 0.0184603
REFLECTANCE_SCALING_FACTOR = 0.000604492
MEX:REFLECTANCE_OFFSET = 0.072485
/* IMAGE OBJECT DEFINITIONS */
OBJECT = IMAGE
  INTERCHANGE_FORMAT = BINARY
  LINES = 39496
  LINE_SAMPLES = 6489
  SAMPLE_TYPE = UNSIGNED_INTEGER
  SAMPLE_BITS = 8
  BANDS = 1
  BAND_STORAGE_TYPE = BAND_SEQUENTIAL
  MAXIMUM = 255
  MEAN = 91.8925
  MINIMUM = 1
  STANDARD_DEVIATION = 15.6664
END_OBJECT = IMAGE
/* MAP OBJECT DEFINITIONS */
OBJECT = IMAGE_MAP_PROJECTION
  ^DATA_SET_MAP_PROJECTION_CATALOG= "DSMAP.CAT"
  A_AXIS_RADIUS = 3396.0
  B_AXIS_RADIUS = 3396.0
  C_AXIS_RADIUS = 3396.0
  CENTER_LATITUDE = 0.0
  CENTER_LONGITUDE = 157.0
  COORDINATE_SYSTEM_NAME = PLANETOGRAPHIC
  COORDINATE_SYSTEM_TYPE = "BODY-FIXED ROTATING"
  EASTERNMOST_LONGITUDE = 158.176
  FIRST_STANDARD_PARALLEL = "N/A"
  LINE_FIRST_PIXEL = 1
  LINE_LAST_PIXEL = 39496
  LINE_PROJECTION_OFFSET = 151209.0
  MAP_PROJECTION_ROTATION = 0.0
  MAP_PROJECTION_TYPE = SINUSOIDAL
  MAP_RESOLUTION = 4741.71043093333
  MAP_SCALE = 0.0125
  MAXIMUM_LATITUDE = 31.9387
  MINIMUM_LATITUDE = 23.5482
  POSITIVE_LONGITUDE_DIRECTION = EAST
  REFERENCE_LATITUDE = "N/A"
  REFERENCE_LONGITUDE = "N/A"
  SAMPLE_FIRST_PIXEL = 1
  SAMPLE_LAST_PIXEL = 6489
  SAMPLE_PROJECTION_OFFSET = 1796.0
  SECOND_STANDARD_PARALLEL = "N/A"
  WESTERNMOST_LONGITUDE = 156.581
END_OBJECT = IMAGE_MAP_PROJECTION
END
