PDS_VERSION_ID = PDS3
/* FILE DATA ELEMENTS */
RECORD_TYPE = UNDEFINED
/* POINTERS TO DATA OBJECTS */
^IMAGE = ("HJ949_0000_GR4.TIF")
/* IDENTIFICATION DATA ELEMENTS */
DATA_SET_ID = "MEX-M-HRSC-4-REFDR-MAPPROJECT-EXT7-V4.0"
DATA_SET_NAME = "MARS EXPRESS HRSC MAP PROJECTED REFDR EXTENSION7 V4.0"
DETECTOR_ID = MEX_HRSC_GREEN
EVENT_TYPE = "MARS-DUST-VARIABLE-Eo-At"
INSTRUMENT_HOST_ID = MEX
INSTRUMENT_HOST_NAME = "MARS EXPRESS"
INSTRUMENT_ID = HRSC
INSTRUMENT_NAME = "HIGH RESOLUTION STEREO CAMERA"
MISSION_NAME = "MARS EXPRESS"
MISSION_PHASE_NAME = ME_Phase_41
PROCESSING_LEVEL_ID = 4
PRODUCT_CREATION_TIME = 2023-01-26T14:38:39.000Z
PRODUCT_ID = "HJ949_0000_GR4.TIF"
RELEASE_ID = 0002
REVISION_ID = 0000
/* QUALITY DATA ELEMENTS */
DATA_QUALITY_ID = 1
DATA_QUALITY_DESC = "Data calculated based on original SPICE kernels"
/* TIME DATA ELEMENTS */
SPACECRAFT_CLOCK_START_COUNT = "1/0518851989.24929"
SPACECRAFT_CLOCK_STOP_COUNT = "1/0518852191.08128"
START_TIME = 2019-10-11T05:34:05.900Z
STOP_TIME = 2019-10-11T05:36:25.848Z
/* ORBITAL DATA ELEMENTS */
ASCENDING_NODE_LONGITUDE = 200.45
MAXIMUM_RESOLUTION = 0.0596
FOOTPRINT_POINT_LATITUDE = (39.6799,39.6607,39.6455,39.618,39.5964 ,39.5955,39.5989,39.3732,39.1475, 38.9218,38.7036,38.3255,37.9473,37.5692 ,37.2856,37.002,36.7183,36.2456,35.6783 ,35.4891,35.1108,34.9216,34.7325, 34.5433,34.2594,34.0702,33.8809,33.6917 ,33.5024,33.3131,33.1237,32.8397, 32.6503,32.3661,32.0819,31.8924,31.7027 ,31.4764,31.2501,31.0238,30.7974, 30.4576,30.2311,30.0045,29.7778,29.6645 ,29.5851,29.6162,29.6289,29.648,29.6632 ,29.6639,29.6652,30.0053,30.232,30.4587 ,30.7985,31.025,31.2515,31.5911,31.8119 ,32.0015,32.1911,32.3807,32.5702, 32.7598,32.9493,33.1388,33.423,33.6124, 33.8018,34.0859,34.2753,34.4647,34.6541 ,34.8435,35.0328,35.2222,35.4115, 35.6955,35.8848,36.0741,36.2634,36.4527 ,36.7367,36.926,37.2099,37.3992,37.5885 ,37.8725,38.0618,38.2512,38.4405, 38.6299,38.8192,39.0434,39.2695,39.4956 ,39.6086,39.6799)
FOOTPRINT_POINT_LONGITUDE = (203.132,202.72,202.415,201.898,201.517 ,201.502,201.469,201.479,201.489,201.5, 201.509,201.525,201.541,201.556,201.567 ,201.578,201.588,201.604,201.623, 201.629,201.641,201.647,201.652,201.658 ,201.666,201.671,201.676,201.681, 201.686,201.691,201.695,201.702,201.706 ,201.713,201.719,201.723,201.727, 201.731,201.736,201.74,201.744,201.75, 201.753,201.757,201.76,201.762,201.763, 202.318,202.56,202.945,203.272,203.287, 203.292,203.288,203.285,203.283,203.279 ,203.276,203.273,203.27,203.267,203.265 ,203.262,203.26,203.258,203.256,203.253 ,203.251,203.248,203.245,203.243,203.24 ,203.237,203.235,203.232,203.23,203.227 ,203.225,203.223,203.219,203.216, 203.214,203.211,203.209,203.205,203.202 ,203.198,203.195,203.193,203.188, 203.186,203.183,203.18,203.177,203.174, 203.171,203.167,203.164,203.162, 203.132)
ORBIT_NUMBER = 19949
ORBITAL_ECCENTRICITY = 0.573
ORBITAL_INCLINATION = 86.99
ORBITAL_SEMIMAJOR_AXIS = 8810.67
PERIAPSIS_ALTITUDE = 368.79
PERIAPSIS_ARGUMENT_ANGLE = 143.1
PERIAPSIS_TIME = 2019-10-11T05:34:47.000Z
SPACECRAFT_ORIENTATION = (0.0,-1.0,0.0)
^MEX_ORIENTATION_DESC = "MEX_ORIENTATION_DESC.TXT"
SPACECRAFT_POINTING_MODE = INERT
^MEX_POINTING_DESC = "MEX_POINTING_DESC.TXT"
RIGHT_ASCENSION = 217.657
DECLINATION = -37.657
OFFSET_ANGLE = -1e+32
SPACECRAFT_SOLAR_DISTANCE = 2.47662e+08
TARGET_NAME = MARS
/* CAMERA DATA ELEMENTS */
DETECTOR_TEMPERATURE = 18.1666
FOCAL_PLANE_TEMPERATURE = 7.5638
INST_CMPRS_NAME = "DISCRETE COSINE TRANSFORMATION (DCT)"
INST_CMPRS_RATIO = 11.9934
INST_CMPRS_QUALITY = 0
INST_CMPRS_QUANTZ_TBL_ID = 0
INSTRUMENT_TEMPERATURE = 11.0301
LENS_TEMPERATURE = 8.1755
MACROPIXEL_SIZE = 4
MISSING_FRAMES = 0
PIXEL_SUBSAMPLING_FLAG = N
SIGNAL_CHAIN_ID = 2
/* RADIOMETRIC DATA ELEMENTS */
BANDWIDTH = 88.0
CENTER_FILTER_WAVELENGTH = 538.0
RADIANCE_OFFSET = 1.23527
RADIANCE_SCALING_FACTOR = 0.00297367
REFLECTANCE_SCALING_FACTOR = 0.000157037
MEX:REFLECTANCE_OFFSET = 0.0652338
/* IMAGE OBJECT DEFINITIONS */
OBJECT = IMAGE
  INTERCHANGE_FORMAT = BINARY
  LINES = 11974
  LINE_SAMPLES = 1823
  SAMPLE_TYPE = UNSIGNED_INTEGER
  SAMPLE_BITS = 8
  BANDS = 1
  BAND_STORAGE_TYPE = BAND_SEQUENTIAL
  MAXIMUM = 255
  MEAN = 142.747
  MINIMUM = 1
  STANDARD_DEVIATION = 16.5501
END_OBJECT = IMAGE
/* MAP OBJECT DEFINITIONS */
OBJECT = IMAGE_MAP_PROJECTION
  ^DATA_SET_MAP_PROJECTION_CATALOG= "DSMAP.CAT"
  A_AXIS_RADIUS = 3396.0
  B_AXIS_RADIUS = 3396.0
  C_AXIS_RADIUS = 3396.0
  CENTER_LATITUDE = 0.0
  CENTER_LONGITUDE = 202.0
  COORDINATE_SYSTEM_NAME = PLANETOGRAPHIC
  COORDINATE_SYSTEM_TYPE = "BODY-FIXED ROTATING"
  EASTERNMOST_LONGITUDE = 203.292
  FIRST_STANDARD_PARALLEL = "N/A"
  LINE_FIRST_PIXEL = 1
  LINE_LAST_PIXEL = 11974
  LINE_PROJECTION_OFFSET = 47057.875
  MAP_PROJECTION_ROTATION = 0.0
  MAP_PROJECTION_TYPE = SINUSOIDAL
  MAP_RESOLUTION = 1185.42760773333
  MAP_SCALE = 0.05
  MAXIMUM_LATITUDE = 39.6799
  MINIMUM_LATITUDE = 29.5851
  POSITIVE_LONGITUDE_DIRECTION = EAST
  REFERENCE_LATITUDE = "N/A"
  REFERENCE_LONGITUDE = "N/A"
  SAMPLE_FIRST_PIXEL = 1
  SAMPLE_LAST_PIXEL = 1823
  SAMPLE_PROJECTION_OFFSET = 515.625
  SECOND_STANDARD_PARALLEL = "N/A"
  WESTERNMOST_LONGITUDE = 201.469
END_OBJECT = IMAGE_MAP_PROJECTION
END
