PDS_VERSION_ID = PDS3
/* FILE DATA ELEMENTS */
RECORD_TYPE = UNDEFINED
/* POINTERS TO DATA OBJECTS */
^IMAGE = ("HK021_0000_BL4.TIF")
/* IDENTIFICATION DATA ELEMENTS */
DATA_SET_ID = "MEX-M-HRSC-4-REFDR-MAPPROJECT-EXT7-V4.0"
DATA_SET_NAME = "MARS EXPRESS HRSC MAP PROJECTED REFDR EXTENSION7 V4.0"
DETECTOR_ID = MEX_HRSC_BLUE
EVENT_TYPE = "MARS-REGIONAL-MAPPING-Gl-Pf-Mw"
INSTRUMENT_HOST_ID = MEX
INSTRUMENT_HOST_NAME = "MARS EXPRESS"
INSTRUMENT_ID = HRSC
INSTRUMENT_NAME = "HIGH RESOLUTION STEREO CAMERA"
MISSION_NAME = "MARS EXPRESS"
MISSION_PHASE_NAME = ME_Phase_41
PROCESSING_LEVEL_ID = 4
PRODUCT_CREATION_TIME = 2023-01-28T19:11:08.000Z
PRODUCT_ID = "HK021_0000_BL4.TIF"
RELEASE_ID = 0003
REVISION_ID = 0000
/* QUALITY DATA ELEMENTS */
DATA_QUALITY_ID = 1
DATA_QUALITY_DESC = "Data calculated based on original SPICE kernels"
/* TIME DATA ELEMENTS */
SPACECRAFT_CLOCK_START_COUNT = "1/0520662065.24862"
SPACECRAFT_CLOCK_STOP_COUNT = "1/0520662235.41854"
START_TIME = 2019-11-01T04:22:13.162Z
STOP_TIME = 2019-11-01T04:23:58.353Z
/* ORBITAL DATA ELEMENTS */
ASCENDING_NODE_LONGITUDE = 199.12
MAXIMUM_RESOLUTION = 0.0615
FOOTPRINT_POINT_LATITUDE = (45.029,45.0171,45.0046,44.9913,44.9774 ,44.9626,44.937,44.936,44.9566,44.6607, 44.5122,44.3636,44.2148,44.0649,43.7702 ,43.6218,43.3996,43.1041,42.882,42.6616 ,42.5139,42.2915,41.9959,41.7746, 41.5537,41.4062,41.1851,41.0374,40.8898 ,40.7421,40.5942,40.4457,40.2237, 40.0761,39.8547,39.7072,39.4859,39.3383 ,39.1908,39.0433,38.8958,38.7482, 38.6007,38.4533,38.3058,38.1583,38.0108 ,37.8633,37.6421,37.5684,37.4991, 37.5199,37.534,37.5474,37.5594,37.5771, 37.5861,37.5867,37.5881,37.8094,37.957, 38.1045,38.2521,38.4735,38.6948,38.9161 ,39.0637,39.2853,39.5804,39.8021, 39.9498,40.0976,40.2453,40.3938,40.689, 40.9101,41.0589,41.207,41.5014,41.6515, 41.8002,41.9481,42.1699,42.3182,42.4661 ,42.6878,42.8363,42.9846,43.207,43.5027 ,43.7246,43.8737,44.022,44.1703,44.3924 ,44.6151,44.7634,44.9124,44.9866, 45.029)
FOOTPRINT_POINT_LONGITUDE = (48.9111,48.6402,48.3667,48.0905, 47.8116,47.5301,47.0659,47.0479,46.9671 ,46.9902,47.0039,47.0175,47.0319, 47.0509,47.0686,47.0814,47.0991,47.1188 ,47.136,47.1444,47.1534,47.1715,47.1901 ,47.2023,47.2109,47.218,47.2275,47.235, 47.2426,47.2504,47.2596,47.2749,47.2913 ,47.2992,47.3099,47.3166,47.326,47.3333 ,47.3396,47.3465,47.3527,47.3594, 47.3661,47.3702,47.3754,47.3807,47.3874 ,47.394,47.4019,47.4043,47.4066,47.7821 ,48.0525,48.3203,48.5689,48.9622, 49.1727,49.1888,49.1942,49.188,49.1838, 49.1796,49.1752,49.1685,49.162,49.1553, 49.1507,49.1433,49.1339,49.1263,49.1211 ,49.1159,49.1107,49.1046,49.0942, 49.0865,49.08,49.0742,49.0637,49.0559, 49.0494,49.0434,49.0342,49.0278,49.0215 ,49.0121,49.0053,48.9985,48.9883, 48.9749,48.9645,48.9568,48.9496,48.9422 ,48.9312,48.9197,48.912,48.9039,48.8999 ,48.9111)
ORBIT_NUMBER = 20021
ORBITAL_ECCENTRICITY = 0.572
ORBITAL_INCLINATION = 86.99
ORBITAL_SEMIMAJOR_AXIS = 8796.29
PERIAPSIS_ALTITUDE = 375.74
PERIAPSIS_ARGUMENT_ANGLE = 130.67
PERIAPSIS_TIME = 2019-11-01T04:20:56.000Z
SPACECRAFT_ORIENTATION = (0.0,-1.0,0.0)
^MEX_ORIENTATION_DESC = "MEX_ORIENTATION_DESC.TXT"
SPACECRAFT_POINTING_MODE = INERT
^MEX_POINTING_DESC = "MEX_POINTING_DESC.TXT"
RIGHT_ASCENSION = 217.951
DECLINATION = -46.777
OFFSET_ANGLE = -1e+32
SPACECRAFT_SOLAR_DISTANCE = 2.45938e+08
TARGET_NAME = MARS
/* CAMERA DATA ELEMENTS */
DETECTOR_TEMPERATURE = 18.5744
FOCAL_PLANE_TEMPERATURE = 8.1755
INST_CMPRS_NAME = "DISCRETE COSINE TRANSFORMATION (DCT)"
INST_CMPRS_RATIO = 6.90407
INST_CMPRS_QUALITY = 0
INST_CMPRS_QUANTZ_TBL_ID = 0
INSTRUMENT_TEMPERATURE = 11.234
LENS_TEMPERATURE = 8.3794
MACROPIXEL_SIZE = 4
MISSING_FRAMES = 0
PIXEL_SUBSAMPLING_FLAG = N
SIGNAL_CHAIN_ID = 2
/* RADIOMETRIC DATA ELEMENTS */
BANDWIDTH = 76.0
CENTER_FILTER_WAVELENGTH = 444.0
RADIANCE_OFFSET = 0.426015
RADIANCE_SCALING_FACTOR = 0.0020419
REFLECTANCE_SCALING_FACTOR = 0.000126894
MEX:REFLECTANCE_OFFSET = 0.0264748
/* IMAGE OBJECT DEFINITIONS */
OBJECT = IMAGE
  INTERCHANGE_FORMAT = BINARY
  LINES = 8974
  LINE_SAMPLES = 1991
  SAMPLE_TYPE = UNSIGNED_INTEGER
  SAMPLE_BITS = 8
  BANDS = 1
  BAND_STORAGE_TYPE = BAND_SEQUENTIAL
  MAXIMUM = 255
  MEAN = 138.754
  MINIMUM = 1
  STANDARD_DEVIATION = 20.4808
END_OBJECT = IMAGE
/* MAP OBJECT DEFINITIONS */
OBJECT = IMAGE_MAP_PROJECTION
  ^DATA_SET_MAP_PROJECTION_CATALOG= "DSMAP.CAT"
  A_AXIS_RADIUS = 3396.0
  B_AXIS_RADIUS = 3396.0
  C_AXIS_RADIUS = 3396.0
  CENTER_LATITUDE = 0.0
  CENTER_LONGITUDE = 48.0
  COORDINATE_SYSTEM_NAME = PLANETOGRAPHIC
  COORDINATE_SYSTEM_TYPE = "BODY-FIXED ROTATING"
  EASTERNMOST_LONGITUDE = 49.1942
  FIRST_STANDARD_PARALLEL = "N/A"
  LINE_FIRST_PIXEL = 1
  LINE_LAST_PIXEL = 8974
  LINE_PROJECTION_OFFSET = 53420.625
  MAP_PROJECTION_ROTATION = 0.0
  MAP_PROJECTION_TYPE = SINUSOIDAL
  MAP_RESOLUTION = 1185.42760773333
  MAP_SCALE = 0.05
  MAXIMUM_LATITUDE = 45.029
  MINIMUM_LATITUDE = 37.4991
  POSITIVE_LONGITUDE_DIRECTION = EAST
  REFERENCE_LATITUDE = "N/A"
  REFERENCE_LONGITUDE = "N/A"
  SAMPLE_FIRST_PIXEL = 1
  SAMPLE_LAST_PIXEL = 1991
  SAMPLE_PROJECTION_OFFSET = 851.125
  SECOND_STANDARD_PARALLEL = "N/A"
  WESTERNMOST_LONGITUDE = 46.9671
END_OBJECT = IMAGE_MAP_PROJECTION
END
