PDS_VERSION_ID = PDS3
/* FILE DATA ELEMENTS */
RECORD_TYPE = UNDEFINED
/* POINTERS TO DATA OBJECTS */
^IMAGE = ("HK126_0000_P14.TIF")
/* IDENTIFICATION DATA ELEMENTS */
DATA_SET_ID = "MEX-M-HRSC-4-REFDR-MAPPROJECT-EXT7-V4.0"
DATA_SET_NAME = "MARS EXPRESS HRSC MAP PROJECTED REFDR EXTENSION7 V4.0"
DETECTOR_ID = MEX_HRSC_P1
EVENT_TYPE = "MARS-REGIONAL-MAPPING-Im-Pf-Eo"
INSTRUMENT_HOST_ID = MEX
INSTRUMENT_HOST_NAME = "MARS EXPRESS"
INSTRUMENT_ID = HRSC
INSTRUMENT_NAME = "HIGH RESOLUTION STEREO CAMERA"
MISSION_NAME = "MARS EXPRESS"
MISSION_PHASE_NAME = ME_Phase_41
PROCESSING_LEVEL_ID = 4
PRODUCT_CREATION_TIME = 2023-01-28T19:11:08.000Z
PRODUCT_ID = "HK126_0000_P14.TIF"
RELEASE_ID = 0003
REVISION_ID = 0000
/* QUALITY DATA ELEMENTS */
DATA_QUALITY_ID = 1
DATA_QUALITY_DESC = "Data calculated based on original SPICE kernels"
/* TIME DATA ELEMENTS */
SPACECRAFT_CLOCK_START_COUNT = "1/0523301339.25700"
SPACECRAFT_CLOCK_STOP_COUNT = "1/0523301539.08504"
START_TIME = 2019-12-01T17:29:42.817Z
STOP_TIME = 2019-12-01T17:31:57.633Z
/* ORBITAL DATA ELEMENTS */
ASCENDING_NODE_LONGITUDE = 197.21
MAXIMUM_RESOLUTION = 0.0324
FOOTPRINT_POINT_LATITUDE = (77.9317,77.8461,77.7644,77.7096, 77.6015,77.5976,77.5378,77.3519,77.1659 ,76.9794,76.7002,76.4266,75.9695, 75.6948,75.4192,75.0512,74.7747,74.4052 ,74.1276,73.9423,73.664,73.4782,73.2922 ,73.013,72.8267,72.6402,72.4533,72.2662 ,72.0792,71.8925,71.7051,71.5176, 71.2361,71.0482,70.86,70.5776,70.3894, 70.2009,70.012,69.8228,69.5389,69.2554, 69.066,68.8762,68.5915,68.3066,68.2115, 68.1902,68.2418,68.2748,68.3397,68.384, 68.3854,68.3865,68.5784,68.7703,68.9617 ,69.1531,69.3444,69.5356,69.8223, 70.0133,70.2042,70.3949,70.5855,70.776, 70.9665,71.1569,71.3472,71.5373,71.7274 ,71.9175,72.1074,72.2972,72.4866, 72.6761,72.8656,73.0549,73.2442,73.4335 ,73.6226,73.8115,74.0004,74.1892, 74.3778,74.5664,74.7548,74.9433,75.1315 ,75.5078,75.8836,76.259,76.5403,76.915, 77.1034,77.2955,77.5836,77.7753,77.8711 ,77.9317)
FOOTPRINT_POINT_LONGITUDE = (120.831,118.932,117.361,116.406, 114.696,114.637,114.504,114.765,115.018 ,115.263,115.617,115.948,116.469, 116.765,117.049,117.411,117.67,118.0, 118.237,118.391,118.613,118.758,118.898 ,119.103,119.236,119.366,119.492, 119.616,119.737,119.855,119.971,120.084 ,120.249,120.356,120.461,120.614, 120.713,120.81,120.905,120.998,121.135, 121.267,121.353,121.437,121.56,121.68, 121.719,121.727,122.548,123.121,124.381 ,125.395,125.431,125.444,125.395, 125.345,125.295,125.244,125.192,125.139 ,125.057,125.001,124.944,124.886, 124.827,124.766,124.705,124.642,124.577 ,124.512,124.445,124.376,124.306, 124.235,124.162,124.088,124.011,123.933 ,123.853,123.771,123.688,123.602, 123.515,123.424,123.333,123.238,123.142 ,123.042,122.941,122.729,122.506, 122.271,122.085,121.825,121.688,121.545 ,121.32,121.165,121.085,120.831)
ORBIT_NUMBER = 20126
ORBITAL_ECCENTRICITY = 0.571
ORBITAL_INCLINATION = 86.99
ORBITAL_SEMIMAJOR_AXIS = 8768.02
PERIAPSIS_ALTITUDE = 384.45
PERIAPSIS_ARGUMENT_ANGLE = 112.53
PERIAPSIS_TIME = 2019-12-01T17:32:42.000Z
SPACECRAFT_ORIENTATION = (0.0,-1.0,0.0)
^MEX_ORIENTATION_DESC = "MEX_ORIENTATION_DESC.TXT"
SPACECRAFT_POINTING_MODE = INERT
^MEX_POINTING_DESC = "MEX_POINTING_DESC.TXT"
RIGHT_ASCENSION = 165.517
DECLINATION = -51.73
OFFSET_ANGLE = -1e+32
SPACECRAFT_SOLAR_DISTANCE = 2.42392e+08
TARGET_NAME = MARS
/* CAMERA DATA ELEMENTS */
DETECTOR_TEMPERATURE = 16.9432
FOCAL_PLANE_TEMPERATURE = 7.9716
INST_CMPRS_NAME = "DISCRETE COSINE TRANSFORMATION (DCT)"
INST_CMPRS_RATIO = 8.75426
INST_CMPRS_QUALITY = 0
INST_CMPRS_QUANTZ_TBL_ID = 0
INSTRUMENT_TEMPERATURE = 11.234
LENS_TEMPERATURE = 8.5833
MACROPIXEL_SIZE = 2
MISSING_FRAMES = 0
PIXEL_SUBSAMPLING_FLAG = N
SIGNAL_CHAIN_ID = 3
/* RADIOMETRIC DATA ELEMENTS */
BANDWIDTH = 174.0
CENTER_FILTER_WAVELENGTH = 675.0
RADIANCE_OFFSET = 2.43034
RADIANCE_SCALING_FACTOR = 0.0249366
REFLECTANCE_SCALING_FACTOR = 0.000788058
MEX:REFLECTANCE_OFFSET = 0.0768048
/* IMAGE OBJECT DEFINITIONS */
OBJECT = IMAGE
  INTERCHANGE_FORMAT = BINARY
  LINES = 23001
  LINE_SAMPLES = 7159
  SAMPLE_TYPE = UNSIGNED_INTEGER
  SAMPLE_BITS = 8
  BANDS = 1
  BAND_STORAGE_TYPE = BAND_SEQUENTIAL
  MAXIMUM = 255
  MEAN = 124.385
  MINIMUM = 1
  STANDARD_DEVIATION = 39.9214
END_OBJECT = IMAGE
/* MAP OBJECT DEFINITIONS */
OBJECT = IMAGE_MAP_PROJECTION
  ^DATA_SET_MAP_PROJECTION_CATALOG= "DSMAP.CAT"
  A_AXIS_RADIUS = 3396.0
  B_AXIS_RADIUS = 3396.0
  C_AXIS_RADIUS = 3396.0
  CENTER_LATITUDE = 0.0
  CENTER_LONGITUDE = 121.0
  COORDINATE_SYSTEM_NAME = PLANETOGRAPHIC
  COORDINATE_SYSTEM_TYPE = "BODY-FIXED ROTATING"
  EASTERNMOST_LONGITUDE = 125.444
  FIRST_STANDARD_PARALLEL = "N/A"
  LINE_FIRST_PIXEL = 1
  LINE_LAST_PIXEL = 23001
  LINE_PROJECTION_OFFSET = 184689.75
  MAP_PROJECTION_ROTATION = 0.0
  MAP_PROJECTION_TYPE = SINUSOIDAL
  MAP_RESOLUTION = 2370.85521546667
  MAP_SCALE = 0.025
  MAXIMUM_LATITUDE = 77.93170000000001
  MINIMUM_LATITUDE = 68.1902
  POSITIVE_LONGITUDE_DIRECTION = EAST
  REFERENCE_LATITUDE = "N/A"
  REFERENCE_LONGITUDE = "N/A"
  SAMPLE_FIRST_PIXEL = 1
  SAMPLE_LAST_PIXEL = 7159
  SAMPLE_PROJECTION_OFFSET = 3384.75
  SECOND_STANDARD_PARALLEL = "N/A"
  WESTERNMOST_LONGITUDE = 114.504
END_OBJECT = IMAGE_MAP_PROJECTION
END
