PDS_VERSION_ID = PDS3
/* FILE DATA ELEMENTS */
RECORD_TYPE = UNDEFINED
/* POINTERS TO DATA OBJECTS */
^IMAGE = ("HK152_0000_IR4.TIF")
/* IDENTIFICATION DATA ELEMENTS */
DATA_SET_ID = "MEX-M-HRSC-4-REFDR-MAPPROJECT-EXT7-V4.0"
DATA_SET_NAME = "MARS EXPRESS HRSC MAP PROJECTED REFDR EXTENSION7 V4.0"
DETECTOR_ID = MEX_HRSC_IR
EVENT_TYPE = "MARS-LOCAL-MAPPING-Im-Gl-Eo"
INSTRUMENT_HOST_ID = MEX
INSTRUMENT_HOST_NAME = "MARS EXPRESS"
INSTRUMENT_ID = HRSC
INSTRUMENT_NAME = "HIGH RESOLUTION STEREO CAMERA"
MISSION_NAME = "MARS EXPRESS"
MISSION_PHASE_NAME = ME_Phase_41
PROCESSING_LEVEL_ID = 4
PRODUCT_CREATION_TIME = 2023-01-28T19:11:08.000Z
PRODUCT_ID = "HK152_0000_IR4.TIF"
RELEASE_ID = 0003
REVISION_ID = 0000
/* QUALITY DATA ELEMENTS */
DATA_QUALITY_ID = 1
DATA_QUALITY_DESC = "Data calculated based on original SPICE kernels"
/* TIME DATA ELEMENTS */
SPACECRAFT_CLOCK_START_COUNT = "1/0523955155.25677"
SPACECRAFT_CLOCK_STOP_COUNT = "1/0523955384.09648"
START_TIME = 2019-12-09T07:06:32.499Z
STOP_TIME = 2019-12-09T07:09:08.842Z
/* ORBITAL DATA ELEMENTS */
ASCENDING_NODE_LONGITUDE = 196.74
MAXIMUM_RESOLUTION = 0.0637
FOOTPRINT_POINT_LATITUDE = (66.6712,66.6364,66.5846,66.4913, 66.4893,66.4225,66.0919,65.6508,65.3198 ,64.8779,64.6567,64.4348,64.1025, 63.7697,63.5476,63.3255,62.9921,62.6584 ,62.4358,62.213,61.9901,61.7671,61.5438 ,61.2087,60.9852,60.7614,60.5376, 60.3138,60.0895,59.7533,59.4164,59.1916 ,58.9666,58.7416,58.5164,58.2909, 58.0653,57.7241,57.3768,57.1448,56.7972 ,56.4488,56.2144,55.9801,55.7458,55.508 ,55.2679,55.148,55.1122,55.1607,55.1922 ,55.2171,55.2491,55.2694,55.2706, 55.2722,55.5128,55.7528,55.9875,56.2218 ,56.455,56.6885,56.9224,57.1546,57.3873 ,57.6198,57.8521,58.0819,58.3078, 58.5339,58.7595,59.098,59.436,59.7737, 59.9989,60.2236,60.4483,60.7851,61.1217 ,61.3459,61.5701,61.7941,62.1299, 62.3537,62.5773,62.9125,63.1362,63.3601 ,63.5834,63.9165,64.3565,64.5792, 64.8019,65.1354,65.3581,65.5825,66.0304 ,66.4729,66.5834,66.6712)
FOOTPRINT_POINT_LONGITUDE = (350.131,349.427,348.488,347.022, 346.993,346.889,347.001,347.146,347.251 ,347.386,347.451,347.514,347.607, 347.697,347.755,347.813,347.896,347.978 ,348.03,348.082,348.133,348.182,348.231 ,348.302,348.348,348.393,348.438, 348.481,348.524,348.586,348.647,348.686 ,348.725,348.762,348.8,348.836,348.871, 348.924,348.977,349.01,349.061,349.109, 349.139,349.169,349.199,349.227,349.257 ,349.271,349.276,349.997,350.496, 350.894,351.49,351.913,351.938,351.946, 351.922,351.898,351.874,351.849,351.825 ,351.8,351.774,351.749,351.723,351.696, 351.67,351.643,351.616,351.588,351.561, 351.518,351.475,351.43,351.4,351.369, 351.338,351.29,351.241,351.208,351.173, 351.139,351.086,351.05,351.013,350.957, 350.918,350.878,350.838,350.779,350.701 ,350.658,350.614,350.547,350.5,350.45, 350.348,350.249,350.224,350.131)
ORBIT_NUMBER = 20152
ORBITAL_ECCENTRICITY = 0.57
ORBITAL_INCLINATION = 87.0
ORBITAL_SEMIMAJOR_AXIS = 8760.62
PERIAPSIS_ALTITUDE = 386.16
PERIAPSIS_ARGUMENT_ANGLE = 108.03
PERIAPSIS_TIME = 2019-12-09T07:05:27.000Z
SPACECRAFT_ORIENTATION = (0.0,-1.0,0.0)
^MEX_ORIENTATION_DESC = "MEX_ORIENTATION_DESC.TXT"
SPACECRAFT_POINTING_MODE = INERT
^MEX_POINTING_DESC = "MEX_POINTING_DESC.TXT"
RIGHT_ASCENSION = 185.492
DECLINATION = -50.431
OFFSET_ANGLE = -1e+32
SPACECRAFT_SOLAR_DISTANCE = 2.41341e+08
TARGET_NAME = MARS
/* CAMERA DATA ELEMENTS */
DETECTOR_TEMPERATURE = 16.9432
FOCAL_PLANE_TEMPERATURE = 7.3599
INST_CMPRS_NAME = "DISCRETE COSINE TRANSFORMATION (DCT)"
INST_CMPRS_RATIO = 9.31933
INST_CMPRS_QUALITY = 0
INST_CMPRS_QUANTZ_TBL_ID = 0
INSTRUMENT_TEMPERATURE = 10.8262
LENS_TEMPERATURE = 7.9716
MACROPIXEL_SIZE = 4
MISSING_FRAMES = 0
PIXEL_SUBSAMPLING_FLAG = N
SIGNAL_CHAIN_ID = 2
/* RADIOMETRIC DATA ELEMENTS */
BANDWIDTH = 81.0
CENTER_FILTER_WAVELENGTH = 955.5
RADIANCE_OFFSET = 0.525388
RADIANCE_SCALING_FACTOR = 0.00664753
REFLECTANCE_SCALING_FACTOR = 0.000835318
MEX:REFLECTANCE_OFFSET = 0.0660195
/* IMAGE OBJECT DEFINITIONS */
OBJECT = IMAGE
  INTERCHANGE_FORMAT = BINARY
  LINES = 13626
  LINE_SAMPLES = 2814
  SAMPLE_TYPE = UNSIGNED_INTEGER
  SAMPLE_BITS = 8
  BANDS = 1
  BAND_STORAGE_TYPE = BAND_SEQUENTIAL
  MAXIMUM = 255
  MEAN = 127.442
  MINIMUM = 1
  STANDARD_DEVIATION = 35.7375
END_OBJECT = IMAGE
/* MAP OBJECT DEFINITIONS */
OBJECT = IMAGE_MAP_PROJECTION
  ^DATA_SET_MAP_PROJECTION_CATALOG= "DSMAP.CAT"
  A_AXIS_RADIUS = 3396.0
  B_AXIS_RADIUS = 3396.0
  C_AXIS_RADIUS = 3396.0
  CENTER_LATITUDE = 0.0
  CENTER_LONGITUDE = 350.0
  COORDINATE_SYSTEM_NAME = PLANETOGRAPHIC
  COORDINATE_SYSTEM_TYPE = "BODY-FIXED ROTATING"
  EASTERNMOST_LONGITUDE = 351.946
  FIRST_STANDARD_PARALLEL = "N/A"
  LINE_FIRST_PIXEL = 1
  LINE_LAST_PIXEL = 13626
  LINE_PROJECTION_OFFSET = 78982.375
  MAP_PROJECTION_ROTATION = 0.0
  MAP_PROJECTION_TYPE = SINUSOIDAL
  MAP_RESOLUTION = 1185.42760773333
  MAP_SCALE = 0.05
  MAXIMUM_LATITUDE = 66.6712
  MINIMUM_LATITUDE = 55.1122
  POSITIVE_LONGITUDE_DIRECTION = EAST
  REFERENCE_LATITUDE = "N/A"
  REFERENCE_LONGITUDE = "N/A"
  SAMPLE_FIRST_PIXEL = 1
  SAMPLE_LAST_PIXEL = 2814
  SAMPLE_PROJECTION_OFFSET = 1570.375
  SECOND_STANDARD_PARALLEL = "N/A"
  WESTERNMOST_LONGITUDE = 346.889
END_OBJECT = IMAGE_MAP_PROJECTION
END
