PDS_VERSION_ID = PDS3
/* FILE DATA ELEMENTS */
RECORD_TYPE = UNDEFINED
/* POINTERS TO DATA OBJECTS */
^IMAGE = ("HK152_0000_P24.TIF")
/* IDENTIFICATION DATA ELEMENTS */
DATA_SET_ID = "MEX-M-HRSC-4-REFDR-MAPPROJECT-EXT7-V4.0"
DATA_SET_NAME = "MARS EXPRESS HRSC MAP PROJECTED REFDR EXTENSION7 V4.0"
DETECTOR_ID = MEX_HRSC_P2
EVENT_TYPE = "MARS-LOCAL-MAPPING-Im-Gl-Eo"
INSTRUMENT_HOST_ID = MEX
INSTRUMENT_HOST_NAME = "MARS EXPRESS"
INSTRUMENT_ID = HRSC
INSTRUMENT_NAME = "HIGH RESOLUTION STEREO CAMERA"
MISSION_NAME = "MARS EXPRESS"
MISSION_PHASE_NAME = ME_Phase_41
PROCESSING_LEVEL_ID = 4
PRODUCT_CREATION_TIME = 2023-01-28T19:11:08.000Z
PRODUCT_ID = "HK152_0000_P24.TIF"
RELEASE_ID = 0003
REVISION_ID = 0000
/* QUALITY DATA ELEMENTS */
DATA_QUALITY_ID = 1
DATA_QUALITY_DESC = "Data calculated based on original SPICE kernels"
/* TIME DATA ELEMENTS */
SPACECRAFT_CLOCK_START_COUNT = "1/0523955155.25677"
SPACECRAFT_CLOCK_STOP_COUNT = "1/0523955384.09648"
START_TIME = 2019-12-09T07:07:20.559Z
STOP_TIME = 2019-12-09T07:10:02.262Z
/* ORBITAL DATA ELEMENTS */
ASCENDING_NODE_LONGITUDE = 196.74
MAXIMUM_RESOLUTION = 0.0336
FOOTPRINT_POINT_LATITUDE = (66.5057,66.4814,66.4359,66.38,66.3338, 66.3318,66.4383,66.1078,65.8879,65.6678 ,65.3378,65.1178,64.8983,64.6781, 64.4594,64.2396,64.0202,63.8009,63.5818 ,63.363,63.1438,62.9247,62.5966,62.3778 ,61.9405,61.5035,61.281,61.0568,60.8326 ,60.6085,60.2723,60.0484,59.8245, 59.4888,59.2637,59.0341,58.8047,58.5753 ,58.346,58.1167,57.8875,57.6585,57.4258 ,57.1907,56.8384,56.603,56.3685,56.1344 ,55.7778,55.5377,55.2977,55.1776, 55.1446,55.1877,55.2184,55.2508,55.2803 ,55.2813,55.2823,55.6435,55.8844, 56.1249,56.3601,56.5948,56.8295,57.0655 ,57.301,57.5367,57.7708,58.0007,58.3454 ,58.6904,59.0357,59.2658,59.6078, 59.8323,60.1694,60.3942,60.619,60.844, 61.1816,61.4067,61.8505,62.2895,62.5092 ,62.729,63.1682,63.7171,64.0528,64.2789 ,64.4999,64.8314,65.0527,65.2738, 65.7052,65.9261,66.1483,66.4836,66.5946 ,66.5057)
FOOTPRINT_POINT_LONGITUDE = (350.081,349.526,348.58,347.536,346.752 ,346.719,346.533,346.651,346.728, 346.803,346.913,346.984,347.053,347.122 ,347.187,347.252,347.316,347.378, 347.438,347.497,347.555,347.613,347.695 ,347.749,347.854,347.954,348.003, 348.052,348.1,348.147,348.215,348.26, 348.303,348.367,348.408,348.45,348.491, 348.53,348.569,348.607,348.644,348.681, 348.718,348.754,348.806,348.842,348.875 ,348.906,348.953,348.984,349.014,349.03 ,349.034,349.771,350.35,351.033,351.715 ,351.741,351.751,351.718,351.696, 351.673,351.65,351.627,351.603,351.58, 351.555,351.531,351.506,351.481,351.443 ,351.404,351.364,351.336,351.295, 351.267,351.224,351.195,351.165,351.135 ,351.088,351.056,350.992,350.926, 350.892,350.857,350.786,350.693,350.637 ,350.599,350.559,350.497,350.455, 350.411,350.318,350.272,350.225,350.154 ,350.129,350.081)
ORBIT_NUMBER = 20152
ORBITAL_ECCENTRICITY = 0.57
ORBITAL_INCLINATION = 87.0
ORBITAL_SEMIMAJOR_AXIS = 8760.62
PERIAPSIS_ALTITUDE = 386.16
PERIAPSIS_ARGUMENT_ANGLE = 108.03
PERIAPSIS_TIME = 2019-12-09T07:05:27.000Z
SPACECRAFT_ORIENTATION = (0.0,-1.0,0.0)
^MEX_ORIENTATION_DESC = "MEX_ORIENTATION_DESC.TXT"
SPACECRAFT_POINTING_MODE = INERT
^MEX_POINTING_DESC = "MEX_POINTING_DESC.TXT"
RIGHT_ASCENSION = 185.492
DECLINATION = -50.431
OFFSET_ANGLE = -1e+32
SPACECRAFT_SOLAR_DISTANCE = 2.41341e+08
TARGET_NAME = MARS
/* CAMERA DATA ELEMENTS */
DETECTOR_TEMPERATURE = 17.7588
FOCAL_PLANE_TEMPERATURE = 7.3599
INST_CMPRS_NAME = "DISCRETE COSINE TRANSFORMATION (DCT)"
INST_CMPRS_RATIO = 6.95083
INST_CMPRS_QUALITY = 0
INST_CMPRS_QUANTZ_TBL_ID = 0
INSTRUMENT_TEMPERATURE = 10.8262
LENS_TEMPERATURE = 7.9716
MACROPIXEL_SIZE = 2
MISSING_FRAMES = 0
PIXEL_SUBSAMPLING_FLAG = N
SIGNAL_CHAIN_ID = 3
/* RADIOMETRIC DATA ELEMENTS */
BANDWIDTH = 177.0
CENTER_FILTER_WAVELENGTH = 676.5
RADIANCE_OFFSET = 2.84557
RADIANCE_SCALING_FACTOR = 0.0218433
REFLECTANCE_SCALING_FACTOR = 0.000674586
MEX:REFLECTANCE_OFFSET = 0.0878796
/* IMAGE OBJECT DEFINITIONS */
OBJECT = IMAGE
  INTERCHANGE_FORMAT = BINARY
  LINES = 27251
  LINE_SAMPLES = 5628
  SAMPLE_TYPE = UNSIGNED_INTEGER
  SAMPLE_BITS = 8
  BANDS = 1
  BAND_STORAGE_TYPE = BAND_SEQUENTIAL
  MAXIMUM = 255
  MEAN = 135.516
  MINIMUM = 1
  STANDARD_DEVIATION = 34.9933
END_OBJECT = IMAGE
/* MAP OBJECT DEFINITIONS */
OBJECT = IMAGE_MAP_PROJECTION
  ^DATA_SET_MAP_PROJECTION_CATALOG= "DSMAP.CAT"
  A_AXIS_RADIUS = 3396.0
  B_AXIS_RADIUS = 3396.0
  C_AXIS_RADIUS = 3396.0
  CENTER_LATITUDE = 0.0
  CENTER_LONGITUDE = 350.0
  COORDINATE_SYSTEM_NAME = PLANETOGRAPHIC
  COORDINATE_SYSTEM_TYPE = "BODY-FIXED ROTATING"
  EASTERNMOST_LONGITUDE = 351.751
  FIRST_STANDARD_PARALLEL = "N/A"
  LINE_FIRST_PIXEL = 1
  LINE_LAST_PIXEL = 27251
  LINE_PROJECTION_OFFSET = 157965.25
  MAP_PROJECTION_ROTATION = 0.0
  MAP_PROJECTION_TYPE = SINUSOIDAL
  MAP_RESOLUTION = 2370.85521546667
  MAP_SCALE = 0.025
  MAXIMUM_LATITUDE = 66.5946
  MINIMUM_LATITUDE = 55.1446
  POSITIVE_LONGITUDE_DIRECTION = EAST
  REFERENCE_LATITUDE = "N/A"
  REFERENCE_LONGITUDE = "N/A"
  SAMPLE_FIRST_PIXEL = 1
  SAMPLE_LAST_PIXEL = 5628
  SAMPLE_PROJECTION_OFFSET = 3141.25
  SECOND_STANDARD_PARALLEL = "N/A"
  WESTERNMOST_LONGITUDE = 346.533
END_OBJECT = IMAGE_MAP_PROJECTION
END
