PDS_VERSION_ID = PDS3
/* FILE DATA ELEMENTS */
RECORD_TYPE = UNDEFINED
/* POINTERS TO DATA OBJECTS */
^IMAGE = ("HK897_0000_RE4.TIF")
/* IDENTIFICATION DATA ELEMENTS */
DATA_SET_ID = "MEX-M-HRSC-4-REFDR-MAPPROJECT-EXT7-V4.0"
DATA_SET_NAME = "MARS EXPRESS HRSC MAP PROJECTED REFDR EXTENSION7 V4.0"
DETECTOR_ID = MEX_HRSC_RED
EVENT_TYPE = "MARS-REGIONAL-MAPPING-Fl-Lc-La"
INSTRUMENT_HOST_ID = MEX
INSTRUMENT_HOST_NAME = "MARS EXPRESS"
INSTRUMENT_ID = HRSC
INSTRUMENT_NAME = "HIGH RESOLUTION STEREO CAMERA"
MISSION_NAME = "MARS EXPRESS"
MISSION_PHASE_NAME = ME_Phase_43
PROCESSING_LEVEL_ID = 4
PRODUCT_CREATION_TIME = 2023-01-29T07:12:14.000Z
PRODUCT_ID = "HK897_0000_RE4.TIF"
RELEASE_ID = 0004
REVISION_ID = 0000
/* QUALITY DATA ELEMENTS */
DATA_QUALITY_ID = 1
DATA_QUALITY_DESC = "Data calculated based on original SPICE kernels"
/* TIME DATA ELEMENTS */
SPACECRAFT_CLOCK_START_COUNT = "1/0542682946.23985"
SPACECRAFT_CLOCK_STOP_COUNT = "1/0542683230.46331"
START_TIME = 2020-07-13T01:16:25.988Z
STOP_TIME = 2020-07-13T01:20:05.857Z
/* ORBITAL DATA ELEMENTS */
ASCENDING_NODE_LONGITUDE = 183.15
MAXIMUM_RESOLUTION = 0.0575
FOOTPRINT_POINT_LATITUDE = (-35.7569,-35.755,-35.7487,-35.7363, -35.7359,-35.6633,-34.9986,-34.5953, -34.3259,-34.0581,-33.7902,-33.3873, -33.1191,-32.85,-32.5788,-32.3071, -31.9009,-31.6297,-31.358,-30.9508, -30.5444,-30.2734,-30.0023,-29.5951, -29.0494,-28.6406,-28.3687,-28.0906, -27.8053,-27.5283,-27.2607,-26.9824, -26.7041,-26.4202,-26.1412,-25.7269, -25.4471,-25.0256,-24.6074,-24.3288, -24.0476,-23.6286,-23.3453,-22.9216, -22.6377,-22.354,-22.0707,-21.9296, -21.9031,-21.9048,-21.9045,-21.9026, -21.9025,-21.9034,-22.187,-22.4713, -22.7535,-23.0374,-23.3243,-23.6035, -23.8859,-24.3063,-24.5864,-24.8659, -25.1461,-25.4266,-25.7051,-25.9873, -26.2618,-26.5447,-26.8286,-27.0987, -27.3775,-27.6526,-27.9305,-28.2093, -28.6202,-28.8953,-29.1718,-29.4449, -29.8499,-30.1197,-30.3912,-30.6652, -30.9362,-31.3458,-31.7534,-32.0258, -32.2977,-32.5685,-32.8384,-33.1089, -33.3783,-33.783,-34.1863,-34.4549, -34.8607,-35.5284,-35.6622,-35.7569)
FOOTPRINT_POINT_LONGITUDE = (62.6756,62.2401,61.6438,60.9666, 60.9504,60.9176,60.9461,60.9612,60.971, 60.9814,60.9917,61.0066,61.0167,61.0262 ,61.035,61.0434,61.0566,61.0651,61.0733 ,61.0858,61.0984,61.1067,61.1149, 61.1269,61.1416,61.1527,61.1602,61.1653 ,61.1676,61.1729,61.1819,61.1867, 61.1914,61.1939,61.1983,61.2063,61.2102 ,61.2152,61.2213,61.2255,61.2285,61.234 ,61.2361,61.2396,61.2413,61.243,61.2448 ,61.2459,61.246,61.5716,62.0546,62.5259 ,62.538,62.5421,62.5446,62.5467,62.5496 ,62.5518,62.5527,62.5565,62.559,62.5639 ,62.567,62.5704,62.5733,62.5761,62.5795 ,62.5814,62.5863,62.5877,62.5886, 62.5949,62.5976,62.6017,62.6045,62.6069 ,62.6132,62.6168,62.6196,62.6238, 62.6316,62.6368,62.6412,62.6444,62.6487 ,62.6536,62.6591,62.6622,62.6654, 62.6689,62.6727,62.676,62.6797,62.6846, 62.6897,62.693,62.6964,62.7049,62.7063, 62.6756)
ORBIT_NUMBER = 20897
ORBITAL_ECCENTRICITY = 0.578
ORBITAL_INCLINATION = 86.98
ORBITAL_SEMIMAJOR_AXIS = 8840.37
PERIAPSIS_ALTITUDE = 340.46
PERIAPSIS_ARGUMENT_ANGLE = 339.44
PERIAPSIS_TIME = 2020-07-13T01:20:53.000Z
SPACECRAFT_ORIENTATION = (0.0,1.0,0.0)
^MEX_ORIENTATION_DESC = "MEX_ORIENTATION_DESC.TXT"
SPACECRAFT_POINTING_MODE = NADIR
^MEX_POINTING_DESC = "MEX_POINTING_DESC.TXT"
RIGHT_ASCENSION = -1e+32
DECLINATION = -1e+32
OFFSET_ANGLE = -1e+32
SPACECRAFT_SOLAR_DISTANCE = 2.07141e+08
TARGET_NAME = MARS
/* CAMERA DATA ELEMENTS */
DETECTOR_TEMPERATURE = 18.3705
FOCAL_PLANE_TEMPERATURE = 8.3794
INST_CMPRS_NAME = "DISCRETE COSINE TRANSFORMATION (DCT)"
INST_CMPRS_RATIO = 15.6173
INST_CMPRS_QUALITY = 0
INST_CMPRS_QUANTZ_TBL_ID = 0
INSTRUMENT_TEMPERATURE = 11.4379
LENS_TEMPERATURE = 8.5833
MACROPIXEL_SIZE = 4
MISSING_FRAMES = 0
PIXEL_SUBSAMPLING_FLAG = N
SIGNAL_CHAIN_ID = 2
/* RADIOMETRIC DATA ELEMENTS */
BANDWIDTH = 48.0
CENTER_FILTER_WAVELENGTH = 748.0
RADIANCE_OFFSET = 0.796431
RADIANCE_SCALING_FACTOR = 0.00266137
REFLECTANCE_SCALING_FACTOR = 0.000260595
MEX:REFLECTANCE_OFFSET = 0.0779846
/* IMAGE OBJECT DEFINITIONS */
OBJECT = IMAGE
  INTERCHANGE_FORMAT = BINARY
  LINES = 16370
  LINE_SAMPLES = 1662
  SAMPLE_TYPE = UNSIGNED_INTEGER
  SAMPLE_BITS = 8
  BANDS = 1
  BAND_STORAGE_TYPE = BAND_SEQUENTIAL
  MAXIMUM = 255
  MEAN = 139.703
  MINIMUM = 1
  STANDARD_DEVIATION = 64.3555
END_OBJECT = IMAGE
/* MAP OBJECT DEFINITIONS */
OBJECT = IMAGE_MAP_PROJECTION
  ^DATA_SET_MAP_PROJECTION_CATALOG= "DSMAP.CAT"
  A_AXIS_RADIUS = 3396.0
  B_AXIS_RADIUS = 3396.0
  C_AXIS_RADIUS = 3396.0
  CENTER_LATITUDE = 0.0
  CENTER_LONGITUDE = 62.0
  COORDINATE_SYSTEM_NAME = PLANETOGRAPHIC
  COORDINATE_SYSTEM_TYPE = "BODY-FIXED ROTATING"
  EASTERNMOST_LONGITUDE = 62.7063
  FIRST_STANDARD_PARALLEL = "N/A"
  LINE_FIRST_PIXEL = 1
  LINE_LAST_PIXEL = 16370
  LINE_PROJECTION_OFFSET = -25971.875
  MAP_PROJECTION_ROTATION = 0.0
  MAP_PROJECTION_TYPE = SINUSOIDAL
  MAP_RESOLUTION = 1185.42760773333
  MAP_SCALE = 0.05
  MAXIMUM_LATITUDE = -21.9025
  MINIMUM_LATITUDE = -35.7569
  POSITIVE_LONGITUDE_DIRECTION = EAST
  REFERENCE_LATITUDE = "N/A"
  REFERENCE_LONGITUDE = "N/A"
  SAMPLE_FIRST_PIXEL = 1
  SAMPLE_LAST_PIXEL = 1662
  SAMPLE_PROJECTION_OFFSET = 1014.875
  SECOND_STANDARD_PARALLEL = "N/A"
  WESTERNMOST_LONGITUDE = 60.9176
END_OBJECT = IMAGE_MAP_PROJECTION
END
