PDS_VERSION_ID = PDS3
/* FILE DATA ELEMENTS */
RECORD_TYPE = UNDEFINED
/* POINTERS TO DATA OBJECTS */
^IMAGE = ("HL022_0000_P14.TIF")
/* IDENTIFICATION DATA ELEMENTS */
DATA_SET_ID = "MEX-M-HRSC-4-REFDR-MAPPROJECT-EXT7-V4.0"
DATA_SET_NAME = "MARS EXPRESS HRSC MAP PROJECTED REFDR EXTENSION7 V4.0"
DETECTOR_ID = MEX_HRSC_P1
EVENT_TYPE = "MARS-REGIONAL-MAPPING-Te-Im-Gl"
INSTRUMENT_HOST_ID = MEX
INSTRUMENT_HOST_NAME = "MARS EXPRESS"
INSTRUMENT_ID = HRSC
INSTRUMENT_NAME = "HIGH RESOLUTION STEREO CAMERA"
MISSION_NAME = "MARS EXPRESS"
MISSION_PHASE_NAME = ME_Phase_43
PROCESSING_LEVEL_ID = 4
PRODUCT_CREATION_TIME = 2023-01-29T17:38:44.000Z
PRODUCT_ID = "HL022_0000_P14.TIF"
RELEASE_ID = 0005
REVISION_ID = 0000
/* QUALITY DATA ELEMENTS */
DATA_QUALITY_ID = 1
DATA_QUALITY_DESC = "Data calculated based on original SPICE kernels"
/* TIME DATA ELEMENTS */
SPACECRAFT_CLOCK_START_COUNT = "1/0545825602.23969"
SPACECRAFT_CLOCK_STOP_COUNT = "1/0545825796.32267"
START_TIME = 2020-08-18T10:14:45.105Z
STOP_TIME = 2020-08-18T10:16:55.964Z
/* ORBITAL DATA ELEMENTS */
ASCENDING_NODE_LONGITUDE = 180.86
MAXIMUM_RESOLUTION = 0.0272
FOOTPRINT_POINT_LATITUDE = (-39.4251,-39.4163,-39.4096,-39.4025, -39.3952,-39.3876,-39.3798,-39.3793, -39.3958,-39.0659,-38.7343,-38.3968, -38.2237,-38.0509,-37.8807,-37.6277, -37.4581,-37.2039,-37.0342,-36.7797, -36.6113,-36.4426,-36.2737,-36.1046, -35.935,-35.7663,-35.5129,-35.3439, -35.1755,-34.923,-34.7552,-34.5037, -34.3358,-34.1683,-34.0003,-33.7486, -33.5817,-33.4143,-33.2474,-33.0795, -32.9123,-32.7429,-32.5752,-32.4078, -32.2403,-32.0733,-31.9062,-31.4091, -31.0771,-30.9944,-30.9718,-30.9831, -30.9917,-30.9998,-31.0011,-31.0045, -31.0047,-31.0053,-31.4199,-31.6686, -31.8357,-32.0029,-32.3367,-32.5857, -32.7537,-32.9211,-33.0902,-33.258, -33.4271,-33.6798,-33.8486,-34.0167, -34.1849,-34.3532,-34.5215,-34.69, -34.9429,-35.1116,-35.365,-35.5345, -35.7031,-35.8723,-36.0415,-36.2957, -36.549,-36.7183,-36.8895,-37.0598, -37.2295,-37.3994,-37.6544,-37.8244, -37.995,-38.1655,-38.336,-38.5906, -38.9206,-39.3349,-39.4173,-39.4251)
FOOTPRINT_POINT_LONGITUDE = (257.804,257.474,257.236,257.001, 256.769,256.538,256.31,256.295,256.293, 256.299,256.305,256.31,256.313,256.315, 256.318,256.322,256.324,256.328,256.33, 256.333,256.335,256.337,256.339,256.34, 256.342,256.344,256.346,256.347,256.348 ,256.35,256.351,256.353,256.354,256.355 ,256.355,256.357,256.357,256.358, 256.358,256.359,256.359,256.359,256.359 ,256.359,256.359,256.359,256.359, 256.358,256.358,256.358,256.357,256.706 ,256.961,257.29,257.531,257.806,257.82, 257.825,257.824,257.823,257.823,257.824 ,257.823,257.821,257.822,257.822, 257.824,257.824,257.825,257.826,257.827 ,257.827,257.827,257.827,257.827, 257.827,257.827,257.826,257.826,257.827 ,257.826,257.826,257.826,257.826, 257.824,257.824,257.825,257.826,257.825 ,257.825,257.825,257.824,257.824, 257.824,257.824,257.824,257.823,257.824 ,257.824,257.804)
ORBIT_NUMBER = 21022
ORBITAL_ECCENTRICITY = 0.578
ORBITAL_INCLINATION = 86.97
ORBITAL_SEMIMAJOR_AXIS = 8808.65
PERIAPSIS_ALTITUDE = 333.95
PERIAPSIS_ARGUMENT_ANGLE = 318.0
PERIAPSIS_TIME = 2020-08-18T10:13:48.000Z
SPACECRAFT_ORIENTATION = (0.0,1.0,0.0)
^MEX_ORIENTATION_DESC = "MEX_ORIENTATION_DESC.TXT"
SPACECRAFT_POINTING_MODE = ACROSSTRACK
^MEX_POINTING_DESC = "MEX_POINTING_DESC.TXT"
RIGHT_ASCENSION = -1e+32
DECLINATION = -1e+32
OFFSET_ANGLE = -0.7
SPACECRAFT_SOLAR_DISTANCE = 2.06896e+08
TARGET_NAME = MARS
/* CAMERA DATA ELEMENTS */
DETECTOR_TEMPERATURE = 17.9627
FOCAL_PLANE_TEMPERATURE = 9.8067
INST_CMPRS_NAME = "DISCRETE COSINE TRANSFORMATION (DCT)"
INST_CMPRS_RATIO = 7.70708
INST_CMPRS_QUALITY = 0
INST_CMPRS_QUANTZ_TBL_ID = 0
INSTRUMENT_TEMPERATURE = 11.6418
LENS_TEMPERATURE = 9.8067
MACROPIXEL_SIZE = 2
MISSING_FRAMES = 0
PIXEL_SUBSAMPLING_FLAG = N
SIGNAL_CHAIN_ID = 3
/* RADIOMETRIC DATA ELEMENTS */
BANDWIDTH = 174.0
CENTER_FILTER_WAVELENGTH = 675.0
RADIANCE_OFFSET = 4.28367
RADIANCE_SCALING_FACTOR = 0.0227009
REFLECTANCE_SCALING_FACTOR = 0.000522678
MEX:REFLECTANCE_OFFSET = 0.0986294
/* IMAGE OBJECT DEFINITIONS */
OBJECT = IMAGE
  INTERCHANGE_FORMAT = BINARY
  LINES = 19953
  LINE_SAMPLES = 2936
  SAMPLE_TYPE = UNSIGNED_INTEGER
  SAMPLE_BITS = 8
  BANDS = 1
  BAND_STORAGE_TYPE = BAND_SEQUENTIAL
  MAXIMUM = 255
  MEAN = 110.072
  MINIMUM = 1
  STANDARD_DEVIATION = 23.9357
END_OBJECT = IMAGE
/* MAP OBJECT DEFINITIONS */
OBJECT = IMAGE_MAP_PROJECTION
  ^DATA_SET_MAP_PROJECTION_CATALOG= "DSMAP.CAT"
  A_AXIS_RADIUS = 3396.0
  B_AXIS_RADIUS = 3396.0
  C_AXIS_RADIUS = 3396.0
  CENTER_LATITUDE = 0.0
  CENTER_LONGITUDE = 257.0
  COORDINATE_SYSTEM_NAME = PLANETOGRAPHIC
  COORDINATE_SYSTEM_TYPE = "BODY-FIXED ROTATING"
  EASTERNMOST_LONGITUDE = 257.827
  FIRST_STANDARD_PARALLEL = "N/A"
  LINE_FIRST_PIXEL = 1
  LINE_LAST_PIXEL = 19953
  LINE_PROJECTION_OFFSET = -73541.25
  MAP_PROJECTION_ROTATION = 0.0
  MAP_PROJECTION_TYPE = SINUSOIDAL
  MAP_RESOLUTION = 2370.85521546667
  MAP_SCALE = 0.025
  MAXIMUM_LATITUDE = -30.9718
  MINIMUM_LATITUDE = -39.4251
  POSITIVE_LONGITUDE_DIRECTION = EAST
  REFERENCE_LATITUDE = "N/A"
  REFERENCE_LONGITUDE = "N/A"
  SAMPLE_FIRST_PIXEL = 1
  SAMPLE_LAST_PIXEL = 2936
  SAMPLE_PROJECTION_OFFSET = 1296.25
  SECOND_STANDARD_PARALLEL = "N/A"
  WESTERNMOST_LONGITUDE = 256.293
END_OBJECT = IMAGE_MAP_PROJECTION
END
