PDS_VERSION_ID = PDS3
/* FILE DATA ELEMENTS */
RECORD_TYPE = UNDEFINED
/* POINTERS TO DATA OBJECTS */
^IMAGE = ("HL043_0000_P24.TIF")
/* IDENTIFICATION DATA ELEMENTS */
DATA_SET_ID = "MEX-M-HRSC-4-REFDR-MAPPROJECT-EXT7-V4.0"
DATA_SET_NAME = "MARS EXPRESS HRSC MAP PROJECTED REFDR EXTENSION7 V4.0"
DETECTOR_ID = MEX_HRSC_P2
EVENT_TYPE = "MARS-REGIONAL-MAPPING-Te-Gl-La"
INSTRUMENT_HOST_ID = MEX
INSTRUMENT_HOST_NAME = "MARS EXPRESS"
INSTRUMENT_ID = HRSC
INSTRUMENT_NAME = "HIGH RESOLUTION STEREO CAMERA"
MISSION_NAME = "MARS EXPRESS"
MISSION_PHASE_NAME = ME_Phase_43
PROCESSING_LEVEL_ID = 4
PRODUCT_CREATION_TIME = 2023-01-29T17:38:44.000Z
PRODUCT_ID = "HL043_0000_P24.TIF"
RELEASE_ID = 0005
REVISION_ID = 0000
/* QUALITY DATA ELEMENTS */
DATA_QUALITY_ID = 1
DATA_QUALITY_DESC = "Data calculated based on original SPICE kernels"
/* TIME DATA ELEMENTS */
SPACECRAFT_CLOCK_START_COUNT = "1/0546353370.65119"
SPACECRAFT_CLOCK_STOP_COUNT = "1/0546353603.12689"
START_TIME = 2020-08-24T12:50:14.984Z
STOP_TIME = 2020-08-24T12:52:06.471Z
/* ORBITAL DATA ELEMENTS */
ASCENDING_NODE_LONGITUDE = 180.47
MAXIMUM_RESOLUTION = 0.0272
FOOTPRINT_POINT_LATITUDE = (-52.1173,-52.1022,-52.091,-52.0788, -52.0656,-52.0515,-52.0383,-52.0374, -51.9933,-51.7769,-51.6327,-51.4882, -51.2712,-51.1264,-50.982,-50.8374, -50.6919,-50.5474,-50.3295,-50.1841, -50.0389,-49.8937,-49.7478,-49.5307, -49.3852,-49.2398,-49.0937,-48.9481, -48.8022,-48.6563,-48.5118,-48.0878, -47.805,-47.594,-47.3116,-47.0996, -46.8875,-46.6747,-46.3915,-46.1779, -46.0357,-45.8932,-45.7506,-45.6079, -45.3935,-45.1789,-45.036,-44.8934, -44.8221,-44.8013,-44.8182,-44.8279, -44.837,-44.8454,-44.8529,-44.8585, -44.8589,-44.8595,-45.0739,-45.2168, -45.4311,-45.5739,-45.7165,-45.8594, -46.0023,-46.1449,-46.3584,-46.5008, -46.7144,-46.9987,-47.1417,-47.2837, -47.4966,-47.6385,-47.9224,-48.1352, -48.2771,-48.5603,-48.7045,-48.9241, -49.1431,-49.2894,-49.4355,-49.6545, -49.8007,-49.9464,-50.0923,-50.3107, -50.4566,-50.6749,-50.8206,-50.9661, -51.1115,-51.3291,-51.5467,-51.6928, -51.8374,-51.9826,-52.055,-52.1173)
FOOTPRINT_POINT_LONGITUDE = (271.454,271.011,270.714,270.417, 270.119,269.82,269.557,269.538,269.493, 269.519,269.536,269.553,269.578,269.594 ,269.611,269.627,269.642,269.658, 269.681,269.696,269.711,269.726,269.74, 269.763,269.777,269.791,269.805,269.819 ,269.832,269.846,269.859,269.896, 269.921,269.94,269.965,269.982,270.0, 270.017,270.039,270.055,270.065,270.076 ,270.085,270.095,270.11,270.124,270.133 ,270.142,270.147,270.148,270.548, 270.802,271.056,271.309,271.56,271.765, 271.78,271.786,271.779,271.774,271.766, 271.761,271.756,271.751,271.746,271.74, 271.733,271.727,271.719,271.708,271.702 ,271.697,271.688,271.683,271.671, 271.662,271.656,271.644,271.638,271.628 ,271.619,271.612,271.605,271.595, 271.589,271.582,271.575,271.564,271.557 ,271.546,271.539,271.532,271.524, 271.513,271.502,271.494,271.486,271.478 ,271.474,271.454)
ORBIT_NUMBER = 21043
ORBITAL_ECCENTRICITY = 0.577
ORBITAL_INCLINATION = 86.98
ORBITAL_SEMIMAJOR_AXIS = 8801.03
PERIAPSIS_ALTITUDE = 333.38
PERIAPSIS_ARGUMENT_ANGLE = 314.43
PERIAPSIS_TIME = 2020-08-24T12:52:17.000Z
SPACECRAFT_ORIENTATION = (0.0,1.0,0.0)
^MEX_ORIENTATION_DESC = "MEX_ORIENTATION_DESC.TXT"
SPACECRAFT_POINTING_MODE = ACROSSTRACK
^MEX_POINTING_DESC = "MEX_POINTING_DESC.TXT"
RIGHT_ASCENSION = -1e+32
DECLINATION = -1e+32
OFFSET_ANGLE = 0.269
SPACECRAFT_SOLAR_DISTANCE = 2.07134e+08
TARGET_NAME = MARS
/* CAMERA DATA ELEMENTS */
DETECTOR_TEMPERATURE = 0.0
FOCAL_PLANE_TEMPERATURE = 0.0
INST_CMPRS_NAME = "DISCRETE COSINE TRANSFORMATION (DCT)"
INST_CMPRS_RATIO = 6.33952
INST_CMPRS_QUALITY = 0
INST_CMPRS_QUANTZ_TBL_ID = 0
INSTRUMENT_TEMPERATURE = 0.0
LENS_TEMPERATURE = 0.0
MACROPIXEL_SIZE = 2
MISSING_FRAMES = 0
PIXEL_SUBSAMPLING_FLAG = N
SIGNAL_CHAIN_ID = 3
/* RADIOMETRIC DATA ELEMENTS */
BANDWIDTH = 177.0
CENTER_FILTER_WAVELENGTH = 676.5
RADIANCE_OFFSET = 4.64473
RADIANCE_SCALING_FACTOR = 0.0113056
REFLECTANCE_SCALING_FACTOR = 0.00025719
MEX:REFLECTANCE_OFFSET = 0.105662
/* IMAGE OBJECT DEFINITIONS */
OBJECT = IMAGE
  INTERCHANGE_FORMAT = BINARY
  LINES = 14199
  LINE_SAMPLES = 3389
  SAMPLE_TYPE = UNSIGNED_INTEGER
  SAMPLE_BITS = 8
  BANDS = 1
  BAND_STORAGE_TYPE = BAND_SEQUENTIAL
  MAXIMUM = 255
  MEAN = 124.054
  MINIMUM = 1
  STANDARD_DEVIATION = 21.196
END_OBJECT = IMAGE
/* MAP OBJECT DEFINITIONS */
OBJECT = IMAGE_MAP_PROJECTION
  ^DATA_SET_MAP_PROJECTION_CATALOG= "DSMAP.CAT"
  A_AXIS_RADIUS = 3396.0
  B_AXIS_RADIUS = 3396.0
  C_AXIS_RADIUS = 3396.0
  CENTER_LATITUDE = 0.0
  CENTER_LONGITUDE = 271.0
  COORDINATE_SYSTEM_NAME = PLANETOGRAPHIC
  COORDINATE_SYSTEM_TYPE = "BODY-FIXED ROTATING"
  EASTERNMOST_LONGITUDE = 271.786
  FIRST_STANDARD_PARALLEL = "N/A"
  LINE_FIRST_PIXEL = 1
  LINE_LAST_PIXEL = 14199
  LINE_PROJECTION_OFFSET = -109212.75
  MAP_PROJECTION_ROTATION = 0.0
  MAP_PROJECTION_TYPE = SINUSOIDAL
  MAP_RESOLUTION = 2370.85521546667
  MAP_SCALE = 0.025
  MAXIMUM_LATITUDE = -44.8013
  MINIMUM_LATITUDE = -52.1173
  POSITIVE_LONGITUDE_DIRECTION = EAST
  REFERENCE_LATITUDE = "N/A"
  REFERENCE_LONGITUDE = "N/A"
  SAMPLE_FIRST_PIXEL = 1
  SAMPLE_LAST_PIXEL = 3389
  SAMPLE_PROJECTION_OFFSET = 2176.25
  SECOND_STANDARD_PARALLEL = "N/A"
  WESTERNMOST_LONGITUDE = 269.493
END_OBJECT = IMAGE_MAP_PROJECTION
END
