PDS_VERSION_ID = PDS3
/* FILE DATA ELEMENTS */
RECORD_TYPE = UNDEFINED
/* POINTERS TO DATA OBJECTS */
^IMAGE = ("HL082_0000_ND4.TIF")
/* IDENTIFICATION DATA ELEMENTS */
DATA_SET_ID = "MEX-M-HRSC-4-REFDR-MAPPROJECT-EXT7-V4.0"
DATA_SET_NAME = "MARS EXPRESS HRSC MAP PROJECTED REFDR EXTENSION7 V4.0"
DETECTOR_ID = MEX_HRSC_NADIR
EVENT_TYPE = "MARS-REGIONAL-MAPPING-Te-Im-Pf"
INSTRUMENT_HOST_ID = MEX
INSTRUMENT_HOST_NAME = "MARS EXPRESS"
INSTRUMENT_ID = HRSC
INSTRUMENT_NAME = "HIGH RESOLUTION STEREO CAMERA"
MISSION_NAME = "MARS EXPRESS"
MISSION_PHASE_NAME = ME_Phase_43
PROCESSING_LEVEL_ID = 4
PRODUCT_CREATION_TIME = 2023-01-29T17:38:44.000Z
PRODUCT_ID = "HL082_0000_ND4.TIF"
RELEASE_ID = 0005
REVISION_ID = 0000
/* QUALITY DATA ELEMENTS */
DATA_QUALITY_ID = 1
DATA_QUALITY_DESC = "Data calculated based on original SPICE kernels"
/* TIME DATA ELEMENTS */
SPACECRAFT_CLOCK_START_COUNT = "1/0547333915.25676"
SPACECRAFT_CLOCK_STOP_COUNT = "1/0547334168.24749"
START_TIME = 2020-09-04T21:12:54.603Z
STOP_TIME = 2020-09-04T21:16:09.614Z
/* ORBITAL DATA ELEMENTS */
ASCENDING_NODE_LONGITUDE = 179.76
MAXIMUM_RESOLUTION = 0.0132
FOOTPRINT_POINT_LATITUDE = (-51.3532,-51.3245,-51.2929,-51.2539, -51.2527,-51.2661,-50.5841,-50.3105, -50.0365,-49.7616,-49.4861,-49.214, -48.8037,-48.5297,-48.2572,-47.9841, -47.7108,-47.4376,-47.0278,-46.7547, -46.4815,-46.2084,-45.9352,-45.6592, -45.3769,-45.0947,-44.8122,-44.5302, -44.2476,-43.9653,-43.683,-43.4008, -43.1193,-42.8356,-42.5529,-42.2706, -41.8479,-41.4242,-41.1416,-40.8591, -40.5764,-40.1524,-39.7285,-39.4457, -39.1628,-38.7385,-38.315,-38.0321, -37.7525,-37.4615,-37.2908,-37.2891, -37.3448,-37.3772,-37.378,-37.3786, -37.6953,-38.1201,-38.4034,-38.6863, -39.252,-39.6763,-39.9591,-40.2419, -40.5247,-40.9488,-41.3732,-41.6562, -41.9379,-42.2206,-42.503,-42.7856, -43.2094,-43.492,-43.9157,-44.1983, -44.4808,-44.7633,-45.0459,-45.3285, -45.611,-46.0288,-46.3023,-46.7122, -46.9858,-47.3961,-47.6697,-47.9433, -48.2168,-48.4901,-48.7639,-49.0377, -49.4488,-49.8599,-50.1339,-50.5459, -50.8207,-51.2329,-51.3702,-51.3532)
FOOTPRINT_POINT_LONGITUDE = (248.327,247.764,247.195,246.547, 246.529,246.469,246.537,246.567,246.597 ,246.631,246.67,246.689,246.73,246.76, 246.779,246.803,246.826,246.849,246.881 ,246.903,246.923,246.941,246.961,246.98 ,247.0,247.019,247.035,247.056,247.07, 247.086,247.103,247.12,247.14,247.147, 247.16,247.175,247.199,247.218,247.23, 247.242,247.253,247.269,247.285,247.295 ,247.304,247.318,247.332,247.34,247.354 ,247.358,247.359,247.359,248.323, 248.956,248.971,248.979,248.971,248.959 ,248.95,248.942,248.925,248.912,248.903 ,248.894,248.884,248.87,248.854,248.844 ,248.834,248.823,248.812,248.801, 248.784,248.773,248.755,248.742,248.73, 248.717,248.704,248.691,248.677,248.657 ,248.643,248.621,248.607,248.584, 248.569,248.554,248.538,248.521,248.505 ,248.488,248.462,248.436,248.417, 248.389,248.37,248.341,248.331,248.327)
ORBIT_NUMBER = 21082
ORBITAL_ECCENTRICITY = 0.577
ORBITAL_INCLINATION = 86.98
ORBITAL_SEMIMAJOR_AXIS = 8788.66
PERIAPSIS_ALTITUDE = 332.09
PERIAPSIS_ARGUMENT_ANGLE = 307.77
PERIAPSIS_TIME = 2020-09-04T21:12:34.000Z
SPACECRAFT_ORIENTATION = (0.0,1.0,0.0)
^MEX_ORIENTATION_DESC = "MEX_ORIENTATION_DESC.TXT"
SPACECRAFT_POINTING_MODE = INERT
^MEX_POINTING_DESC = "MEX_POINTING_DESC.TXT"
RIGHT_ASCENSION = 18.865
DECLINATION = 35.717
OFFSET_ANGLE = -1e+32
SPACECRAFT_SOLAR_DISTANCE = 2.07782e+08
TARGET_NAME = MARS
/* CAMERA DATA ELEMENTS */
DETECTOR_TEMPERATURE = 18.3705
FOCAL_PLANE_TEMPERATURE = 9.195
INST_CMPRS_NAME = "DISCRETE COSINE TRANSFORMATION (DCT)"
INST_CMPRS_RATIO = 6.29053
INST_CMPRS_QUALITY = 0
INST_CMPRS_QUANTZ_TBL_ID = 0
INSTRUMENT_TEMPERATURE = 11.6418
LENS_TEMPERATURE = 9.3989
MACROPIXEL_SIZE = 1
MISSING_FRAMES = 0
PIXEL_SUBSAMPLING_FLAG = N
SIGNAL_CHAIN_ID = 0
/* RADIOMETRIC DATA ELEMENTS */
BANDWIDTH = 177.0
CENTER_FILTER_WAVELENGTH = 677.5
RADIANCE_OFFSET = 4.27128
RADIANCE_SCALING_FACTOR = 0.0225165
REFLECTANCE_SCALING_FACTOR = 0.000516417
MEX:REFLECTANCE_OFFSET = 0.0979617
/* IMAGE OBJECT DEFINITIONS */
OBJECT = IMAGE
  INTERCHANGE_FORMAT = BINARY
  LINES = 66773
  LINE_SAMPLES = 8224
  SAMPLE_TYPE = UNSIGNED_INTEGER
  SAMPLE_BITS = 8
  BANDS = 1
  BAND_STORAGE_TYPE = BAND_SEQUENTIAL
  MAXIMUM = 255
  MEAN = 108.448
  MINIMUM = 1
  STANDARD_DEVIATION = 25.208
END_OBJECT = IMAGE
/* MAP OBJECT DEFINITIONS */
OBJECT = IMAGE_MAP_PROJECTION
  ^DATA_SET_MAP_PROJECTION_CATALOG= "DSMAP.CAT"
  A_AXIS_RADIUS = 3396.0
  B_AXIS_RADIUS = 3396.0
  C_AXIS_RADIUS = 3396.0
  CENTER_LATITUDE = 0.0
  CENTER_LONGITUDE = 248.0
  COORDINATE_SYSTEM_NAME = PLANETOGRAPHIC
  COORDINATE_SYSTEM_TYPE = "BODY-FIXED ROTATING"
  EASTERNMOST_LONGITUDE = 248.979
  FIRST_STANDARD_PARALLEL = "N/A"
  LINE_FIRST_PIXEL = 1
  LINE_LAST_PIXEL = 66773
  LINE_PROJECTION_OFFSET = -176818.0
  MAP_PROJECTION_ROTATION = 0.0
  MAP_PROJECTION_TYPE = SINUSOIDAL
  MAP_RESOLUTION = 4741.71043093333
  MAP_SCALE = 0.0125
  MAXIMUM_LATITUDE = -37.2891
  MINIMUM_LATITUDE = -51.3702
  POSITIVE_LONGITUDE_DIRECTION = EAST
  REFERENCE_LATITUDE = "N/A"
  REFERENCE_LONGITUDE = "N/A"
  SAMPLE_FIRST_PIXEL = 1
  SAMPLE_LAST_PIXEL = 8224
  SAMPLE_PROJECTION_OFFSET = 4533.0
  SECOND_STANDARD_PARALLEL = "N/A"
  WESTERNMOST_LONGITUDE = 246.469
END_OBJECT = IMAGE_MAP_PROJECTION
END
