PDS_VERSION_ID = PDS3
/* FILE DATA ELEMENTS */
RECORD_TYPE = UNDEFINED
/* POINTERS TO DATA OBJECTS */
^IMAGE = ("HL108_0000_S14.TIF")
/* IDENTIFICATION DATA ELEMENTS */
DATA_SET_ID = "MEX-M-HRSC-4-REFDR-MAPPROJECT-EXT7-V4.0"
DATA_SET_NAME = "MARS EXPRESS HRSC MAP PROJECTED REFDR EXTENSION7 V4.0"
DETECTOR_ID = MEX_HRSC_S1
EVENT_TYPE = "MARS-REGIONAL-MAPPING-Im-Gl-Eo"
INSTRUMENT_HOST_ID = MEX
INSTRUMENT_HOST_NAME = "MARS EXPRESS"
INSTRUMENT_ID = HRSC
INSTRUMENT_NAME = "HIGH RESOLUTION STEREO CAMERA"
MISSION_NAME = "MARS EXPRESS"
MISSION_PHASE_NAME = ME_Phase_43
PROCESSING_LEVEL_ID = 4
PRODUCT_CREATION_TIME = 2023-01-29T17:38:44.000Z
PRODUCT_ID = "HL108_0000_S14.TIF"
RELEASE_ID = 0005
REVISION_ID = 0000
/* QUALITY DATA ELEMENTS */
DATA_QUALITY_ID = 1
DATA_QUALITY_DESC = "Data calculated based on original SPICE kernels"
/* TIME DATA ELEMENTS */
SPACECRAFT_CLOCK_START_COUNT = "1/0547987521.24867"
SPACECRAFT_CLOCK_STOP_COUNT = "1/0547987735.41818"
START_TIME = 2020-09-12T10:46:53.753Z
STOP_TIME = 2020-09-12T10:49:26.738Z
/* ORBITAL DATA ELEMENTS */
ASCENDING_NODE_LONGITUDE = 179.29
MAXIMUM_RESOLUTION = 0.028
FOOTPRINT_POINT_LATITUDE = (-55.6755,-55.6563,-55.6325,-55.6147, -55.614,-55.674,-55.3827,-55.0884, -54.8925,-54.6954,-54.5003,-54.3083, -54.1152,-53.8265,-53.4467,-53.2532, -52.9629,-52.6729,-52.287,-51.999, -51.8064,-51.6129,-51.3101,-51.1083, -50.8109,-50.6118,-50.4152,-50.123, -49.9249,-49.7296,-49.4339,-49.2373, -49.0396,-48.8431,-48.5491,-48.3571, -48.0659,-47.8719,-47.6763,-47.4811, -47.286,-47.0907,-46.8947,-46.6982, -46.4041,-46.0222,-45.9258,-45.9068, -45.9156,-45.9251,-45.9363,-45.9427, -45.943,-45.9435,-46.3267,-46.5214, -46.7159,-46.9119,-47.1088,-47.404, -47.599,-47.7952,-47.9893,-48.1817, -48.3802,-48.6766,-48.8702,-49.0674, -49.3631,-49.5603,-49.7588,-49.9576, -50.2554,-50.4542,-50.7519,-50.9509, -51.1495,-51.3479,-51.5456,-51.7388, -52.0273,-52.2211,-52.4141,-52.6076, -52.8015,-52.995,-53.1886,-53.3821, -53.5761,-53.8672,-54.0616,-54.2555, -54.5446,-54.8369,-55.0333,-55.229, -55.4236,-55.6189,-55.7163,-55.6755)
FOOTPRINT_POINT_LONGITUDE = (113.537,112.827,112.079,111.58,111.561 ,111.514,111.55,111.586,111.61,111.634, 111.657,111.678,111.699,111.729,111.766 ,111.786,111.815,111.844,111.881, 111.907,111.924,111.942,111.972,111.991 ,112.016,112.032,112.047,112.068, 112.083,112.096,112.118,112.132,112.146 ,112.159,112.178,112.189,112.206, 112.217,112.229,112.241,112.252,112.263 ,112.275,112.286,112.303,112.32,112.324 ,112.325,112.676,113.134,113.785, 114.119,114.137,114.143,114.124,114.116 ,114.107,114.099,114.091,114.079, 114.069,114.06,114.05,114.039,114.03, 114.017,114.005,113.995,113.98,113.97, 113.96,113.949,113.934,113.923,113.906, 113.895,113.883,113.872,113.859,113.847 ,113.829,113.817,113.805,113.793,113.78 ,113.768,113.755,113.741,113.728, 113.708,113.694,113.68,113.657,113.636, 113.622,113.607,113.592,113.575,113.567 ,113.537)
ORBIT_NUMBER = 21108
ORBITAL_ECCENTRICITY = 0.577
ORBITAL_INCLINATION = 86.99
ORBITAL_SEMIMAJOR_AXIS = 8783.17
PERIAPSIS_ALTITUDE = 332.03
PERIAPSIS_ARGUMENT_ANGLE = 303.37
PERIAPSIS_TIME = 2020-09-12T10:46:13.000Z
SPACECRAFT_ORIENTATION = (0.0,1.0,0.0)
^MEX_ORIENTATION_DESC = "MEX_ORIENTATION_DESC.TXT"
SPACECRAFT_POINTING_MODE = NADIR
^MEX_POINTING_DESC = "MEX_POINTING_DESC.TXT"
RIGHT_ASCENSION = -1e+32
DECLINATION = -1e+32
OFFSET_ANGLE = -1e+32
SPACECRAFT_SOLAR_DISTANCE = 2.08358e+08
TARGET_NAME = MARS
/* CAMERA DATA ELEMENTS */
DETECTOR_TEMPERATURE = 17.351
FOCAL_PLANE_TEMPERATURE = 8.1755
INST_CMPRS_NAME = "DISCRETE COSINE TRANSFORMATION (DCT)"
INST_CMPRS_RATIO = 11.1016
INST_CMPRS_QUALITY = 0
INST_CMPRS_QUANTZ_TBL_ID = 0
INSTRUMENT_TEMPERATURE = 11.0301
LENS_TEMPERATURE = 8.7872
MACROPIXEL_SIZE = 2
MISSING_FRAMES = 1
PIXEL_SUBSAMPLING_FLAG = N
SIGNAL_CHAIN_ID = 1
/* RADIOMETRIC DATA ELEMENTS */
BANDWIDTH = 180.0
CENTER_FILTER_WAVELENGTH = 677.0
RADIANCE_OFFSET = 7.47173
RADIANCE_SCALING_FACTOR = 0.0206676
REFLECTANCE_SCALING_FACTOR = 0.000468114
MEX:REFLECTANCE_OFFSET = 0.169232
/* IMAGE OBJECT DEFINITIONS */
OBJECT = IMAGE
  INTERCHANGE_FORMAT = BINARY
  LINES = 23340
  LINE_SAMPLES = 3818
  SAMPLE_TYPE = UNSIGNED_INTEGER
  SAMPLE_BITS = 8
  BANDS = 1
  BAND_STORAGE_TYPE = BAND_SEQUENTIAL
  MAXIMUM = 255
  MEAN = 111.743
  MINIMUM = 1
  STANDARD_DEVIATION = 30.0039
END_OBJECT = IMAGE
/* MAP OBJECT DEFINITIONS */
OBJECT = IMAGE_MAP_PROJECTION
  ^DATA_SET_MAP_PROJECTION_CATALOG= "DSMAP.CAT"
  A_AXIS_RADIUS = 3396.0
  B_AXIS_RADIUS = 3396.0
  C_AXIS_RADIUS = 3396.0
  CENTER_LATITUDE = 0.0
  CENTER_LONGITUDE = 113.0
  COORDINATE_SYSTEM_NAME = PLANETOGRAPHIC
  COORDINATE_SYSTEM_TYPE = "BODY-FIXED ROTATING"
  EASTERNMOST_LONGITUDE = 114.143
  FIRST_STANDARD_PARALLEL = "N/A"
  LINE_FIRST_PIXEL = 1
  LINE_LAST_PIXEL = 23340
  LINE_PROJECTION_OFFSET = -108841.75
  MAP_PROJECTION_ROTATION = 0.0
  MAP_PROJECTION_TYPE = SINUSOIDAL
  MAP_RESOLUTION = 2370.85521546667
  MAP_SCALE = 0.025
  MAXIMUM_LATITUDE = -45.9068
  MINIMUM_LATITUDE = -55.7163
  POSITIVE_LONGITUDE_DIRECTION = EAST
  REFERENCE_LATITUDE = "N/A"
  REFERENCE_LONGITUDE = "N/A"
  SAMPLE_FIRST_PIXEL = 1
  SAMPLE_LAST_PIXEL = 3818
  SAMPLE_PROJECTION_OFFSET = 1989.75
  SECOND_STANDARD_PARALLEL = "N/A"
  WESTERNMOST_LONGITUDE = 111.514
END_OBJECT = IMAGE_MAP_PROJECTION
END
