PDS_VERSION_ID = PDS3
/* FILE DATA ELEMENTS */
RECORD_TYPE = UNDEFINED
/* POINTERS TO DATA OBJECTS */
^IMAGE = ("HL116_0000_S24.TIF")
/* IDENTIFICATION DATA ELEMENTS */
DATA_SET_ID = "MEX-M-HRSC-4-REFDR-MAPPROJECT-EXT7-V4.0"
DATA_SET_NAME = "MARS EXPRESS HRSC MAP PROJECTED REFDR EXTENSION7 V4.0"
DETECTOR_ID = MEX_HRSC_S2
EVENT_TYPE = "MARS-REGIONAL-MAPPING-Im"
INSTRUMENT_HOST_ID = MEX
INSTRUMENT_HOST_NAME = "MARS EXPRESS"
INSTRUMENT_ID = HRSC
INSTRUMENT_NAME = "HIGH RESOLUTION STEREO CAMERA"
MISSION_NAME = "MARS EXPRESS"
MISSION_PHASE_NAME = ME_Phase_43
PROCESSING_LEVEL_ID = 4
PRODUCT_CREATION_TIME = 2023-01-29T17:38:44.000Z
PRODUCT_ID = "HL116_0000_S24.TIF"
RELEASE_ID = 0005
REVISION_ID = 0000
/* QUALITY DATA ELEMENTS */
DATA_QUALITY_ID = 1
DATA_QUALITY_DESC = "Data calculated based on original SPICE kernels"
/* TIME DATA ELEMENTS */
SPACECRAFT_CLOCK_START_COUNT = "1/0548188646.23953"
SPACECRAFT_CLOCK_STOP_COUNT = "1/0548188852.64930"
START_TIME = 2020-09-14T18:37:59.491Z
STOP_TIME = 2020-09-14T18:40:20.133Z
/* ORBITAL DATA ELEMENTS */
ASCENDING_NODE_LONGITUDE = 179.15
MAXIMUM_RESOLUTION = 0.0281
FOOTPRINT_POINT_LATITUDE = (-56.2482,-56.2229,-56.1934,-56.1529, -56.1517,-56.0779,-55.8072,-55.4459, -55.2623,-55.075,-54.7125,-54.3555, -54.173,-53.8996,-53.5377,-53.3558, -53.1734,-52.8093,-52.5352,-52.2615, -52.0788,-51.8965,-51.6223,-51.4394, -51.2562,-51.0733,-50.8906,-50.7076, -50.4329,-50.1583,-49.8848,-49.6971, -49.5099,-49.325,-49.1355,-48.8524, -48.6692,-48.481,-48.1968,-48.0063, -47.8166,-47.6269,-47.3426,-47.1526, -46.9624,-46.8675,-46.8316,-46.857, -46.8723,-46.8836,-46.8926,-46.9024, -46.9025,-46.9031,-47.0938,-47.2838, -47.4729,-47.6643,-47.855,-48.0459, -48.3251,-48.5148,-48.8025,-48.9946, -49.1841,-49.3741,-49.56,-49.7432, -49.9269,-50.2023,-50.3862,-50.5698, -50.7532,-50.937,-51.1205,-51.3042, -51.4878,-51.6713,-51.9463,-52.1298, -52.3129,-52.5874,-52.7704,-52.9533, -53.1363,-53.3191,-53.5932,-53.7758, -54.0496,-54.2322,-54.4145,-54.597, -54.8704,-55.1437,-55.3258,-55.5079, -55.8718,-56.0539,-56.1447,-56.2482)
FOOTPRINT_POINT_LONGITUDE = (16.0811,15.4615,14.8391,14.0957, 14.0761,14.0276,14.0675,14.1193,14.143, 14.1642,14.2127,14.2631,14.2856,14.3189 ,14.3639,14.3853,14.4062,14.4476, 14.4774,14.5068,14.5259,14.5449,14.5727 ,14.5908,14.6085,14.6261,14.6436, 14.6606,14.6856,14.7102,14.7348,14.748, 14.7613,14.7756,14.791,14.8142,14.8323, 14.8475,14.8689,14.8823,14.8959,14.9094 ,14.9292,14.9419,14.9543,14.9605, 14.9628,15.4794,15.8221,16.1296,16.4023 ,16.7081,16.7252,16.7313,16.7219, 16.7126,16.7034,16.6934,16.6835,16.6734 ,16.6603,16.6503,16.634,16.6228,16.6124 ,16.6016,16.5908,16.5803,16.5695, 16.5532,16.542,16.5307,16.5194,16.5078, 16.4961,16.4842,16.4722,16.4601,16.4416 ,16.4291,16.4165,16.3974,16.3844, 16.3713,16.3579,16.3444,16.3239,16.3101 ,16.289,16.2746,16.2601,16.2454,16.2231 ,16.2003,16.1848,16.1692,16.1373,16.121 ,16.1128,16.0811)
ORBIT_NUMBER = 21116
ORBITAL_ECCENTRICITY = 0.577
ORBITAL_INCLINATION = 86.99
ORBITAL_SEMIMAJOR_AXIS = 8779.5
PERIAPSIS_ALTITUDE = 332.63
PERIAPSIS_ARGUMENT_ANGLE = 302.01
PERIAPSIS_TIME = 2020-09-14T18:38:03.000Z
SPACECRAFT_ORIENTATION = (0.0,1.0,0.0)
^MEX_ORIENTATION_DESC = "MEX_ORIENTATION_DESC.TXT"
SPACECRAFT_POINTING_MODE = ACROSSTRACK
^MEX_POINTING_DESC = "MEX_POINTING_DESC.TXT"
RIGHT_ASCENSION = -1e+32
DECLINATION = -1e+32
OFFSET_ANGLE = 0.229
SPACECRAFT_SOLAR_DISTANCE = 2.08557e+08
TARGET_NAME = MARS
/* CAMERA DATA ELEMENTS */
DETECTOR_TEMPERATURE = 18.7783
FOCAL_PLANE_TEMPERATURE = 9.3989
INST_CMPRS_NAME = "DISCRETE COSINE TRANSFORMATION (DCT)"
INST_CMPRS_RATIO = 8.43104
INST_CMPRS_QUALITY = 0
INST_CMPRS_QUANTZ_TBL_ID = 0
INSTRUMENT_TEMPERATURE = 11.8457
LENS_TEMPERATURE = 9.8067
MACROPIXEL_SIZE = 2
MISSING_FRAMES = 0
PIXEL_SUBSAMPLING_FLAG = N
SIGNAL_CHAIN_ID = 1
/* RADIOMETRIC DATA ELEMENTS */
BANDWIDTH = 178.0
CENTER_FILTER_WAVELENGTH = 679.0
RADIANCE_OFFSET = 4.70977
RADIANCE_SCALING_FACTOR = 0.0180889
REFLECTANCE_SCALING_FACTOR = 0.00041667
MEX:REFLECTANCE_OFFSET = 0.108488
/* IMAGE OBJECT DEFINITIONS */
OBJECT = IMAGE
  INTERCHANGE_FORMAT = BINARY
  LINES = 22087
  LINE_SAMPLES = 3814
  SAMPLE_TYPE = UNSIGNED_INTEGER
  SAMPLE_BITS = 8
  BANDS = 1
  BAND_STORAGE_TYPE = BAND_SEQUENTIAL
  MAXIMUM = 255
  MEAN = 140.729
  MINIMUM = 1
  STANDARD_DEVIATION = 26.5992
END_OBJECT = IMAGE
/* MAP OBJECT DEFINITIONS */
OBJECT = IMAGE_MAP_PROJECTION
  ^DATA_SET_MAP_PROJECTION_CATALOG= "DSMAP.CAT"
  A_AXIS_RADIUS = 3396.0
  B_AXIS_RADIUS = 3396.0
  C_AXIS_RADIUS = 3396.0
  CENTER_LATITUDE = 0.0
  CENTER_LONGITUDE = 16.0
  COORDINATE_SYSTEM_NAME = PLANETOGRAPHIC
  COORDINATE_SYSTEM_TYPE = "BODY-FIXED ROTATING"
  EASTERNMOST_LONGITUDE = 16.7313
  FIRST_STANDARD_PARALLEL = "N/A"
  LINE_FIRST_PIXEL = 1
  LINE_LAST_PIXEL = 22087
  LINE_PROJECTION_OFFSET = -111010.75
  MAP_PROJECTION_ROTATION = 0.0
  MAP_PROJECTION_TYPE = SINUSOIDAL
  MAP_RESOLUTION = 2370.85521546667
  MAP_SCALE = 0.025
  MAXIMUM_LATITUDE = -46.8316
  MINIMUM_LATITUDE = -56.2482
  POSITIVE_LONGITUDE_DIRECTION = EAST
  REFERENCE_LATITUDE = "N/A"
  REFERENCE_LONGITUDE = "N/A"
  SAMPLE_FIRST_PIXEL = 1
  SAMPLE_LAST_PIXEL = 3814
  SAMPLE_PROJECTION_OFFSET = 2602.75
  SECOND_STANDARD_PARALLEL = "N/A"
  WESTERNMOST_LONGITUDE = 14.0276
END_OBJECT = IMAGE_MAP_PROJECTION
END
