PDS_VERSION_ID = PDS3
/* FILE DATA ELEMENTS */
RECORD_TYPE = UNDEFINED
/* POINTERS TO DATA OBJECTS */
^IMAGE = ("HL180_0000_S14.TIF")
/* IDENTIFICATION DATA ELEMENTS */
DATA_SET_ID = "MEX-M-HRSC-4-REFDR-MAPPROJECT-EXT7-V4.0"
DATA_SET_NAME = "MARS EXPRESS HRSC MAP PROJECTED REFDR EXTENSION7 V4.0"
DETECTOR_ID = MEX_HRSC_S1
EVENT_TYPE = "MARS-REGIONAL-MAPPING-Im-Pf-Eo"
INSTRUMENT_HOST_ID = MEX
INSTRUMENT_HOST_NAME = "MARS EXPRESS"
INSTRUMENT_ID = HRSC
INSTRUMENT_NAME = "HIGH RESOLUTION STEREO CAMERA"
MISSION_NAME = "MARS EXPRESS"
MISSION_PHASE_NAME = ME_Phase_43
PROCESSING_LEVEL_ID = 4
PRODUCT_CREATION_TIME = 2023-01-29T17:38:44.000Z
PRODUCT_ID = "HL180_0000_S14.TIF"
RELEASE_ID = 0005
REVISION_ID = 0000
/* QUALITY DATA ELEMENTS */
DATA_QUALITY_ID = 1
DATA_QUALITY_DESC = "Data calculated based on original SPICE kernels"
/* TIME DATA ELEMENTS */
SPACECRAFT_CLOCK_START_COUNT = "1/0549797556.53017"
SPACECRAFT_CLOCK_STOP_COUNT = "1/0549797808.46463"
START_TIME = 2020-10-03T09:34:10.612Z
STOP_TIME = 2020-10-03T09:35:39.944Z
/* ORBITAL DATA ELEMENTS */
ASCENDING_NODE_LONGITUDE = 177.99
MAXIMUM_RESOLUTION = 0.028
FOOTPRINT_POINT_LATITUDE = (-72.1845,-72.151,-72.125,-72.0979, -72.0696,-72.0402,-72.0096,-72.0077, -72.1015,-71.9855,-71.8694,-71.7531, -71.5793,-71.463,-71.3469,-71.2309, -71.1149,-70.9985,-70.8824,-70.7084, -70.5923,-70.4764,-70.3605,-70.2444, -70.1285,-70.0123,-69.894,-69.7778, -69.6618,-69.5452,-69.4295,-69.2561, -69.0253,-68.8518,-68.7362,-68.6208, -68.5052,-68.2744,-68.1587,-67.9851, -67.699,-67.5264,-67.2404,-66.9526, -66.6664,-66.3776,-66.3205,-66.2965, -66.3211,-66.3328,-66.3533,-66.3723, -66.3992,-66.4181,-66.4305,-66.4322, -66.433,-66.6075,-66.8381,-66.9554, -67.1858,-67.4176,-67.5337,-67.6496, -67.7657,-67.9399,-68.0563,-68.2307, -68.3468,-68.4632,-68.5793,-68.6957, -68.812,-68.9284,-69.1028,-69.2188, -69.3353,-69.5101,-69.6268,-69.8022, -69.9191,-70.0357,-70.1525,-70.3273, -70.4438,-70.5606,-70.7362,-70.912, -71.0292,-71.205,-71.3804,-71.4976, -71.6151,-71.7328,-71.8499,-71.9676, -72.0854,-72.2029,-72.2616,-72.1845)
FOOTPRINT_POINT_LONGITUDE = (319.486,318.688,318.116,317.551, 316.994,316.443,315.898,315.864,315.835 ,315.889,315.943,315.996,316.074, 316.125,316.175,316.225,316.273,316.322 ,316.369,316.439,316.485,316.53,316.574 ,316.618,316.661,316.704,316.746, 316.788,316.829,316.869,316.909,316.968 ,317.044,317.1,317.136,317.173,317.208, 317.278,317.312,317.363,317.445,317.493 ,317.571,317.646,317.719,317.79,317.803 ,317.809,318.283,318.646,319.07,319.442 ,319.994,320.433,320.729,320.76,320.77, 320.748,320.714,320.7,320.664,320.63, 320.613,320.595,320.577,320.55,320.532, 320.504,320.484,320.465,320.445,320.426 ,320.406,320.385,320.354,320.332, 320.311,320.278,320.257,320.224,320.202 ,320.179,320.156,320.12,320.095,320.071 ,320.034,319.997,319.972,319.933, 319.893,319.866,319.839,319.812,319.784 ,319.756,319.728,319.7,319.685,319.486)
ORBIT_NUMBER = 21180
ORBITAL_ECCENTRICITY = 0.576
ORBITAL_INCLINATION = 87.0
ORBITAL_SEMIMAJOR_AXIS = 8762.33
PERIAPSIS_ALTITUDE = 332.67
PERIAPSIS_ARGUMENT_ANGLE = 291.2
PERIAPSIS_TIME = 2020-10-03T09:34:36.000Z
SPACECRAFT_ORIENTATION = (0.0,1.0,0.0)
^MEX_ORIENTATION_DESC = "MEX_ORIENTATION_DESC.TXT"
SPACECRAFT_POINTING_MODE = ACROSSTRACK
^MEX_POINTING_DESC = "MEX_POINTING_DESC.TXT"
RIGHT_ASCENSION = -1e+32
DECLINATION = -1e+32
OFFSET_ANGLE = -0.687
SPACECRAFT_SOLAR_DISTANCE = 2.10511e+08
TARGET_NAME = MARS
/* CAMERA DATA ELEMENTS */
DETECTOR_TEMPERATURE = 0.0
FOCAL_PLANE_TEMPERATURE = 0.0
INST_CMPRS_NAME = "DISCRETE COSINE TRANSFORMATION (DCT)"
INST_CMPRS_RATIO = 10.7419
INST_CMPRS_QUALITY = 0
INST_CMPRS_QUANTZ_TBL_ID = 0
INSTRUMENT_TEMPERATURE = 0.0
LENS_TEMPERATURE = 0.0
MACROPIXEL_SIZE = 2
MISSING_FRAMES = 0
PIXEL_SUBSAMPLING_FLAG = N
SIGNAL_CHAIN_ID = 1
/* RADIOMETRIC DATA ELEMENTS */
BANDWIDTH = 180.0
CENTER_FILTER_WAVELENGTH = 677.0
RADIANCE_OFFSET = 6.82547
RADIANCE_SCALING_FACTOR = 0.0164925
REFLECTANCE_SCALING_FACTOR = 0.000381307
MEX:REFLECTANCE_OFFSET = 0.157805
/* IMAGE OBJECT DEFINITIONS */
OBJECT = IMAGE
  INTERCHANGE_FORMAT = BINARY
  LINES = 18728
  LINE_SAMPLES = 4361
  SAMPLE_TYPE = UNSIGNED_INTEGER
  SAMPLE_BITS = 8
  BANDS = 1
  BAND_STORAGE_TYPE = BAND_SEQUENTIAL
  MAXIMUM = 255
  MEAN = 111.037
  MINIMUM = 1
  STANDARD_DEVIATION = 32.5003
END_OBJECT = IMAGE
/* MAP OBJECT DEFINITIONS */
OBJECT = IMAGE_MAP_PROJECTION
  ^DATA_SET_MAP_PROJECTION_CATALOG= "DSMAP.CAT"
  A_AXIS_RADIUS = 3396.0
  B_AXIS_RADIUS = 3396.0
  C_AXIS_RADIUS = 3396.0
  CENTER_LATITUDE = 0.0
  CENTER_LONGITUDE = 319.0
  COORDINATE_SYSTEM_NAME = PLANETOGRAPHIC
  COORDINATE_SYSTEM_TYPE = "BODY-FIXED ROTATING"
  EASTERNMOST_LONGITUDE = 320.77
  FIRST_STANDARD_PARALLEL = "N/A"
  LINE_FIRST_PIXEL = 1
  LINE_LAST_PIXEL = 18728
  LINE_PROJECTION_OFFSET = -152610.75
  MAP_PROJECTION_ROTATION = 0.0
  MAP_PROJECTION_TYPE = SINUSOIDAL
  MAP_RESOLUTION = 2370.85521546667
  MAP_SCALE = 0.025
  MAXIMUM_LATITUDE = -66.29649999999999
  MINIMUM_LATITUDE = -72.2616
  POSITIVE_LONGITUDE_DIRECTION = EAST
  REFERENCE_LATITUDE = "N/A"
  REFERENCE_LONGITUDE = "N/A"
  SAMPLE_FIRST_PIXEL = 1
  SAMPLE_LAST_PIXEL = 4361
  SAMPLE_PROJECTION_OFFSET = 2338.25
  SECOND_STANDARD_PARALLEL = "N/A"
  WESTERNMOST_LONGITUDE = 315.835
END_OBJECT = IMAGE_MAP_PROJECTION
END
