PDS_VERSION_ID = PDS3
/* FILE DATA ELEMENTS */
RECORD_TYPE = UNDEFINED
/* POINTERS TO DATA OBJECTS */
^IMAGE = ("HL210_0000_S14.TIF")
/* IDENTIFICATION DATA ELEMENTS */
DATA_SET_ID = "MEX-M-HRSC-4-REFDR-MAPPROJECT-EXT7-V4.0"
DATA_SET_NAME = "MARS EXPRESS HRSC MAP PROJECTED REFDR EXTENSION7 V4.0"
DETECTOR_ID = MEX_HRSC_S1
EVENT_TYPE = "MARS-REGIONAL-MAPPING-Gl-Pf"
INSTRUMENT_HOST_ID = MEX
INSTRUMENT_HOST_NAME = "MARS EXPRESS"
INSTRUMENT_ID = HRSC
INSTRUMENT_NAME = "HIGH RESOLUTION STEREO CAMERA"
MISSION_NAME = "MARS EXPRESS"
MISSION_PHASE_NAME = ME_Phase_43
PROCESSING_LEVEL_ID = 4
PRODUCT_CREATION_TIME = 2023-01-29T17:38:44.000Z
PRODUCT_ID = "HL210_0000_S14.TIF"
RELEASE_ID = 0005
REVISION_ID = 0000
/* QUALITY DATA ELEMENTS */
DATA_QUALITY_ID = 1
DATA_QUALITY_DESC = "Data calculated based on original SPICE kernels"
/* TIME DATA ELEMENTS */
SPACECRAFT_CLOCK_START_COUNT = "1/0550551847.25695"
SPACECRAFT_CLOCK_STOP_COUNT = "1/0550552059.06961"
START_TIME = 2020-10-12T03:05:40.633Z
STOP_TIME = 2020-10-12T03:08:10.379Z
/* ORBITAL DATA ELEMENTS */
ASCENDING_NODE_LONGITUDE = 177.45
MAXIMUM_RESOLUTION = 0.0285
FOOTPRINT_POINT_LATITUDE = (-70.9904,-70.942,-70.8832,-70.8397, -70.8379,-70.9288,-70.7439,-70.5587, -70.3732,-70.1892,-70.0046,-69.7286, -69.5445,-69.3548,-69.0691,-68.8783, -68.6882,-68.4968,-68.3049,-68.021, -67.7379,-67.5489,-67.3588,-67.169, -66.9798,-66.6948,-66.5044,-66.2192, -65.9364,-65.7467,-65.5583,-65.3704, -65.1835,-64.9957,-64.8078,-64.6211, -64.4341,-64.1545,-63.8751,-63.6888, -63.4138,-63.2276,-63.042,-62.8547, -62.5756,-62.2992,-61.9294,-61.6154, -61.5042,-61.4974,-61.526,-61.5609, -61.5742,-61.5983,-61.6002,-61.601, -61.8205,-62.0265,-62.2124,-62.398, -62.5833,-62.8639,-63.0509,-63.4218, -63.6988,-63.8866,-64.1676,-64.354, -64.5428,-64.8251,-65.0138,-65.2029, -65.3934,-65.6786,-65.869,-66.0588, -66.246,-66.5308,-66.7203,-66.9063, -67.1071,-67.4814,-67.6749,-67.8692, -68.1511,-68.5238,-68.7141,-68.9159, -69.1119,-69.299,-69.4934,-69.6863, -69.874,-70.0612,-70.2465,-70.6144, -70.8032,-70.9925,-71.0859,-70.9904)
FOOTPRINT_POINT_LONGITUDE = (133.73,132.51,131.232,130.382,130.35, 130.199,130.294,130.388,130.48,130.567, 130.654,130.78,130.862,130.945,131.066, 131.145,131.222,131.299,131.375,131.482 ,131.584,131.651,131.718,131.784, 131.848,131.942,132.004,132.095,132.18, 132.237,132.292,132.345,132.396,132.447 ,132.498,132.546,132.594,132.663, 132.731,132.775,132.836,132.879,132.92, 132.962,133.022,133.079,133.153,133.214 ,133.237,133.238,133.87,134.769,135.167 ,135.936,135.964,135.973,135.939, 135.908,135.88,135.851,135.821,135.776, 135.746,135.681,135.631,135.598,135.547 ,135.512,135.478,135.424,135.388, 135.351,135.314,135.257,135.218,135.178 ,135.135,135.073,135.03,134.984,134.945 ,134.85,134.804,134.758,134.682,134.574 ,134.521,134.474,134.422,134.363, 134.308,134.251,134.195,134.137,134.077 ,133.951,133.888,133.825,133.792, 133.73)
ORBIT_NUMBER = 21210
ORBITAL_ECCENTRICITY = 0.576
ORBITAL_INCLINATION = 86.99
ORBITAL_SEMIMAJOR_AXIS = 8760.65
PERIAPSIS_ALTITUDE = 333.36
PERIAPSIS_ARGUMENT_ANGLE = 286.11
PERIAPSIS_TIME = 2020-10-12T03:04:31.000Z
SPACECRAFT_ORIENTATION = (0.0,1.0,0.0)
^MEX_ORIENTATION_DESC = "MEX_ORIENTATION_DESC.TXT"
SPACECRAFT_POINTING_MODE = NADIR
^MEX_POINTING_DESC = "MEX_POINTING_DESC.TXT"
RIGHT_ASCENSION = -1e+32
DECLINATION = -1e+32
OFFSET_ANGLE = -1e+32
SPACECRAFT_SOLAR_DISTANCE = 2.11628e+08
TARGET_NAME = MARS
/* CAMERA DATA ELEMENTS */
DETECTOR_TEMPERATURE = 16.9432
FOCAL_PLANE_TEMPERATURE = 7.9716
INST_CMPRS_NAME = "DISCRETE COSINE TRANSFORMATION (DCT)"
INST_CMPRS_RATIO = 11.2461
INST_CMPRS_QUALITY = 0
INST_CMPRS_QUANTZ_TBL_ID = 0
INSTRUMENT_TEMPERATURE = 11.234
LENS_TEMPERATURE = 8.3794
MACROPIXEL_SIZE = 2
MISSING_FRAMES = 0
PIXEL_SUBSAMPLING_FLAG = N
SIGNAL_CHAIN_ID = 1
/* RADIOMETRIC DATA ELEMENTS */
BANDWIDTH = 180.0
CENTER_FILTER_WAVELENGTH = 677.0
RADIANCE_OFFSET = 4.86997
RADIANCE_SCALING_FACTOR = 0.0185747
REFLECTANCE_SCALING_FACTOR = 0.000434019
MEX:REFLECTANCE_OFFSET = 0.113792
/* IMAGE OBJECT DEFINITIONS */
OBJECT = IMAGE
  INTERCHANGE_FORMAT = BINARY
  LINES = 22757
  LINE_SAMPLES = 5096
  SAMPLE_TYPE = UNSIGNED_INTEGER
  SAMPLE_BITS = 8
  BANDS = 1
  BAND_STORAGE_TYPE = BAND_SEQUENTIAL
  MAXIMUM = 255
  MEAN = 174.101
  MINIMUM = 1
  STANDARD_DEVIATION = 38.3199
END_OBJECT = IMAGE
/* MAP OBJECT DEFINITIONS */
OBJECT = IMAGE_MAP_PROJECTION
  ^DATA_SET_MAP_PROJECTION_CATALOG= "DSMAP.CAT"
  A_AXIS_RADIUS = 3396.0
  B_AXIS_RADIUS = 3396.0
  C_AXIS_RADIUS = 3396.0
  CENTER_LATITUDE = 0.0
  CENTER_LONGITUDE = 134.0
  COORDINATE_SYSTEM_NAME = PLANETOGRAPHIC
  COORDINATE_SYSTEM_TYPE = "BODY-FIXED ROTATING"
  EASTERNMOST_LONGITUDE = 135.973
  FIRST_STANDARD_PARALLEL = "N/A"
  LINE_FIRST_PIXEL = 1
  LINE_LAST_PIXEL = 22757
  LINE_PROJECTION_OFFSET = -145836.75
  MAP_PROJECTION_ROTATION = 0.0
  MAP_PROJECTION_TYPE = SINUSOIDAL
  MAP_RESOLUTION = 2370.85521546667
  MAP_SCALE = 0.025
  MAXIMUM_LATITUDE = -61.4974
  MINIMUM_LATITUDE = -71.0859
  POSITIVE_LONGITUDE_DIRECTION = EAST
  REFERENCE_LATITUDE = "N/A"
  REFERENCE_LONGITUDE = "N/A"
  SAMPLE_FIRST_PIXEL = 1
  SAMPLE_LAST_PIXEL = 5096
  SAMPLE_PROJECTION_OFFSET = 2942.75
  SECOND_STANDARD_PARALLEL = "N/A"
  WESTERNMOST_LONGITUDE = 130.199
END_OBJECT = IMAGE_MAP_PROJECTION
END
