PDS_VERSION_ID = PDS3
/* FILE DATA ELEMENTS */
RECORD_TYPE = UNDEFINED
/* POINTERS TO DATA OBJECTS */
^IMAGE = ("HL224_0000_ND4.TIF")
/* IDENTIFICATION DATA ELEMENTS */
DATA_SET_ID = "MEX-M-HRSC-4-REFDR-MAPPROJECT-EXT7-V4.0"
DATA_SET_NAME = "MARS EXPRESS HRSC MAP PROJECTED REFDR EXTENSION7 V4.0"
DETECTOR_ID = MEX_HRSC_NADIR
EVENT_TYPE = "MARS-REGIONAL-MAPPING-Te-Im"
INSTRUMENT_HOST_ID = MEX
INSTRUMENT_HOST_NAME = "MARS EXPRESS"
INSTRUMENT_ID = HRSC
INSTRUMENT_NAME = "HIGH RESOLUTION STEREO CAMERA"
MISSION_NAME = "MARS EXPRESS"
MISSION_PHASE_NAME = ME_Phase_43
PROCESSING_LEVEL_ID = 4
PRODUCT_CREATION_TIME = 2023-01-29T17:38:44.000Z
PRODUCT_ID = "HL224_0000_ND4.TIF"
RELEASE_ID = 0005
REVISION_ID = 0000
/* QUALITY DATA ELEMENTS */
DATA_QUALITY_ID = 1
DATA_QUALITY_DESC = "Data calculated based on original SPICE kernels"
/* TIME DATA ELEMENTS */
SPACECRAFT_CLOCK_START_COUNT = "1/0550903978.23931"
SPACECRAFT_CLOCK_STOP_COUNT = "1/0550904264.28932"
START_TIME = 2020-10-16T04:54:03.973Z
STOP_TIME = 2020-10-16T04:57:26.988Z
/* ORBITAL DATA ELEMENTS */
ASCENDING_NODE_LONGITUDE = 177.2
MAXIMUM_RESOLUTION = 0.0145
FOOTPRINT_POINT_LATITUDE = (-63.0763,-63.0528,-63.0266,-62.9957, -62.9947,-62.9924,-62.5702,-62.0715, -61.82,-61.5688,-61.3177,-61.0668, -60.8161,-60.5656,-60.3152,-60.0651, -59.8152,-59.5654,-59.3159,-59.0666, -58.5687,-58.0717,-57.5755,-57.0804, -56.5862,-56.3358,-56.0827,-55.8299, -55.5773,-55.325,-54.9386,-54.6804, -54.4225,-54.1649,-53.9017,-53.6381, -53.375,-53.1121,-52.7101,-52.4415, -52.1734,-51.902,-51.6281,-51.3546, -50.9418,-50.6628,-50.3844,-50.2453, -50.2403,-50.2592,-50.272,-50.2794, -50.2831,-50.2833,-50.2836,-50.5628, -50.8424,-51.1224,-51.3964,-51.6707, -51.9455,-52.2177,-52.4866,-52.756, -53.1593,-53.4229,-53.6868,-53.9511, -54.2153,-54.4736,-54.7322,-54.9912, -55.3789,-55.6319,-55.8852,-56.1389, -56.3928,-56.644,-57.1397,-57.6364, -58.1341,-58.6328,-58.8824,-59.1323, -59.3825,-59.6328,-59.8834,-60.1342, -60.3852,-60.6364,-60.8878,-61.1394, -61.3912,-61.6432,-61.8954,-62.1478, -62.6491,-62.9671,-63.0731,-63.0763)
FOOTPRINT_POINT_LONGITUDE = (147.143,146.158,145.299,144.452, 144.426,144.411,144.483,144.563,144.602 ,144.64,144.676,144.712,144.747,144.781 ,144.814,144.846,144.878,144.908, 144.938,144.967,145.022,145.074,145.124 ,145.171,145.215,145.237,145.258, 145.278,145.298,145.318,145.346,145.364 ,145.382,145.399,145.416,145.432, 145.448,145.464,145.486,145.5,145.514, 145.528,145.541,145.554,145.572,145.583 ,145.595,145.6,145.6,146.376,147.085, 147.673,148.138,148.164,148.176,148.164 ,148.151,148.139,148.125,148.112, 148.098,148.087,148.074,148.055,148.035 ,148.02,148.006,147.991,147.976,147.96, 147.945,147.93,147.906,147.89,147.873, 147.856,147.838,147.823,147.791,147.756 ,147.719,147.68,147.66,147.639,147.618, 147.596,147.574,147.552,147.529,147.505 ,147.479,147.454,147.43,147.403,147.378 ,147.352,147.299,147.262,147.25, 147.143)
ORBIT_NUMBER = 21224
ORBITAL_ECCENTRICITY = 0.576
ORBITAL_INCLINATION = 86.99
ORBITAL_SEMIMAJOR_AXIS = 8758.61
PERIAPSIS_ALTITUDE = 334.0
PERIAPSIS_ARGUMENT_ANGLE = 283.76
PERIAPSIS_TIME = 2020-10-16T04:50:45.000Z
SPACECRAFT_ORIENTATION = (0.0,1.0,0.0)
^MEX_ORIENTATION_DESC = "MEX_ORIENTATION_DESC.TXT"
SPACECRAFT_POINTING_MODE = ACROSSTRACK
^MEX_POINTING_DESC = "MEX_POINTING_DESC.TXT"
RIGHT_ASCENSION = -1e+32
DECLINATION = -1e+32
OFFSET_ANGLE = -0.58
SPACECRAFT_SOLAR_DISTANCE = 2.12188e+08
TARGET_NAME = MARS
/* CAMERA DATA ELEMENTS */
DETECTOR_TEMPERATURE = 17.9627
FOCAL_PLANE_TEMPERATURE = 7.9716
INST_CMPRS_NAME = "DISCRETE COSINE TRANSFORMATION (DCT)"
INST_CMPRS_RATIO = 6.31852
INST_CMPRS_QUALITY = 0
INST_CMPRS_QUANTZ_TBL_ID = 0
INSTRUMENT_TEMPERATURE = 10.4184
LENS_TEMPERATURE = 8.7872
MACROPIXEL_SIZE = 1
MISSING_FRAMES = 0
PIXEL_SUBSAMPLING_FLAG = N
SIGNAL_CHAIN_ID = 0
/* RADIOMETRIC DATA ELEMENTS */
BANDWIDTH = 177.0
CENTER_FILTER_WAVELENGTH = 677.5
RADIANCE_OFFSET = 3.97012
RADIANCE_SCALING_FACTOR = 0.0189053
REFLECTANCE_SCALING_FACTOR = 0.000452181
MEX:REFLECTANCE_OFFSET = 0.094958
/* IMAGE OBJECT DEFINITIONS */
OBJECT = IMAGE
  INTERCHANGE_FORMAT = BINARY
  LINES = 60867
  LINE_SAMPLES = 10015
  SAMPLE_TYPE = UNSIGNED_INTEGER
  SAMPLE_BITS = 8
  BANDS = 1
  BAND_STORAGE_TYPE = BAND_SEQUENTIAL
  MAXIMUM = 255
  MEAN = 134.959
  MINIMUM = 1
  STANDARD_DEVIATION = 28.5157
END_OBJECT = IMAGE
/* MAP OBJECT DEFINITIONS */
OBJECT = IMAGE_MAP_PROJECTION
  ^DATA_SET_MAP_PROJECTION_CATALOG= "DSMAP.CAT"
  A_AXIS_RADIUS = 3396.0
  B_AXIS_RADIUS = 3396.0
  C_AXIS_RADIUS = 3396.0
  CENTER_LATITUDE = 0.0
  CENTER_LONGITUDE = 146.0
  COORDINATE_SYSTEM_NAME = PLANETOGRAPHIC
  COORDINATE_SYSTEM_TYPE = "BODY-FIXED ROTATING"
  EASTERNMOST_LONGITUDE = 148.176
  FIRST_STANDARD_PARALLEL = "N/A"
  LINE_FIRST_PIXEL = 1
  LINE_LAST_PIXEL = 60867
  LINE_PROJECTION_OFFSET = -238227.0
  MAP_PROJECTION_ROTATION = 0.0
  MAP_PROJECTION_TYPE = SINUSOIDAL
  MAP_RESOLUTION = 4741.71043093333
  MAP_SCALE = 0.0125
  MAXIMUM_LATITUDE = -50.2403
  MINIMUM_LATITUDE = -63.0763
  POSITIVE_LONGITUDE_DIRECTION = EAST
  REFERENCE_LATITUDE = "N/A"
  REFERENCE_LONGITUDE = "N/A"
  SAMPLE_FIRST_PIXEL = 1
  SAMPLE_LAST_PIXEL = 10015
  SAMPLE_PROJECTION_OFFSET = 3420.0
  SECOND_STANDARD_PARALLEL = "N/A"
  WESTERNMOST_LONGITUDE = 144.411
END_OBJECT = IMAGE_MAP_PROJECTION
END
