PDS_VERSION_ID = PDS3
/* FILE DATA ELEMENTS */
RECORD_TYPE = UNDEFINED
/* POINTERS TO DATA OBJECTS */
^IMAGE = ("HL536_0000_GR4.TIF")
/* IDENTIFICATION DATA ELEMENTS */
DATA_SET_ID = "MEX-M-HRSC-4-REFDR-MAPPROJECT-EXT8-V4.0"
DATA_SET_NAME = "MARS EXPRESS HRSC MAP PROJECTED REFDR EXTENSION8 V4.0"
DETECTOR_ID = MEX_HRSC_GREEN
EVENT_TYPE = "MARS-TERMINATOR-CALIBRATION-Tc"
INSTRUMENT_HOST_ID = MEX
INSTRUMENT_HOST_NAME = "MARS EXPRESS"
INSTRUMENT_ID = HRSC
INSTRUMENT_NAME = "HIGH RESOLUTION STEREO CAMERA"
MISSION_NAME = "MARS EXPRESS"
MISSION_PHASE_NAME = ME_Phase_44
PROCESSING_LEVEL_ID = 4
PRODUCT_CREATION_TIME = 2023-01-25T08:48:24.000Z
PRODUCT_ID = "HL536_0000_GR4.TIF"
RELEASE_ID = 0001
REVISION_ID = 0000
/* QUALITY DATA ELEMENTS */
DATA_QUALITY_ID = 1
DATA_QUALITY_DESC = "Data calculated based on original SPICE kernels"
/* TIME DATA ELEMENTS */
SPACECRAFT_CLOCK_START_COUNT = "1/0558757490.23973"
SPACECRAFT_CLOCK_STOP_COUNT = "1/0558757920.24847"
START_TIME = 2021-01-15T02:27:36.821Z
STOP_TIME = 2021-01-15T02:31:05.808Z
/* ORBITAL DATA ELEMENTS */
ASCENDING_NODE_LONGITUDE = 171.64
MAXIMUM_RESOLUTION = 0.8018
FOOTPRINT_POINT_LATITUDE = (46.8579,46.7843,46.3399,43.8801, 41.1481,37.2926,32.9482,31.8314,29.185, 31.0509,32.2717,33.8343,35.4403,36.3492 ,37.1069,37.448,37.3466,36.8799,36.3537 ,35.3711,33.7274,31.6431,30.2139, 28.5882,26.6398,24.4743,21.3617,17.3873 ,14.9767,11.3118,7.50254,4.78355, 2.62304,-0.829812,-3.18001,-6.81621, -11.001,-13.6217,-15.9889,-19.2257, -23.393,-28.2802,-31.4726,-33.9275, -30.9978,-31.8668,-29.3684,-27.7779, -26.038,-25.7025,-25.8916,-22.0871, -21.5342,-21.8669,-22.3003,-19.7859, -16.779,-15.3097,-13.6711,-9.91757, -7.12293,-3.5941,-0.666235,2.81051, 5.12312,9.68275,13.9564,16.8482,19.105, 22.1431,24.4195,27.3493,29.6047,32.0852 ,35.9658,38.246,40.8758,44.8219,49.5425 ,56.0531,58.7757,62.7864,67.2057, 72.5701,74.4833,76.0972,77.5704,77.7303 ,76.3008,72.9637,68.9848,65.4619, 61.9804,59.8181,59.963,58.0745,55.3294, 53.9399,51.0684,46.8579)
FOOTPRINT_POINT_LONGITUDE = (401.037,401.13,400.476,397.408,392.746 ,389.825,386.927,383.336,380.75,377.053 ,374.235,369.972,364.302,359.823, 354.194,347.557,342.965,337.647,334.101 ,329.377,323.697,318.291,315.242, 312.208,309.018,305.891,301.982,297.759 ,295.504,292.415,289.557,287.696, 286.291,284.253,282.876,280.941,278.871 ,277.64,276.567,275.154,273.408,271.431 ,270.174,266.611,265.846,262.631, 260.385,254.818,250.692,250.168,249.528 ,249.25,244.159,243.635,243.047,241.483 ,238.316,235.37,233.053,231.655,228.69, 232.194,234.886,237.892,239.782,243.32, 246.478,248.549,250.14,252.252,253.828, 255.83,257.38,259.096,261.813,263.446, 265.378,268.395,272.298,278.486,281.536 ,286.801,294.343,308.803,317.211, 327.749,347.086,364.04,387.372,406.5, 418.466,425.512,426.61,422.105,416.611, 413.237,412.183,408.355,404.579, 401.037)
ORBIT_NUMBER = 21536
ORBITAL_ECCENTRICITY = 0.576
ORBITAL_INCLINATION = 86.99
ORBITAL_SEMIMAJOR_AXIS = 8790.47
PERIAPSIS_ALTITUDE = 339.06
PERIAPSIS_ARGUMENT_ANGLE = 231.06
PERIAPSIS_TIME = 2021-01-14T23:46:06.000Z
SPACECRAFT_ORIENTATION = (0.0,-1.0,0.0)
^MEX_ORIENTATION_DESC = "MEX_ORIENTATION_DESC.TXT"
SPACECRAFT_POINTING_MODE = FIXED
^MEX_POINTING_DESC = "MEX_POINTING_DESC.TXT"
RIGHT_ASCENSION = -1e+32
DECLINATION = -1e+32
OFFSET_ANGLE = -1e+32
SPACECRAFT_SOLAR_DISTANCE = 2.28524e+08
TARGET_NAME = MARS
/* CAMERA DATA ELEMENTS */
DETECTOR_TEMPERATURE = 18.1666
FOCAL_PLANE_TEMPERATURE = 7.5638
INST_CMPRS_NAME = "DISCRETE COSINE TRANSFORMATION (DCT)"
INST_CMPRS_RATIO = 7.1676
INST_CMPRS_QUALITY = 0
INST_CMPRS_QUANTZ_TBL_ID = 0
INSTRUMENT_TEMPERATURE = 11.0301
LENS_TEMPERATURE = 8.3794
MACROPIXEL_SIZE = 2
MISSING_FRAMES = 0
PIXEL_SUBSAMPLING_FLAG = N
SIGNAL_CHAIN_ID = 2
/* RADIOMETRIC DATA ELEMENTS */
BANDWIDTH = 88.0
CENTER_FILTER_WAVELENGTH = 538.0
RADIANCE_OFFSET = 0.0
RADIANCE_SCALING_FACTOR = 0.0142294
REFLECTANCE_SCALING_FACTOR = 0.000639915
MEX:REFLECTANCE_OFFSET = 0.0
/* IMAGE OBJECT DEFINITIONS */
OBJECT = IMAGE
  INTERCHANGE_FORMAT = BINARY
  LINES = 8307
  LINE_SAMPLES = 10735
  SAMPLE_TYPE = UNSIGNED_INTEGER
  SAMPLE_BITS = 8
  BANDS = 1
  BAND_STORAGE_TYPE = BAND_SEQUENTIAL
  MAXIMUM = 255
  MEAN = 155.044
  MINIMUM = 2
  STANDARD_DEVIATION = 44.6769
END_OBJECT = IMAGE
/* MAP OBJECT DEFINITIONS */
OBJECT = IMAGE_MAP_PROJECTION
  ^DATA_SET_MAP_PROJECTION_CATALOG= "DSMAP.CAT"
  A_AXIS_RADIUS = 3396.0
  B_AXIS_RADIUS = 3396.0
  C_AXIS_RADIUS = 3396.0
  CENTER_LATITUDE = 0.0
  CENTER_LONGITUDE = 292.0
  COORDINATE_SYSTEM_NAME = PLANETOGRAPHIC
  COORDINATE_SYSTEM_TYPE = "BODY-FIXED ROTATING"
  EASTERNMOST_LONGITUDE = 66.61
  FIRST_STANDARD_PARALLEL = "N/A"
  LINE_FIRST_PIXEL = 1
  LINE_LAST_PIXEL = 8307
  LINE_PROJECTION_OFFSET = 5741.0
  MAP_PROJECTION_ROTATION = 0.0
  MAP_PROJECTION_TYPE = SINUSOIDAL
  MAP_RESOLUTION = 74.08922548333329
  MAP_SCALE = 0.8
  MAXIMUM_LATITUDE = 77.7303
  MINIMUM_LATITUDE = -33.9275
  POSITIVE_LONGITUDE_DIRECTION = EAST
  REFERENCE_LATITUDE = "N/A"
  REFERENCE_LONGITUDE = "N/A"
  SAMPLE_FIRST_PIXEL = 1
  SAMPLE_LAST_PIXEL = 10735
  SAMPLE_PROJECTION_OFFSET = 4720.0
  SECOND_STANDARD_PARALLEL = "N/A"
  WESTERNMOST_LONGITUDE = -131.31
END_OBJECT = IMAGE_MAP_PROJECTION
END
