PDS_VERSION_ID = PDS3
/* FILE DATA ELEMENTS */
RECORD_TYPE = UNDEFINED
/* POINTERS TO DATA OBJECTS */
^IMAGE = ("HL573_0000_GR4.TIF")
/* IDENTIFICATION DATA ELEMENTS */
DATA_SET_ID = "MEX-M-HRSC-4-REFDR-MAPPROJECT-EXT8-V4.0"
DATA_SET_NAME = "MARS EXPRESS HRSC MAP PROJECTED REFDR EXTENSION8 V4.0"
DETECTOR_ID = MEX_HRSC_GREEN
EVENT_TYPE = "MARS-TERMINATOR-CALIBRATION-Tc"
INSTRUMENT_HOST_ID = MEX
INSTRUMENT_HOST_NAME = "MARS EXPRESS"
INSTRUMENT_ID = HRSC
INSTRUMENT_NAME = "HIGH RESOLUTION STEREO CAMERA"
MISSION_NAME = "MARS EXPRESS"
MISSION_PHASE_NAME = ME_Phase_44
PROCESSING_LEVEL_ID = 4
PRODUCT_CREATION_TIME = 2023-01-25T08:48:24.000Z
PRODUCT_ID = "HL573_0000_GR4.TIF"
RELEASE_ID = 0001
REVISION_ID = 0000
/* QUALITY DATA ELEMENTS */
DATA_QUALITY_ID = 1
DATA_QUALITY_DESC = "Data calculated based on original SPICE kernels"
/* TIME DATA ELEMENTS */
SPACECRAFT_CLOCK_START_COUNT = "1/0559683797.24933"
SPACECRAFT_CLOCK_STOP_COUNT = "1/0559684288.24713"
START_TIME = 2021-01-25T19:46:08.838Z
STOP_TIME = 2021-01-25T19:50:31.854Z
/* ORBITAL DATA ELEMENTS */
ASCENDING_NODE_LONGITUDE = 170.98
MAXIMUM_RESOLUTION = 0.6041
FOOTPRINT_POINT_LATITUDE = (74.0596,74.0864,73.4709,71.1975, 68.9532,66.923,63.4029,57.5629,56.4958, 54.206,52.1468,50.6785,48.3166,45.8926, 43.6519,39.6552,36.6529,33.0486,30.455, 26.9527,23.8134,21.5654,17.7715,14.2455 ,10.6671,8.35318,3.23692,-0.0574721, -3.20401,-7.64116,-10.9481,-14.5988, -17.4303,-20.6945,-24.737,-29.8067, -34.3968,-37.4845,-41.9302,-44.7953, -49.4591,-52.6064,-55.5339,-60.1871, -60.9733,-61.5005,-62.7216,-61.4258, -61.1975,-60.9559,-60.3668,-58.4125, -56.1905,-54.9787,-51.9885,-49.1574, -46.3708,-43.2386,-41.4308,-38.0617, -34.6883,-32.4059,-29.4883,-27.1974, -24.12,-20.4124,-18.3704,-15.6525, -13.5443,-9.74932,-7.23384,-4.55524, 0.880977,4.26822,8.66367,11.9654, 16.4492,19.5867,23.8191,26.5871,28.8781 ,31.6178,35.3292,39.5497,42.0872, 45.2861,49.6394,51.9137,55.0443,59.2776 ,61.8763,64.1269,67.5041,71.2859, 73.4982,76.2332,77.6415,77.2992,76.2005 ,74.0596)
FOOTPRINT_POINT_LONGITUDE = (169.897,170.068,170.65,175.856,178.999 ,185.119,189.004,190.084,185.388, 178.064,173.174,170.278,166.331,162.956 ,160.28,156.291,153.791,151.209,149.576 ,147.602,146.043,145.078,143.566, 142.331,141.22,140.566,139.287,138.577, 137.981,137.238,136.772,136.347,136.083 ,135.84,135.637,135.546,135.634,135.8, 136.196,136.573,137.458,138.294,139.272 ,139.72,134.414,128.546,123.477,115.033 ,107.741,107.231,103.29,98.022,91.3831, 86.6562,84.7394,80.3105,81.9893,86.3119 ,88.4461,91.8952,94.8182,96.5536, 98.5594,99.9802,101.713,103.568,104.496 ,105.649,106.482,107.854,108.687, 109.505,111.001,111.82,112.764,113.384, 114.116,114.554,115.045,115.303,115.477 ,115.636,115.761,115.761,115.682, 115.479,114.991,114.617,113.938,112.624 ,111.515,110.301,107.87,103.8,100.316, 94.8647,112.117,133.151,156.491, 169.897)
ORBIT_NUMBER = 21573
ORBITAL_ECCENTRICITY = 0.576
ORBITAL_INCLINATION = 87.0
ORBITAL_SEMIMAJOR_AXIS = 8798.91
PERIAPSIS_ALTITUDE = 340.72
PERIAPSIS_ARGUMENT_ANGLE = 224.72
PERIAPSIS_TIME = 2021-01-25T18:09:45.000Z
SPACECRAFT_ORIENTATION = (0.0,-1.0,0.0)
^MEX_ORIENTATION_DESC = "MEX_ORIENTATION_DESC.TXT"
SPACECRAFT_POINTING_MODE = FIXED
^MEX_POINTING_DESC = "MEX_POINTING_DESC.TXT"
RIGHT_ASCENSION = -1e+32
DECLINATION = -1e+32
OFFSET_ANGLE = -1e+32
SPACECRAFT_SOLAR_DISTANCE = 2.30597e+08
TARGET_NAME = MARS
/* CAMERA DATA ELEMENTS */
DETECTOR_TEMPERATURE = 17.9627
FOCAL_PLANE_TEMPERATURE = 8.1755
INST_CMPRS_NAME = "DISCRETE COSINE TRANSFORMATION (DCT)"
INST_CMPRS_RATIO = 7.45496
INST_CMPRS_QUALITY = 0
INST_CMPRS_QUANTZ_TBL_ID = 0
INSTRUMENT_TEMPERATURE = 11.0301
LENS_TEMPERATURE = 8.5833
MACROPIXEL_SIZE = 2
MISSING_FRAMES = 1
PIXEL_SUBSAMPLING_FLAG = N
SIGNAL_CHAIN_ID = 2
/* RADIOMETRIC DATA ELEMENTS */
BANDWIDTH = 88.0
CENTER_FILTER_WAVELENGTH = 538.0
RADIANCE_OFFSET = 0.0
RADIANCE_SCALING_FACTOR = 0.0168981
REFLECTANCE_SCALING_FACTOR = 0.000773719
MEX:REFLECTANCE_OFFSET = 0.0
/* IMAGE OBJECT DEFINITIONS */
OBJECT = IMAGE
  INTERCHANGE_FORMAT = BINARY
  LINES = 10518
  LINE_SAMPLES = 4987
  SAMPLE_TYPE = UNSIGNED_INTEGER
  SAMPLE_BITS = 8
  BANDS = 1
  BAND_STORAGE_TYPE = BAND_SEQUENTIAL
  MAXIMUM = 255
  MEAN = 149.555
  MINIMUM = 45
  STANDARD_DEVIATION = 37.3172
END_OBJECT = IMAGE
/* MAP OBJECT DEFINITIONS */
OBJECT = IMAGE_MAP_PROJECTION
  ^DATA_SET_MAP_PROJECTION_CATALOG= "DSMAP.CAT"
  A_AXIS_RADIUS = 3396.0
  B_AXIS_RADIUS = 3396.0
  C_AXIS_RADIUS = 3396.0
  CENTER_LATITUDE = 0.0
  CENTER_LONGITUDE = 127.0
  COORDINATE_SYSTEM_NAME = PLANETOGRAPHIC
  COORDINATE_SYSTEM_TYPE = "BODY-FIXED ROTATING"
  EASTERNMOST_LONGITUDE = 190.084
  FIRST_STANDARD_PARALLEL = "N/A"
  LINE_FIRST_PIXEL = 1
  LINE_LAST_PIXEL = 10518
  LINE_PROJECTION_OFFSET = 5814.0
  MAP_PROJECTION_ROTATION = 0.0
  MAP_PROJECTION_TYPE = SINUSOIDAL
  MAP_RESOLUTION = 74.08922548333329
  MAP_SCALE = 0.8
  MAXIMUM_LATITUDE = 77.64149999999999
  MINIMUM_LATITUDE = -62.7216
  POSITIVE_LONGITUDE_DIRECTION = EAST
  REFERENCE_LATITUDE = "N/A"
  REFERENCE_LONGITUDE = "N/A"
  SAMPLE_FIRST_PIXEL = 1
  SAMPLE_LAST_PIXEL = 4987
  SAMPLE_PROJECTION_OFFSET = 2391.0
  SECOND_STANDARD_PARALLEL = "N/A"
  WESTERNMOST_LONGITUDE = 80.3105
END_OBJECT = IMAGE_MAP_PROJECTION
END
